BEGIN:VCALENDAR
VERSION:2.0
PRODID:-//Good Morning Wilton - ECPv6.15.20//NONSGML v1.0//EN
CALSCALE:GREGORIAN
METHOD:PUBLISH
X-WR-CALNAME:Good Morning Wilton
X-ORIGINAL-URL:https://goodmorningwilton.com
X-WR-CALDESC:Events for Good Morning Wilton
REFRESH-INTERVAL;VALUE=DURATION:PT1H
X-Robots-Tag:noindex
X-PUBLISHED-TTL:PT1H
BEGIN:VTIMEZONE
TZID:America/New_York
BEGIN:DAYLIGHT
TZOFFSETFROM:-0500
TZOFFSETTO:-0400
TZNAME:EDT
DTSTART:20250309T070000
END:DAYLIGHT
BEGIN:STANDARD
TZOFFSETFROM:-0400
TZOFFSETTO:-0500
TZNAME:EST
DTSTART:20251102T060000
END:STANDARD
BEGIN:DAYLIGHT
TZOFFSETFROM:-0500
TZOFFSETTO:-0400
TZNAME:EDT
DTSTART:20260308T070000
END:DAYLIGHT
BEGIN:STANDARD
TZOFFSETFROM:-0400
TZOFFSETTO:-0500
TZNAME:EST
DTSTART:20261101T060000
END:STANDARD
BEGIN:DAYLIGHT
TZOFFSETFROM:-0500
TZOFFSETTO:-0400
TZNAME:EDT
DTSTART:20270314T070000
END:DAYLIGHT
BEGIN:STANDARD
TZOFFSETFROM:-0400
TZOFFSETTO:-0500
TZNAME:EST
DTSTART:20271107T060000
END:STANDARD
END:VTIMEZONE
BEGIN:VEVENT
DTSTART;TZID=America/New_York:20260420T120000
DTEND;TZID=America/New_York:20260420T130000
DTSTAMP:20260420T063538
CREATED:20251117T014446Z
LAST-MODIFIED:20251117T014446Z
UID:10021462-1776686400-1776690000@goodmorningwilton.com
SUMMARY:Lunch Break\, Hike and Hang
DESCRIPTION:Looking for an active way to enjoy your lunch break? Join Woodcock Nature Center for a free short 45-minute hike on our trails.  Bring a lunch to enjoy on the grounds afterward\, or head home to finish up your workday. This group will meet the third Monday of every month\, so add it to your calendar going forward. Meet at the trailhead kiosk along the main driveway.   \nWe will cancel for rain or snow.​​ Registration is requested\, but not required. Walk-ins welcome. Leashed dogs welcome to join. 
URL:https://goodmorningwilton.com/event/lunch-break-hike-and-hang/2026-04-20/
LOCATION:Woodcock Nature Center\, 56 Deer Run Rd\, Wilton\, CT\, 06897\, United States
CATEGORIES:Health & Wellness,Outdoor Event,Walk/Hike
ATTACH;FMTTYPE=image/jpeg:https://goodmorningwilton.com/wp-content/uploads/2025/11/Trail-Split.jpg
GEO:41.2467853;-73.4737154
X-APPLE-STRUCTURED-LOCATION;VALUE=URI;X-ADDRESS=Woodcock Nature Center 56 Deer Run Rd Wilton CT 06897 United States;X-APPLE-RADIUS=500;X-TITLE=56 Deer Run Rd:geo:-73.4737154,41.2467853
END:VEVENT
BEGIN:VEVENT
DTSTART;TZID=America/New_York:20260420T191500
DTEND;TZID=America/New_York:20260420T211500
DTSTAMP:20260420T063538
CREATED:20251028T173823Z
LAST-MODIFIED:20251028T173823Z
UID:10019824-1776712500-1776719700@goodmorningwilton.com
SUMMARY:Zoning Board of Appeals Meeting
DESCRIPTION:Zoning Board of Appeals meets to judge appeals to zoning regulations. The public can attend these open meetings in person or via Zoom.
URL:https://goodmorningwilton.com/event/zoning-board-of-appeals-meeting-3/2026-04-20/
LOCATION:Comstock Community Center
CATEGORIES:Civic,discussion,Government,In Person,Meeting,Online,Politics,Town/Government Meeting,Zoom Call
ATTACH;FMTTYPE=image/jpeg:https://goodmorningwilton.com/wp-content/uploads/2022/04/Town-Hall-3.jpeg
END:VEVENT
END:VCALENDAR