BEGIN:VCALENDAR
VERSION:2.0
PRODID:-//Good Morning Wilton - ECPv6.15.20//NONSGML v1.0//EN
CALSCALE:GREGORIAN
METHOD:PUBLISH
X-WR-CALNAME:Good Morning Wilton
X-ORIGINAL-URL:https://goodmorningwilton.com
X-WR-CALDESC:Events for Good Morning Wilton
REFRESH-INTERVAL;VALUE=DURATION:PT1H
X-Robots-Tag:noindex
X-PUBLISHED-TTL:PT1H
BEGIN:VTIMEZONE
TZID:America/New_York
BEGIN:DAYLIGHT
TZOFFSETFROM:-0500
TZOFFSETTO:-0400
TZNAME:EDT
DTSTART:20250309T070000
END:DAYLIGHT
BEGIN:STANDARD
TZOFFSETFROM:-0400
TZOFFSETTO:-0500
TZNAME:EST
DTSTART:20251102T060000
END:STANDARD
BEGIN:DAYLIGHT
TZOFFSETFROM:-0500
TZOFFSETTO:-0400
TZNAME:EDT
DTSTART:20260308T070000
END:DAYLIGHT
BEGIN:STANDARD
TZOFFSETFROM:-0400
TZOFFSETTO:-0500
TZNAME:EST
DTSTART:20261101T060000
END:STANDARD
BEGIN:DAYLIGHT
TZOFFSETFROM:-0500
TZOFFSETTO:-0400
TZNAME:EDT
DTSTART:20270314T070000
END:DAYLIGHT
BEGIN:STANDARD
TZOFFSETFROM:-0400
TZOFFSETTO:-0500
TZNAME:EST
DTSTART:20271107T060000
END:STANDARD
END:VTIMEZONE
BEGIN:VEVENT
DTSTART;TZID=America/New_York:20260423T110000
DTEND;TZID=America/New_York:20260423T133000
DTSTAMP:20260426T001450
CREATED:20260304T172404Z
LAST-MODIFIED:20260304T183025Z
UID:10023880-1776942000-1776951000@goodmorningwilton.com
SUMMARY:Wilton Woman's Club 17th Annual Luncheon & Fashion Show Fundraiser
DESCRIPTION: The Wilton Woman’s Club will host its 17th Annual Spring Fundraiser on Thursday\, April 23\, 2026\, 11:00 a.m. to 1:30 p.m. at Rolling Hills Country Club in Wilton\, bringing the community together in support of the Norwalk River Valley Trail (NRVT)\, the transformative project creating a 30-mile multi-use trail from Norwalk to Danbury. \nThe event\, a perennial highlight of Wilton’s spring social season\, will welcome approximately 175–200 guests from Wilton and neighboring towns. Attendees will enjoy an elegant luncheon\, silent auction\, wine pull\, and a fashion show featuring designs from The Plumed Serpent. \nWhen completed\, the NRVT will be the longest trail in Fairfield County. With key sections already open and in daily use\, momentum continues to build toward a continuous\, universally accessible pathway offering safe\, scenic opportunities for walking\, biking\, and outdoor exploration. \nFunds raised through the Wilton Woman’s Club event will directly support ongoing construction and improvements\, helping expand access to green space and enriching quality of life for residents and visitors alike. \nThe event is $125 per person
URL:https://goodmorningwilton.com/event/wilton-womans-club-17th-annual-luncheon-fashion-show-fundraiser/
LOCATION:Rolling Hills Country Club\, 333 Hurlbutt Street\, Wilton\, CT\, 06897\, United States
CATEGORIES:Adults,Fundraiser,Luncheon,Not for profit,Women
ATTACH;FMTTYPE=image/jpeg:https://goodmorningwilton.com/wp-content/uploads/2026/03/NRVT-Photos-Trail-10-Copy.jpg
END:VEVENT
BEGIN:VEVENT
DTSTART;TZID=America/New_York:20260423T170000
DTEND;TZID=America/New_York:20260423T200000
DTSTAMP:20260426T001450
CREATED:20260407T202331Z
LAST-MODIFIED:20260407T202331Z
UID:10023936-1776963600-1776974400@goodmorningwilton.com
SUMMARY:Patriots’ Day — Cemetery Tour and Program
DESCRIPTION:Join us at the Hillside Cemetery and Arboretum in the Never Forget Garden\, for a special event called Patriots’ Day. \nWe will visit the graves of several Wilton patriots and reflect on how they contributed — both in service and in spirit — to this chapter of American History. \nAfterward\, we are all invited to the Wilton Library at 7 p.m. for a Patriots’ Day Program\, sponsored by the Daughters of the American Revolution\, Drum Hill Chapter entitled “Revolutionary Choices: Patriotism\, Loyalism\, Neutrality and the fate of the American Revolution.” Dr. Jonathon Awtrey will speak about the origins of the American Revolution and will consider how and why Anglo-Americans chose to side with the Patriots or Loyalists or remain neutral.
URL:https://goodmorningwilton.com/event/patriots-day-cemetery-tour-and-program/
LOCATION:Hillside Cemetery\, 165 Ridgefield Road\, Wilton\, CT\, 06897\, United States
CATEGORIES:Free,Historic,Library,Outdoor Event
ATTACH;FMTTYPE=image/png:https://goodmorningwilton.com/wp-content/uploads/2026/04/Patriots-Day-Celebration.png
ORGANIZER;CN="Daughters of the American Revolution%2C Drum Hill Chapter":MAILTO:southwestdd@ctdar.org
GEO:41.199101;-73.4431854
X-APPLE-STRUCTURED-LOCATION;VALUE=URI;X-ADDRESS=Hillside Cemetery 165 Ridgefield Road Wilton CT 06897 United States;X-APPLE-RADIUS=500;X-TITLE=165 Ridgefield Road:geo:-73.4431854,41.199101
END:VEVENT
BEGIN:VEVENT
DTSTART;TZID=America/New_York:20260423T190000
DTEND;TZID=America/New_York:20260423T210000
DTSTAMP:20260426T001450
CREATED:20260120T225709Z
LAST-MODIFIED:20260120T225709Z
UID:10021978-1776970800-1776978000@goodmorningwilton.com
SUMMARY:Weaving Workshop for Adults at the Wilton Historical Society
DESCRIPTION:Be a part of New England’s rich textiles history and learn how to weave on a small loom at the Wilton Historical Society. Participants will be weaving their very own unique and beautiful scarf or table runner. Instructor Ellen Goldman is an experienced weaver\, textile enthusiast\, and active member of the Handweavers’ Guild of Connecticut. \nThis four-part series will take place on Thursday evenings: February 12th\, February 19th\, March 5th\, and March 12th\, from 7:00-9:00 p.m.\, at the Wilton Historical Society. \nWilton Historical Society Members $60; Non-members $80. The fee is for all four classes and includes all materials.\nSpace is very limited. Registration is required. Register at wiltonhistorical.org
URL:https://goodmorningwilton.com/event/weaving-workshop-for-adults-at-the-wilton-historical-society/2026-04-23/
LOCATION:Wilton Historical Society\, 224 Danbury Road\, Wilton\, CT
CATEGORIES:Class,craft,Historic
ATTACH;FMTTYPE=image/jpeg:https://goodmorningwilton.com/wp-content/uploads/2026/01/20240710_155518-450x450-1.jpg
ORGANIZER;CN="Wilton Historical Society":MAILTO:info@wiltonhistorical.org
GEO:41.188207;-73.424639
X-APPLE-STRUCTURED-LOCATION;VALUE=URI;X-ADDRESS=Wilton Historical Society 224 Danbury Road Wilton CT;X-APPLE-RADIUS=500;X-TITLE=224 Danbury Road:geo:-73.424639,41.188207
END:VEVENT
END:VCALENDAR