BEGIN:VCALENDAR
VERSION:2.0
PRODID:-//Good Morning Wilton - ECPv6.15.20//NONSGML v1.0//EN
CALSCALE:GREGORIAN
METHOD:PUBLISH
X-WR-CALNAME:Good Morning Wilton
X-ORIGINAL-URL:https://goodmorningwilton.com
X-WR-CALDESC:Events for Good Morning Wilton
REFRESH-INTERVAL;VALUE=DURATION:PT1H
X-Robots-Tag:noindex
X-PUBLISHED-TTL:PT1H
BEGIN:VTIMEZONE
TZID:America/New_York
BEGIN:DAYLIGHT
TZOFFSETFROM:-0500
TZOFFSETTO:-0400
TZNAME:EDT
DTSTART:20250309T070000
END:DAYLIGHT
BEGIN:STANDARD
TZOFFSETFROM:-0400
TZOFFSETTO:-0500
TZNAME:EST
DTSTART:20251102T060000
END:STANDARD
BEGIN:DAYLIGHT
TZOFFSETFROM:-0500
TZOFFSETTO:-0400
TZNAME:EDT
DTSTART:20260308T070000
END:DAYLIGHT
BEGIN:STANDARD
TZOFFSETFROM:-0400
TZOFFSETTO:-0500
TZNAME:EST
DTSTART:20261101T060000
END:STANDARD
BEGIN:DAYLIGHT
TZOFFSETFROM:-0500
TZOFFSETTO:-0400
TZNAME:EDT
DTSTART:20270314T070000
END:DAYLIGHT
BEGIN:STANDARD
TZOFFSETFROM:-0400
TZOFFSETTO:-0500
TZNAME:EST
DTSTART:20271107T060000
END:STANDARD
END:VTIMEZONE
BEGIN:VEVENT
DTSTART;TZID=America/New_York:20260424T080000
DTEND;TZID=America/New_York:20260424T170000
DTSTAMP:20260424T092246
CREATED:20260331T162234Z
LAST-MODIFIED:20260331T162234Z
UID:10023921-1777017600-1777050000@goodmorningwilton.com
SUMMARY:Spring Book Sale at The Wilton Library
DESCRIPTION:The Wilton Library Spring Book Sale is back! \nThousands of items are sorted into 50 categories. Everyone is covered in this fundraiser – from tots to teens to adults. Featuring a large assortment of items\, including bestsellers\, fiction and nonfiction\, audio/visual\, and much more. \nIn the Brubeck Room – selections from board books and picture books to young reader and teen series to young adult novels. \nIn the Gallery – vintage and antique collectibles. \nIn the Book Cellar\, categories include: self-help\, sports\, literature\, poetry\, music\, entertainment\, mysteries\, business and technology information\, art\, history\, cookbooks\, gardening\, travel\, biographies\, plus fiction and nonfiction\, DVDs\, vinyl\, CDs\, and books on CDs. \nHigh-quality books at great prices – don’t miss this opportunity! A wonderful community event that benefits the library. \nFriday\, April 24: Early Buying 8 a.m.-10 a.m. ($25 admission)\, 10 a.m. – 5 p.m. Free Admission\nSaturday\, April 25: 10 a.m. – 5 p.m.\nSunday\, April 26: 1 p.m. – 5  p.m.– Half-Price Day\nMonday\, April 27: 10 a.m. – 5 p.m. – $5 Bag Day (bags supplied by the library) \n 
URL:https://goodmorningwilton.com/event/spring-book-sale-at-the-wilton-library/2026-04-24/
LOCATION:Wilton Library\, 137 Old Ridgefield Rd.\, Wilton\, CT\, 06987
CATEGORIES:Bake Sale,Family Event,Library
ATTACH;FMTTYPE=image/png:https://goodmorningwilton.com/wp-content/uploads/2026/03/GMW-Book-Sale.png
END:VEVENT
BEGIN:VEVENT
DTSTART;TZID=America/New_York:20260425T160000
DTEND;TZID=America/New_York:20260425T170000
DTSTAMP:20260424T092246
CREATED:20260407T060901Z
LAST-MODIFIED:20260407T060901Z
UID:10023931-1777132800-1777136400@goodmorningwilton.com
SUMMARY:Arbor Day Celebration
DESCRIPTION:Join Hillside Cemetery and Arboretum for an Arbor Day Celebration on Saturday\, Apr. 25.  Chris Teter of Bartlett Tree Experts will demonstrate the correct way to plant a tree and protect it with proper mulching and watering.
URL:https://goodmorningwilton.com/event/arbor-day-celebration/
LOCATION:Hillside Cemetery\, 165 Ridgefield Road\, Wilton\, CT\, 06897\, United States
CATEGORIES:Educational,Environmental,Free,Nature,Outdoor Event
ATTACH;FMTTYPE=image/jpeg:https://goodmorningwilton.com/wp-content/uploads/2021/03/Hillside-photo-4-2-1.jpg
ORGANIZER;CN="Hillside Cemetery":MAILTO:pam@wiltoncongregational.org
GEO:41.199101;-73.4431854
X-APPLE-STRUCTURED-LOCATION;VALUE=URI;X-ADDRESS=Hillside Cemetery 165 Ridgefield Road Wilton CT 06897 United States;X-APPLE-RADIUS=500;X-TITLE=165 Ridgefield Road:geo:-73.4431854,41.199101
END:VEVENT
END:VCALENDAR