BEGIN:VCALENDAR
VERSION:2.0
PRODID:-//Good Morning Wilton - ECPv6.15.20//NONSGML v1.0//EN
CALSCALE:GREGORIAN
METHOD:PUBLISH
X-WR-CALNAME:Good Morning Wilton
X-ORIGINAL-URL:https://goodmorningwilton.com
X-WR-CALDESC:Events for Good Morning Wilton
REFRESH-INTERVAL;VALUE=DURATION:PT1H
X-Robots-Tag:noindex
X-PUBLISHED-TTL:PT1H
BEGIN:VTIMEZONE
TZID:America/New_York
BEGIN:DAYLIGHT
TZOFFSETFROM:-0500
TZOFFSETTO:-0400
TZNAME:EDT
DTSTART:20250309T070000
END:DAYLIGHT
BEGIN:STANDARD
TZOFFSETFROM:-0400
TZOFFSETTO:-0500
TZNAME:EST
DTSTART:20251102T060000
END:STANDARD
BEGIN:DAYLIGHT
TZOFFSETFROM:-0500
TZOFFSETTO:-0400
TZNAME:EDT
DTSTART:20260308T070000
END:DAYLIGHT
BEGIN:STANDARD
TZOFFSETFROM:-0400
TZOFFSETTO:-0500
TZNAME:EST
DTSTART:20261101T060000
END:STANDARD
BEGIN:DAYLIGHT
TZOFFSETFROM:-0500
TZOFFSETTO:-0400
TZNAME:EDT
DTSTART:20270314T070000
END:DAYLIGHT
BEGIN:STANDARD
TZOFFSETFROM:-0400
TZOFFSETTO:-0500
TZNAME:EST
DTSTART:20271107T060000
END:STANDARD
END:VTIMEZONE
BEGIN:VEVENT
DTSTART;TZID=America/New_York:20260226T120000
DTEND;TZID=America/New_York:20260226T130000
DTSTAMP:20260420T070311
CREATED:20260216T192903Z
LAST-MODIFIED:20260216T192903Z
UID:10023864-1772107200-1772110800@goodmorningwilton.com
SUMMARY:My aching neck! Virtual Seminar
DESCRIPTION:Prevention strategies and physical therapy interventions to help manage neck pain \nThursday\, February 26\n12:00 p.m. – 1:00 p.m. \nPresenter: Marcia Starr Helfand\, MSPT\nPhysical Rehabilitation Clinical Specialist\,\nNuvance Health Physical Rehabilitation at Norwalk \nThis is a FREE virtual health seminar. \nZoom Registration
URL:https://goodmorningwilton.com/event/my-aching-neck-virtual-seminar/
LOCATION:CT
CATEGORIES:Adults,Free,Health & Wellness,Online,Seminar,Zoom Call
ATTACH;FMTTYPE=image/jpeg:https://goodmorningwilton.com/wp-content/uploads/2026/02/GMW-Aching-Neck.jpg
ORGANIZER;CN="Wilton YMCA":MAILTO:kfrejes@riverbrookymca.org
END:VEVENT
BEGIN:VEVENT
DTSTART;TZID=America/New_York:20260226T190000
DTEND;TZID=America/New_York:20260226T200000
DTSTAMP:20260420T070311
CREATED:20260225T180749Z
LAST-MODIFIED:20260225T180749Z
UID:10023877-1772132400-1772136000@goodmorningwilton.com
SUMMARY:Wildlife Awareness WEBINAR
DESCRIPTION:​​Ever wondered if the fox in your backyard is dangerous? What about the loud\, scary screaming you heard at night? We are here to answer your questions!  On Thursday\, Feb 26\, from 7 – 8 p.m. join Jennifer Bradshaw\, Animal Curator at Woodcock\, and Officers Seeley of Weston Animal Control and Zulkeski of Ridgefield Animal Control as they team up to educate the community on how to co-exist with wildlife. \nRegistration is free but required. Attendees will be sent a Zoom link as the event approaches. This program is geared towards adults. \n 
URL:https://goodmorningwilton.com/event/wildlife-awareness-webinar/
LOCATION:CT
CATEGORIES:Adults,Animals,Educational,Free,Wellness,Zoom Call
ATTACH;FMTTYPE=image/jpeg:https://goodmorningwilton.com/wp-content/uploads/2026/02/GMW-WNC-Webinar.jpg
END:VEVENT
BEGIN:VEVENT
DTSTART;TZID=America/New_York:20260302T103000
DTEND;TZID=America/New_York:20260302T120000
DTSTAMP:20260420T070311
CREATED:20260206T033409Z
LAST-MODIFIED:20260210T212502Z
UID:10023851-1772447400-1772452800@goodmorningwilton.com
SUMMARY:Mindful Mandala at The Wilton Library
DESCRIPTION:Take a creative pause with mindful mandala making! In this relaxing\, hands-on art program\, we’ll explore the beauty of symmetry\, color\, and pattern while practicing mindfulness through focused drawing and coloring. \nParticipants will learn simple techniques to design their own mandala — a symbol of balance and harmony — and experience the calming power of creating with intention. \nAll supplies provided. \nThis event is on Monday\, March 2\, 10:30 a.m – 12:00 p.m. Registration required. \nRegister Here \nRegistration at this time is closed because the event is full
URL:https://goodmorningwilton.com/event/mindful-mandala-at-the-wilton-library/
LOCATION:Wilton Library\, 137 Old Ridgefield Rd.\, Wilton\, CT\, 06987
CATEGORIES:Adults,craft,Free,Library
ATTACH;FMTTYPE=image/png:https://goodmorningwilton.com/wp-content/uploads/2026/02/mandala-wilton-library.png
END:VEVENT
BEGIN:VEVENT
DTSTART;TZID=America/New_York:20260311T103000
DTEND;TZID=America/New_York:20260311T123000
DTSTAMP:20260420T070311
CREATED:20260304T183723Z
LAST-MODIFIED:20260304T183723Z
UID:10023876-1773225000-1773232200@goodmorningwilton.com
SUMMARY:Why Are Kids So Complicated? Autism\, ADHD\, and LD
DESCRIPTION:Presented by SPED*NET in partnership with Wilton Library\, Wilton Public Schools\, Eastern CT SEPTA\, and Newtown Sped PTA. \nRegister at wiltonlibrary.org \nClinical psychologist Marcia Eckerd\, PhD\, leads a talk to help make sense of the complexities of learning differences and share how you can support your unique child. \nLocated at Wilton Library (137 Old Ridgefield Road\, Wilton\, CT)\, on Wednesday\, March 11\, 10:30 a.m. to 12:30 p.m.
URL:https://goodmorningwilton.com/event/why-are-kids-so-complicated-autism-adhd-and-ld/
LOCATION:Wilton Library\, 137 Old Ridgefield Rd.\, Wilton\, CT\, 06987
CATEGORIES:Adults,Educational,Free,In Person,Library,Not for profit,Parenting
ATTACH;FMTTYPE=image/jpeg:https://goodmorningwilton.com/wp-content/uploads/2026/02/unnamed.jpg
ORGANIZER;CN="SPED*NET":MAILTO:info@spednet.org
END:VEVENT
BEGIN:VEVENT
DTSTART;TZID=America/New_York:20260313T190000
DTEND;TZID=America/New_York:20260313T203000
DTSTAMP:20260420T070311
CREATED:20260217T170720Z
LAST-MODIFIED:20260217T170720Z
UID:10023865-1773428400-1773433800@goodmorningwilton.com
SUMMARY:Hot & Cool Jazz: Chris Brubeck's Triple Play at The Wilton Library
DESCRIPTION:Please join the Wilton Library on Friday\, March 13 at 7 p.m. for their next Hot & Cool Jazz concert featuring Triple Play\, a trio of three outstanding and versatile musicians: Peter Madcat Ruth (on harmonica\, jaw harp\, percussion  & vocals)\, Joel Brown (folk and classical acoustic guitar & vocals)\, and Chris Brubeck (electric bass\, bass trombone\, piano & vocals). Collectively\, they bring a rare level of joy\, virtuosity\, and American spirit to the folk\, blues\, jazz\, and classical music they perform. \nHot & Cool Jazz is brought to you by the generosity of the Estate of James (Tom) and Alice Brown. Pre-registrants should arrive by 6:50 p.m. to be guaranteed seating; wait-listed\, walk-ins\, and pre-registrants will be admitted after 6:50 p.m. if space is available. There will be a reception following the concert with CDs available for sale and signing. \nTriple Play’s musical roots go way back (50+ years!) in each member’s history. Chris and Madcat have toured and recorded together in different settings since 1969\, first as young rock musicians in the group New Heavenly Blue (with albums on RCA and Atlantic Records)\, Sky King (on Columbia)\, and then as jazz musicians touring the world with Dave Brubeck. Paul deBarros\, writer for The Seattle Times and Downbeat\, commented after seeing a performance at the Monterey Jazz Festival: “Triple Play is what jazz always was and always should be about: good-time rhythm\, unbridled joy and the sweet release but bittersweet aftertaste of the blues.” \nDave Brubeck’s last recorded performance was captured on the exciting Triple Play Live at Arthur Zankel Music Center. The crowd is wildly enthusiastic on this well-reviewed CD\, which also featured Joel Brown’s father\, Frank Brown\, on clarinet. You can often hear this innovative version of “Take Five” featuring Madcat’s polyrhythmic jaw harp and burning solos by Dave\, Joel and Chris on Sirius XM Jazz. Triple Play’s music has international reach\, as they were a hit playing with The Singapore Chinese Orchestra and returned for a second performance which was recorded and released on Blue Forest Records. “It all fits together because of the talent and taste of the musicians\, who groove no matter what they’re doing and it’s tremendous fun\, to boot\,” said All About Jazz. \nRegistration is Required \nCapacity has been reached. Additional registrants will be placed on the waitlist.
URL:https://goodmorningwilton.com/event/hot-cool-jazz-chris-brubecks-triple-play-at-the-wilton-library/
LOCATION:Wilton Library Brubeck Room\, 137 Old Ridgefield Rd\, Wilton\, 06897\, United States
CATEGORIES:Adults,Concert,Library,Live Music
ATTACH;FMTTYPE=image/jpeg:https://goodmorningwilton.com/wp-content/uploads/2026/02/GMW-Library-Concert.jpg
END:VEVENT
BEGIN:VEVENT
DTSTART;TZID=America/New_York:20260314T140000
DTEND;TZID=America/New_York:20260314T160000
DTSTAMP:20260420T070311
CREATED:20260225T181316Z
LAST-MODIFIED:20260225T181316Z
UID:10023867-1773496800-1773504000@goodmorningwilton.com
SUMMARY:Wilton Go Green's Green Speaker Series- Shaping Wilton’s Energy Future: An Interactive Community Forum
DESCRIPTION:Join Wilton Go Green on Saturday\, March 14\, from 2:00 – 4:00 p.m. for an informative and interactive afternoon discussing the energy issues facing Wilton and Connecticut\, and explore how we can work as a community to become more energy efficient. From Global warming and data centers to high electric bills and sustainable energy solutions\, energy has been in the news and top of mind for Wilton residents. How can we lower costs\, improve local resiliency\, and advocate for smarter state policies?  Come get the facts and share your voice at the Wilton Library. \n 
URL:https://goodmorningwilton.com/event/wilton-go-greens-green-speaker-series-shaping-wiltons-energy-future-an-interactive-community-forum/
LOCATION:Wilton Library\, 137 Old Ridgefield Rd.\, Wilton\, CT\, 06987
CATEGORIES:Adults,discussion,Educational,Environmental,Free,In Person,Library,Not for profit
ATTACH;FMTTYPE=image/png:https://goodmorningwilton.com/wp-content/uploads/2026/02/Wiltons-Energy-Future.png
ORGANIZER;CN="Wilton Go Green":MAILTO:info@wiltongogreen.org
END:VEVENT
BEGIN:VEVENT
DTSTART;TZID=America/New_York:20260319T180000
DTEND;TZID=America/New_York:20260319T203000
DTSTAMP:20260420T070311
CREATED:20260223T212728Z
LAST-MODIFIED:20260223T212728Z
UID:10023871-1773943200-1773952200@goodmorningwilton.com
SUMMARY:Ladies Night Out at Ambler Farm: Pysanky Ukrainian Egg Decorating
DESCRIPTION:Join Ambler Farm on Thursday\, March 19\, 6:00 p.m. – 8:30 p.m. for Ukrainian Egg Decorating! \nIn Ukraine\, egg decorating is an important art form that dates back centuries. Known as Pysanky\, eggs are decorated using the wax-resist (batik) method. Pysanky is a form of folk art that incorporates different symbols and shapes that are brightly and intricately colored. \nNow is your chance to learn this ancient craft and enjoy a night out with the gals! We’ll provide cheese\, crackers + accompaniments to nibble on\, and we invite you to bring your drink of choice. Registration is now open to members\, and opens to nonmembers February 26. \n$40 per member and $45 per nonmember
URL:https://goodmorningwilton.com/event/ladies-night-out-at-ambler-farm-pysanky-ukrainian-egg-decorating/
LOCATION:Ambler Farm\, 257 Hurlbutt Street\, Wilton\, CT\, 06897
CATEGORIES:Adults,craft,Women
ATTACH;FMTTYPE=image/jpeg:https://goodmorningwilton.com/wp-content/uploads/2026/02/GMW-Egg-Decorating.jpg
ORGANIZER;CN="Ambler Farm":MAILTO:info@amblerfarm.org
END:VEVENT
BEGIN:VEVENT
DTSTART;TZID=America/New_York:20260325T130000
DTEND;TZID=America/New_York:20260325T140000
DTSTAMP:20260420T070311
CREATED:20260304T191004Z
LAST-MODIFIED:20260304T191004Z
UID:10023883-1774443600-1774447200@goodmorningwilton.com
SUMMARY:Get Well\, Stay Well: Senior Nutrition - How to be Supermarket Savvy
DESCRIPTION:Please join the Wilton Library in the Rimer Room on Wednesday\, Mar. 25\, from 1:00 – 2:00 p.m. for an important talk on Senior Nutrition. Food labels can be confusing and\, in many cases\, misleading. Learn what it all means and how to make healthier choices at the Supermarket. \nChristine Burns is the Community Health Coordinator at Waveny/Visiting Nurse and Hospice. She has been in practice for 34 years and focuses on Healthy Aging and disease prevention. \nRegistration is required for this event and will close on March 25\, 2026 @ 11:00 a.m.
URL:https://goodmorningwilton.com/event/get-well-stay-well-senior-nutrition-how-to-be-supermarket-savvy/
LOCATION:Wilton Library\, 137 Old Ridgefield Rd.\, Wilton\, CT\, 06987
CATEGORIES:Adults,Educational,Free,Health & Wellness,Seniors
ATTACH;FMTTYPE=image/png:https://goodmorningwilton.com/wp-content/uploads/2026/03/GMW-Senior-Wellness.png
END:VEVENT
BEGIN:VEVENT
DTSTART;TZID=America/New_York:20260328T100000
DTEND;TZID=America/New_York:20260328T140000
DTSTAMP:20260420T070311
CREATED:20260323T204855Z
LAST-MODIFIED:20260323T204855Z
UID:10023911-1774692000-1774706400@goodmorningwilton.com
SUMMARY:The Human Library at Wilton Library
DESCRIPTION:The Human Library is returning to Wilton Library on Saturday\, Mar. 28\, 10:00 a.m. – 2:00 p.m.! The Human Library is a community event featuring a library of people – human Books – and their experiences with prejudice\, bias\, or discrimination based on aspects of their person\, heritage\, or life experiences. “Books” will be on loan to “Readers” for a 25-minute one-on-one conversation in a safe space. \nThis event is intended for ages 12 and up. \nSponsored by ASML. \nNo registration required.
URL:https://goodmorningwilton.com/event/the-human-library-at-wilton-library/
LOCATION:Wilton Library\, 137 Old Ridgefield Rd.\, Wilton\, CT\, 06987
CATEGORIES:Adults,Educational,Free,Library,Not for profit,Teens
ATTACH;FMTTYPE=image/jpeg:https://goodmorningwilton.com/wp-content/uploads/2026/03/GMW-Human-Lib.jpg
END:VEVENT
BEGIN:VEVENT
DTSTART;TZID=America/New_York:20260331T190000
DTEND;TZID=America/New_York:20260331T203000
DTSTAMP:20260420T070311
CREATED:20260317T184500Z
LAST-MODIFIED:20260317T184500Z
UID:10023891-1774983600-1774989000@goodmorningwilton.com
SUMMARY:The Wilton Library Presents Film Screening: “Join or Die”
DESCRIPTION:Please join the Wilton Library at a special screening of Join or Die\, a film about why you should join a club…and why the fate of America depends on it. \nIn this Emmy-nominated feature documentary\, follow the half-century story of America’s civic unraveling through the journey of legendary social scientist Robert Putnam\, whose groundbreaking Bowling Alone research into America’s decades-long decline in community connections could hold the answers to our democracy’s present crisis. The film also discusses the direct impact of social disconnection on mortality rates\, arguing that people living in social isolation die earlier than those with stronger social bonds. Flanked by influential fans and scholars — from Priya Parker\, Pete Buttigieg\, and Surgeon General Vivek Murthy to Jane McAlevey\, and Eddie Glaude Jr. — as well as inspiring groups building community in neighborhoods across the country\, Bob explores three urgent civic questions: What makes democracy work? Why is American democracy in crisis? And\, most importantly… What can we do about it? \nAbout Robert Putnam: \nHarvard professor Robert D. Putnam is America’s preeminent political scientist — and one of the most widely read and cited social scientists living today. Author of fourteen books\, translated into twenty languages\, his work focuses on asking big questions about American society and deploying immense\, creative studies and analyses to unlock answers. \nHis Bowling Alone research — which demonstrated that levels of American community connections were in decline over the past half-century — rocketed Putnam to national fame in the late 1990s\, earning him the moniker “the poet laureate of civil society” and the ear of presidents\, religious leaders\, and tech founders over the coming decades. In 2012\, Putnam received the National Humanities Medal\, the nation’s highest honor for contributions to the humanities. As more Americans turn on to the reality of our social isolation crisis\, a consistent drumbeat of media interest in revisiting Putnam’s work has grown. More information is available at https://joinordiefilm.com/. \nDoors will open at 6:30 p.m\, with the film to begin at 7:00 p.m. The run time is 90 minutes. Movie snacks & refreshments provided. \nRegistration is requested. Please register online or call (203) 762-6334. \nThis program is made possible by the generosity and collaboration of Block Party USA\, Town of Wilton Social Services\, Wilton Library\, Wilton Public Schools\, and Wilton Youth Council.
URL:https://goodmorningwilton.com/event/the-wilton-library-presents-film-screening-join-or-die/
LOCATION:Wilton Library\, 137 Old Ridgefield Rd.\, Wilton\, CT\, 06987
CATEGORIES:Adults,Film,In Person,Library
ATTACH;FMTTYPE=image/jpeg:https://goodmorningwilton.com/wp-content/uploads/2026/03/GMW-Join-or-Die.jpg
END:VEVENT
BEGIN:VEVENT
DTSTART;TZID=America/New_York:20260423T110000
DTEND;TZID=America/New_York:20260423T133000
DTSTAMP:20260420T070311
CREATED:20260304T172404Z
LAST-MODIFIED:20260304T183025Z
UID:10023880-1776942000-1776951000@goodmorningwilton.com
SUMMARY:Wilton Woman's Club 17th Annual Luncheon & Fashion Show Fundraiser
DESCRIPTION: The Wilton Woman’s Club will host its 17th Annual Spring Fundraiser on Thursday\, April 23\, 2026\, 11:00 a.m. to 1:30 p.m. at Rolling Hills Country Club in Wilton\, bringing the community together in support of the Norwalk River Valley Trail (NRVT)\, the transformative project creating a 30-mile multi-use trail from Norwalk to Danbury. \nThe event\, a perennial highlight of Wilton’s spring social season\, will welcome approximately 175–200 guests from Wilton and neighboring towns. Attendees will enjoy an elegant luncheon\, silent auction\, wine pull\, and a fashion show featuring designs from The Plumed Serpent. \nWhen completed\, the NRVT will be the longest trail in Fairfield County. With key sections already open and in daily use\, momentum continues to build toward a continuous\, universally accessible pathway offering safe\, scenic opportunities for walking\, biking\, and outdoor exploration. \nFunds raised through the Wilton Woman’s Club event will directly support ongoing construction and improvements\, helping expand access to green space and enriching quality of life for residents and visitors alike. \nThe event is $125 per person
URL:https://goodmorningwilton.com/event/wilton-womans-club-17th-annual-luncheon-fashion-show-fundraiser/
LOCATION:Rolling Hills Country Club\, 333 Hurlbutt Street\, Wilton\, CT\, 06897\, United States
CATEGORIES:Adults,Fundraiser,Luncheon,Not for profit,Women
ATTACH;FMTTYPE=image/jpeg:https://goodmorningwilton.com/wp-content/uploads/2026/03/NRVT-Photos-Trail-10-Copy.jpg
END:VEVENT
END:VCALENDAR