BEGIN:VCALENDAR
VERSION:2.0
PRODID:-//Good Morning Wilton - ECPv6.15.20//NONSGML v1.0//EN
CALSCALE:GREGORIAN
METHOD:PUBLISH
X-WR-CALNAME:Good Morning Wilton
X-ORIGINAL-URL:https://goodmorningwilton.com
X-WR-CALDESC:Events for Good Morning Wilton
REFRESH-INTERVAL;VALUE=DURATION:PT1H
X-Robots-Tag:noindex
X-PUBLISHED-TTL:PT1H
BEGIN:VTIMEZONE
TZID:America/New_York
BEGIN:DAYLIGHT
TZOFFSETFROM:-0500
TZOFFSETTO:-0400
TZNAME:EDT
DTSTART:20250309T070000
END:DAYLIGHT
BEGIN:STANDARD
TZOFFSETFROM:-0400
TZOFFSETTO:-0500
TZNAME:EST
DTSTART:20251102T060000
END:STANDARD
BEGIN:DAYLIGHT
TZOFFSETFROM:-0500
TZOFFSETTO:-0400
TZNAME:EDT
DTSTART:20260308T070000
END:DAYLIGHT
BEGIN:STANDARD
TZOFFSETFROM:-0400
TZOFFSETTO:-0500
TZNAME:EST
DTSTART:20261101T060000
END:STANDARD
BEGIN:DAYLIGHT
TZOFFSETFROM:-0500
TZOFFSETTO:-0400
TZNAME:EDT
DTSTART:20270314T070000
END:DAYLIGHT
BEGIN:STANDARD
TZOFFSETFROM:-0400
TZOFFSETTO:-0500
TZNAME:EST
DTSTART:20271107T060000
END:STANDARD
END:VTIMEZONE
BEGIN:VEVENT
DTSTART;TZID=America/New_York:20260301T130000
DTEND;TZID=America/New_York:20260301T160000
DTSTAMP:20260420T183013
CREATED:20260216T191017Z
LAST-MODIFIED:20260216T191017Z
UID:10021945-1772370000-1772380800@goodmorningwilton.com
SUMMARY:Wilton High School Band Can and Bottle Drive
DESCRIPTION:The Wilton High School Music Boosters is holding its next monthly Can & Bottle Drive on Sunday\, March 1st from 1-4 p.m.! \nDonate your redeemable cans and bottles to the Wilton High School Band in the WHS Board of Education parking lot by the Catalpa Rd. entrance\, where student volunteers will receive and sort your recyclables. We accept plastic/aluminum cans and bottles labeled CT or CTRV\, as well as glass bottles (please see this link if you are unsure). \nThey’d love to have support from Wilton businesses! Please reach out via email if you are interested in helping monthly by collecting the recyclables used by the clients and employees at your location for pickup by a volunteer before the drive. \nThank you so much for supporting the Wilton High School music program! Feel free to reach out with any questions.
URL:https://goodmorningwilton.com/event/wilton-high-school-band-can-and-bottle-drive-3/
LOCATION:Board of Education Parking Lot\, 395 Danbury Rd\, Wilton\, 06897\, United States
CATEGORIES:Arts,Donation/Collection,Drive Through,Not for profit,Schools
ATTACH;FMTTYPE=image/png:https://goodmorningwilton.com/wp-content/uploads/2026/01/Your-paragraph-text-2.png
ORGANIZER;CN="WHS MUSIC Boosters":MAILTO:michelemajor1970@gmail.com
END:VEVENT
BEGIN:VEVENT
DTSTART;TZID=America/New_York:20260412T130000
DTEND;TZID=America/New_York:20260412T160000
DTSTAMP:20260420T183013
CREATED:20260216T190837Z
LAST-MODIFIED:20260216T190837Z
UID:10021946-1775998800-1776009600@goodmorningwilton.com
SUMMARY:Wilton High School Band Can and Bottle Drive
DESCRIPTION:The Wilton High School Music Boosters is holding its next monthly Can & Bottle Drive on Sunday\, April 12th\, from 1-4 p.m.! \nDonate your redeemable cans and bottles to the Wilton High School Band in the WHS Board of Education parking lot by the Catalpa Rd. entrance\, where student volunteers will receive and sort your recyclables. We accept plastic/aluminum cans and bottles labeled CT or CTRV\, as well as glass bottles (please see this link if you are unsure). \nThey’d love to have support from Wilton businesses! Please reach out via email if you are interested in helping monthly by collecting the recyclables used by the clients and employees at your location for pickup by a volunteer before the drive. \nThank you so much for supporting the Wilton High School music program! Feel free to reach out with any questions.
URL:https://goodmorningwilton.com/event/wilton-high-school-band-can-and-bottle-drive-2/
LOCATION:Board of Education Parking Lot\, 395 Danbury Rd\, Wilton\, 06897\, United States
CATEGORIES:Arts,Donation/Collection,Drive Through,Not for profit,Schools
ATTACH;FMTTYPE=image/png:https://goodmorningwilton.com/wp-content/uploads/2026/01/1.png
ORGANIZER;CN="WHS MUSIC Boosters":MAILTO:michelemajor1970@gmail.com
END:VEVENT
BEGIN:VEVENT
DTSTART;TZID=America/New_York:20260425T110000
DTEND;TZID=America/New_York:20260425T123000
DTSTAMP:20260420T183013
CREATED:20260331T162608Z
LAST-MODIFIED:20260331T162608Z
UID:10023920-1777114800-1777120200@goodmorningwilton.com
SUMMARY:Weir Farm Artist-in-Residence Open Studio
DESCRIPTION:Stop by the Weir Farm Artist-in-Residence Studio on Saturday\, Apr. 25\, from 11:00 a.m. -12:30 p.m. to meet April Artist Lori Larusso\, view her work\, and learn more about the park’s Artist-in-Residence program. The Friends of Weir Farm will offer light refreshments and fun art activities for children. It’s informal and artsy!
URL:https://goodmorningwilton.com/event/weir-farm-artist-in-residence-open-studio/
LOCATION:Weir Farm National Historical Park\, 735 Nod Hill Road\, Wilton\, CT\, 735 Nod Hill Road\, Wilton\, CT\, 06897
CATEGORIES:Arts
ATTACH;FMTTYPE=image/jpeg:https://goodmorningwilton.com/wp-content/uploads/2026/03/Lori-Larusso-April-2026-Artist-in-Residence.jpg
ORGANIZER;CN="Friends of Weir Farm National Historical Park":MAILTO:info@friendsofweirfarm.org
END:VEVENT
BEGIN:VEVENT
DTSTART;TZID=America/New_York:20260501T191500
DTEND;TZID=America/New_York:20260501T220000
DTSTAMP:20260420T183013
CREATED:20260413T234837Z
LAST-MODIFIED:20260413T234837Z
UID:10024201-1777662900-1777672800@goodmorningwilton.com
SUMMARY:The Wilton Singers Present “The Sound of Water: Where Harmony Meets the Tide”
DESCRIPTION:The Wilton Singers are making a splash on Friday\, May 1 and Saturday\, May 2 as they present their 43rd annual Spring Concert\, “The Sound of Water: Where Harmony Meets the Tide.” This shimmering program celebrates the beauty\, movement\, and power of water through choral gems including “River of Dreams\,” “Let the River Run” and the folk classic “Shenandoah\,” along with beautiful works by Eric Whitacre\, Paul Simon\, and other renowned composers. \nDoors open at 7:15 p.m. and the concert begins at 8 p.m. on May 1 and May 2 at the WEPCO Complex. BYOB and snacks. Tickets are on sale now online for $40.
URL:https://goodmorningwilton.com/event/the-wilton-singers-present-the-sound-of-water-where-harmony-meets-the-tide/2026-05-01/
LOCATION:WEPCO\, 48 New Canaan Road\, Wilton\, CT\, 06897\, United States
CATEGORIES:Arts,Concert,Live Music
ATTACH;FMTTYPE=image/jpeg:https://goodmorningwilton.com/wp-content/uploads/2026/04/Wilton-Singers-The-Sound-of-Water-May-1-2.jpg
ORGANIZER;CN="Wilton Singers":MAILTO:wiltonsingers@gmail.com
GEO:41.1733031;-73.4464767
X-APPLE-STRUCTURED-LOCATION;VALUE=URI;X-ADDRESS=WEPCO 48 New Canaan Road Wilton CT 06897 United States;X-APPLE-RADIUS=500;X-TITLE=48 New Canaan Road:geo:-73.4464767,41.1733031
END:VEVENT
BEGIN:VEVENT
DTSTART;TZID=America/New_York:20260502T191500
DTEND;TZID=America/New_York:20260502T220000
DTSTAMP:20260420T183013
CREATED:20260413T234837Z
LAST-MODIFIED:20260413T234837Z
UID:10024202-1777749300-1777759200@goodmorningwilton.com
SUMMARY:The Wilton Singers Present “The Sound of Water: Where Harmony Meets the Tide”
DESCRIPTION:The Wilton Singers are making a splash on Friday\, May 1 and Saturday\, May 2 as they present their 43rd annual Spring Concert\, “The Sound of Water: Where Harmony Meets the Tide.” This shimmering program celebrates the beauty\, movement\, and power of water through choral gems including “River of Dreams\,” “Let the River Run” and the folk classic “Shenandoah\,” along with beautiful works by Eric Whitacre\, Paul Simon\, and other renowned composers. \nDoors open at 7:15 p.m. and the concert begins at 8 p.m. on May 1 and May 2 at the WEPCO Complex. BYOB and snacks. Tickets are on sale now online for $40.
URL:https://goodmorningwilton.com/event/the-wilton-singers-present-the-sound-of-water-where-harmony-meets-the-tide/2026-05-02/
LOCATION:WEPCO\, 48 New Canaan Road\, Wilton\, CT\, 06897\, United States
CATEGORIES:Arts,Concert,Live Music
ATTACH;FMTTYPE=image/jpeg:https://goodmorningwilton.com/wp-content/uploads/2026/04/Wilton-Singers-The-Sound-of-Water-May-1-2.jpg
ORGANIZER;CN="Wilton Singers":MAILTO:wiltonsingers@gmail.com
GEO:41.1733031;-73.4464767
X-APPLE-STRUCTURED-LOCATION;VALUE=URI;X-ADDRESS=WEPCO 48 New Canaan Road Wilton CT 06897 United States;X-APPLE-RADIUS=500;X-TITLE=48 New Canaan Road:geo:-73.4464767,41.1733031
END:VEVENT
END:VCALENDAR