BEGIN:VCALENDAR
VERSION:2.0
PRODID:-//Good Morning Wilton - ECPv6.15.20//NONSGML v1.0//EN
CALSCALE:GREGORIAN
METHOD:PUBLISH
X-ORIGINAL-URL:https://goodmorningwilton.com
X-WR-CALDESC:Events for Good Morning Wilton
REFRESH-INTERVAL;VALUE=DURATION:PT1H
X-Robots-Tag:noindex
X-PUBLISHED-TTL:PT1H
BEGIN:VTIMEZONE
TZID:America/New_York
BEGIN:DAYLIGHT
TZOFFSETFROM:-0500
TZOFFSETTO:-0400
TZNAME:EDT
DTSTART:20180311T070000
END:DAYLIGHT
BEGIN:STANDARD
TZOFFSETFROM:-0400
TZOFFSETTO:-0500
TZNAME:EST
DTSTART:20181104T060000
END:STANDARD
BEGIN:DAYLIGHT
TZOFFSETFROM:-0500
TZOFFSETTO:-0400
TZNAME:EDT
DTSTART:20190310T070000
END:DAYLIGHT
BEGIN:STANDARD
TZOFFSETFROM:-0400
TZOFFSETTO:-0500
TZNAME:EST
DTSTART:20191103T060000
END:STANDARD
BEGIN:DAYLIGHT
TZOFFSETFROM:-0500
TZOFFSETTO:-0400
TZNAME:EDT
DTSTART:20200308T070000
END:DAYLIGHT
BEGIN:STANDARD
TZOFFSETFROM:-0400
TZOFFSETTO:-0500
TZNAME:EST
DTSTART:20201101T060000
END:STANDARD
BEGIN:DAYLIGHT
TZOFFSETFROM:-0500
TZOFFSETTO:-0400
TZNAME:EDT
DTSTART:20210314T070000
END:DAYLIGHT
BEGIN:STANDARD
TZOFFSETFROM:-0400
TZOFFSETTO:-0500
TZNAME:EST
DTSTART:20211107T060000
END:STANDARD
BEGIN:DAYLIGHT
TZOFFSETFROM:-0500
TZOFFSETTO:-0400
TZNAME:EDT
DTSTART:20220313T070000
END:DAYLIGHT
BEGIN:STANDARD
TZOFFSETFROM:-0400
TZOFFSETTO:-0500
TZNAME:EST
DTSTART:20221106T060000
END:STANDARD
BEGIN:DAYLIGHT
TZOFFSETFROM:-0500
TZOFFSETTO:-0400
TZNAME:EDT
DTSTART:20230312T070000
END:DAYLIGHT
BEGIN:STANDARD
TZOFFSETFROM:-0400
TZOFFSETTO:-0500
TZNAME:EST
DTSTART:20231105T060000
END:STANDARD
BEGIN:DAYLIGHT
TZOFFSETFROM:-0500
TZOFFSETTO:-0400
TZNAME:EDT
DTSTART:20240310T070000
END:DAYLIGHT
BEGIN:STANDARD
TZOFFSETFROM:-0400
TZOFFSETTO:-0500
TZNAME:EST
DTSTART:20241103T060000
END:STANDARD
BEGIN:DAYLIGHT
TZOFFSETFROM:-0500
TZOFFSETTO:-0400
TZNAME:EDT
DTSTART:20250309T070000
END:DAYLIGHT
BEGIN:STANDARD
TZOFFSETFROM:-0400
TZOFFSETTO:-0500
TZNAME:EST
DTSTART:20251102T060000
END:STANDARD
BEGIN:DAYLIGHT
TZOFFSETFROM:-0500
TZOFFSETTO:-0400
TZNAME:EDT
DTSTART:20260308T070000
END:DAYLIGHT
BEGIN:STANDARD
TZOFFSETFROM:-0400
TZOFFSETTO:-0500
TZNAME:EST
DTSTART:20261101T060000
END:STANDARD
BEGIN:DAYLIGHT
TZOFFSETFROM:-0500
TZOFFSETTO:-0400
TZNAME:EDT
DTSTART:20270314T070000
END:DAYLIGHT
BEGIN:STANDARD
TZOFFSETFROM:-0400
TZOFFSETTO:-0500
TZNAME:EST
DTSTART:20271107T060000
END:STANDARD
END:VTIMEZONE
BEGIN:VEVENT
DTSTART;TZID=America/New_York:20190406T090000
DTEND;TZID=America/New_York:20190406T110000
DTSTAMP:20260422T194541
CREATED:20190306T231540Z
LAST-MODIFIED:20190306T231540Z
UID:10008285-1554541200-1554548400@goodmorningwilton.com
SUMMARY:Wilton Town Democrats 2019 Spring Breakfast
DESCRIPTION:The Wilton Democratic Town Committee (DTC) will welcome Secretary of the State Denise Merrill as keynote speaker at its annual spring breakfast. Attendees can look forward to special insights on “Elections: Expanding and Securing the Vote\,” which will cover the Secretary’s early voting proposal and related thoughts about increasing voter participation\, as well as cyber security and its role in elections. \nThe DTC will also present awards to two Wiltonians at the breakfast:  John Kalamarides will be honored with the Democratic Leadership Award\, and Ross Tartell will receive the Democrat of the Year Award. \nTickets are $35 in advance and $40 at the door. Student tickets are $10.
URL:https://goodmorningwilton.com/event/wilton-town-democrats-2019-spring-breakfast/
LOCATION:Trackside Teen Center\, 15 Station Road\, Wilton\, CT\, 06897\, United States
CATEGORIES:Breakfast,Family Event,Lecture,Politics
ATTACH;FMTTYPE=image/png:https://goodmorningwilton.com/wp-content/uploads/2019/03/ross-tartell-john-kalamarides.png
END:VEVENT
BEGIN:VEVENT
DTSTART;TZID=America/New_York:20190504T110000
DTEND;TZID=America/New_York:20190504T123000
DTSTAMP:20260422T194541
CREATED:20190325T174534Z
LAST-MODIFIED:20190325T174617Z
UID:10008652-1556967600-1556973000@goodmorningwilton.com
SUMMARY:Ambler Farm Pancake Breakfast + Sheep Shearing
DESCRIPTION:Celebrate Spring at the Farm! Drop in for pancakes with Ambler Farm maple syrup anytime between 11 a.m. and 12:30 p.m.. Visit with our sheep\, goats\, pigs and rabbits\, do a fun spring craft\, and stay to observe our resident sheeps’ wool shearing in preparation for warmer weather. \nThere is no wait list. Children must be accompanied by an adult. The event takes place rain or shine. \n 
URL:https://goodmorningwilton.com/event/ambler-farm-pancake-breakfast-sheep-shearing/
LOCATION:Ambler Farm\, 257 Hurlbutt Street\, Wilton\, CT\, 06897
CATEGORIES:Animals,Breakfast,Family Event,Food,Kids,Not for profit,Outdoor Event
ATTACH;FMTTYPE=image/jpeg:https://goodmorningwilton.com/wp-content/uploads/2019/03/52685.jpg
ORGANIZER;CN="Ambler Farm":MAILTO:info@amblerfarm.org
END:VEVENT
BEGIN:VEVENT
DTSTART;TZID=America/New_York:20191207T084500
DTEND;TZID=America/New_York:20191207T111500
DTSTAMP:20260422T194541
CREATED:20191111T211125Z
LAST-MODIFIED:20191111T211125Z
UID:10009179-1575708300-1575717300@goodmorningwilton.com
SUMMARY:Breakfast with Santa at the Wilton Family YMCA
DESCRIPTION:Enjoy a light Breakfast while visiting with Santa! Feel free to bring your camera and capture the moment your child tells Santa their wishes! Cost is $6/per person–register each person (children under 2 years old are free). All proceeds to benefit the Melissa McFadden Scholarship Fund\, which provides a scholarship for a Wilton High School Senior who has worked with children who have special needs and is going into that field in college. \nThe event is Saturday\, Dec. 7; choose from three shifts:  8:45-9:15 a.m.\, 9:30-10 a.m.\, or 10:45-11:15 a.m.. \nPre-registration online is required. Please email questions to Kim Murphy.
URL:https://goodmorningwilton.com/event/breakfast-with-santa-at-the-wilton-family-ymca/
LOCATION:Wilton YMCA\, 404 Danbury Rd.\, Wilton\, CT\, 06897\, United States
CATEGORIES:Breakfast,Family Event,Fundraiser,Kids,Not for profit,YMCA
ATTACH;FMTTYPE=image/png:https://goodmorningwilton.com/wp-content/uploads/2019/11/breakfast-with-santa-flyer_2019.png
ORGANIZER;CN="Wilton YMCA":MAILTO:kfrejes@riverbrookymca.org
GEO:41.2116373;-73.4291811
X-APPLE-STRUCTURED-LOCATION;VALUE=URI;X-ADDRESS=Wilton YMCA 404 Danbury Rd. Wilton CT 06897 United States;X-APPLE-RADIUS=500;X-TITLE=404 Danbury Rd.:geo:-73.4291811,41.2116373
END:VEVENT
BEGIN:VEVENT
DTSTART;TZID=America/New_York:20200201T093000
DTEND;TZID=America/New_York:20200201T110000
DTSTAMP:20260422T194541
CREATED:20200109T195650Z
LAST-MODIFIED:20200129T165153Z
UID:10009265-1580549400-1580554800@goodmorningwilton.com
SUMMARY:Wilton League of Woman Voters 2020 Legislative Breakfast
DESCRIPTION:The Wilton League of Women Voters will be sponsoring its 2020 Legislative Breakfast on Saturday\, Feb. 1 at 9:30-11 a.m. at the Greens at Cannondale (435 Danbury Rd.). State Senator Will Haskell and State Representatives Gail Lavielle and Tom O’Dea will discuss key issues facing our district\, outline legislative priorities for the coming year\, and answer questions from the public. \nNo registration required\, all are welcome.
URL:https://goodmorningwilton.com/event/wilton-league-of-woman-voters-2020-legislative-breakfast/
LOCATION:The Greens at Cannondale\, 435 Danbury Rd.\, Wilton\, CT\, 06897\, United States
CATEGORIES:Breakfast,Civic,discussion,Free,Government
ATTACH;FMTTYPE=image/png:https://goodmorningwilton.com/wp-content/uploads/2020/01/haskell-lavielle-odea-3-shot.png
ORGANIZER;CN="Wilton League of Woman Voters":MAILTO:league@comcast.net
END:VEVENT
BEGIN:VEVENT
DTSTART;TZID=America/New_York:20200206T080000
DTEND;TZID=America/New_York:20200206T093000
DTSTAMP:20260422T194541
CREATED:20200109T101610Z
LAST-MODIFIED:20200109T101610Z
UID:10008631-1580976000-1580981400@goodmorningwilton.com
SUMMARY:Economic Forecast Breakfast
DESCRIPTION:The Wilton Chamber of Commerce presents again its “Eggs & the Economy” Economic Forecast Breakfast on Thursday\, Feb. 6 at 8 a.m. at Marly’s Bar and Bistro (101 Old Ridgefield Rd.). \nThe Chamber’s Economic Forecast Breakfast is an annual look at how the business and financial landscape is shaping up for the coming year\, globally\, nationally and locally. The chamber welcomes Peter Denious\, Wilton resident and new president and C.E.O of the Connecticut Economic Resource Center (CERC)\, as our guest speaker for the event. CERC is a nonprofit corporation focused on economic development in Connecticut and provides research-based data\, planning and implementation strategies to foster business formation\, recruitment and growth. \nThe cost for the Chamber’s Economic Forecast Breakfast is $40 per Chamber member\, $45 per future member and reservations are requested. To RSVP\, or for more information\, email or call the Chamber at 203.762.0567.
URL:https://goodmorningwilton.com/event/economic-forecast-breakfast/
LOCATION:Marly’s Bar & Bistro\, 101 Old Ridgefield Road\, Wilton\, CT\, 06897\, United States
CATEGORIES:Breakfast,Business,discussion,Meeting,Presentation
ATTACH;FMTTYPE=image/png:https://goodmorningwilton.com/wp-content/uploads/2020/01/economic-forecast-breakfast-2.png
ORGANIZER;CN="Wilton Chamber of Commerce":MAILTO:info@wiltonchamber.com
GEO:41.1930899;-73.4330337
X-APPLE-STRUCTURED-LOCATION;VALUE=URI;X-ADDRESS=Marly’s Bar & Bistro 101 Old Ridgefield Road Wilton CT 06897 United States;X-APPLE-RADIUS=500;X-TITLE=101 Old Ridgefield Road:geo:-73.4330337,41.1930899
END:VEVENT
BEGIN:VEVENT
DTSTART;TZID=America/New_York:20200208T093000
DTEND;TZID=America/New_York:20200208T110000
DTSTAMP:20260422T194541
CREATED:20200204T224241Z
LAST-MODIFIED:20200204T224241Z
UID:10009427-1581154200-1581159600@goodmorningwilton.com
SUMMARY:Free Breakfast with the Oscars and Wilton Kiwanis Club at The Greens
DESCRIPTION:Join the Wilton Kiwanis for a wonderful breakfast at The Greens at 9:30 a.m. on Saturday\, Feb. 8\, and listen to nationally renowned film critic Susan Granger give the inside scoop on this year’s Oscar candidates and predict the winners. \nGranger is a product of Hollywood\, both in terms of her parents who produced and directed pictures at M.G.M. and Columbia as well as her experience acting among the stars in movies. With academic degrees in journalism\, her reviews and articles are syndicated around the world. \nThe breakfast is free. The speaker is terrific. The fellowship is priceless.
URL:https://goodmorningwilton.com/event/free-breakfast-with-the-oscars-and-wilton-kiwanis-club-at-the-greens/
LOCATION:The Greens at Cannondale\, 435 Danbury Rd.\, Wilton\, CT\, 06897\, United States
CATEGORIES:Breakfast,discussion,Free
ATTACH;FMTTYPE=image/png:https://goodmorningwilton.com/wp-content/uploads/2020/02/Kiwanis-Oscar-Breakfast.png
ORGANIZER;CN="Kiwanis Club of Wilton":MAILTO:wiltonkiwanis@#gmail.com
END:VEVENT
BEGIN:VEVENT
DTSTART;TZID=America/New_York:20220324T103000
DTEND;TZID=America/New_York:20220324T120000
DTSTAMP:20260422T194541
CREATED:20220321T160612Z
LAST-MODIFIED:20220321T223358Z
UID:10011203-1648117800-1648123200@goodmorningwilton.com
SUMMARY:Stay at Home in Wilton Prospective Member and Volunteer Brunch
DESCRIPTION:Would you or a friend\, neighbor or loved one be interested in learning more about Stay at Home in Wilton? Stay at Home in Wilton is hosting a brunch for prospective members or volunteers to learn about the organization and see the benefits of membership and the joy of volunteering to help support Wilton seniors. All are welcome on Thursday\, Mar. 24 from 10:30 a.m.-12 p.m. at WEPCO (48 New Canaan Rd.). Please RSVP to Janet Johnston at 203.762.2600. Stay at Home in Wilton supports Wilton seniors so they can stay connected in the community.
URL:https://goodmorningwilton.com/event/stay-at-home-in-wilton-prospective-member-and-volunteer-brunch/
LOCATION:WEPCO Complex
CATEGORIES:Breakfast,Networking,Seniors,Volunteer Opportunity
ATTACH;FMTTYPE=image/png:https://goodmorningwilton.com/wp-content/uploads/2022/03/Brunch.png
ORGANIZER;CN="Stay at Home in Wilton":MAILTO:deb@shwil.org
END:VEVENT
BEGIN:VEVENT
DTSTART;TZID=America/New_York:20230529T080000
DTEND;TZID=America/New_York:20230529T103000
DTSTAMP:20260422T194541
CREATED:20230504T104156Z
LAST-MODIFIED:20230504T104156Z
UID:10011860-1685347200-1685356200@goodmorningwilton.com
SUMMARY:Kiwanis Pancake Breakfast
DESCRIPTION:A tradition that is more than 35 years old\, the Kiwanis Club of Wilton will hold its annual pancake breakfast at the Wilton Congregational Church\, to start the Memorial Day festivities. Enjoy pancakes\, sausages\, and coffee\, all served by the men and women of the Wilton Kiwanis Club. \nThe Pancake Breakfast is open to the public from 8:00 a.m. to 10:30 a.m. before the parade begins.
URL:https://goodmorningwilton.com/event/kiwanis-pancake-breakfast-2/
LOCATION:Wilton Congregational Church\, Wilton\, CT\, 06897\, United States
CATEGORIES:Breakfast,Churches,Community Celebration,Community Events,Family Event,Food,Fundraiser,Kids,Seniors
ATTACH;FMTTYPE=image/webp:https://goodmorningwilton.com/wp-content/uploads/2023/05/gail-lavielle-memorial-day-2.webp
END:VEVENT
BEGIN:VEVENT
DTSTART;TZID=America/New_York:20231126T090000
DTEND;TZID=America/New_York:20231126T123000
DTSTAMP:20260422T194541
CREATED:20231120T221828Z
LAST-MODIFIED:20231120T221828Z
UID:10013348-1700989200-1701001800@goodmorningwilton.com
SUMMARY:Breakfast with Santa At The Cannon Grange
DESCRIPTION:Enjoy a pancake breakfast with Santa Bill at the Cannon Grange on Sunday\, Nov. 26. The cost per person is $12\, which includes a delicious pancake breakfast with Santa\, a photo op with Santa\, face painting and music to enjoy. \nThree sessions: 9-9:45 a.m.; 10:15-11 a.m.; and 11:30 a.m.-12:15 p.m. \nRegister online or use the QR code in the image above. \nPlease consider bringing a new toy or an item for teens for the Annie C. Courtney Foundation. All items will be donated to local kids in need.
URL:https://goodmorningwilton.com/event/breakfast-with-santa-at-the-cannon-grange/
LOCATION:The Cannon Grange\, 25 Cannon Rd.\, Wilton\, CT\, 06897\, United States
CATEGORIES:Breakfast,Donation/Collection,Family Event,Kids
ATTACH;FMTTYPE=image/png:https://goodmorningwilton.com/wp-content/uploads/2023/10/2023-Breakfast-with-Santa-instagram.png
ORGANIZER;CN="Cannon Grange No. 152":MAILTO:michele.cannongrange@gmail.com
GEO:41.216143;-73.4262339
X-APPLE-STRUCTURED-LOCATION;VALUE=URI;X-ADDRESS=The Cannon Grange 25 Cannon Rd. Wilton CT 06897 United States;X-APPLE-RADIUS=500;X-TITLE=25 Cannon Rd.:geo:-73.4262339,41.216143
END:VEVENT
BEGIN:VEVENT
DTSTART;TZID=America/New_York:20231209T090000
DTEND;TZID=America/New_York:20231209T120000
DTSTAMP:20260422T194541
CREATED:20231204T193652Z
LAST-MODIFIED:20231205T030819Z
UID:10014904-1702112400-1702123200@goodmorningwilton.com
SUMMARY:Winter Breakfast Featuring Santa and Buddy the Elf at Wilton Family YMCA
DESCRIPTION:Come and celebrate the season with friends and family at the Wilton Family YMCA while enjoying a yummy pancake breakfast and visit with your favorite holiday characters! \nChoose from one of three\, 45 minute seatings: 9:15 a.m.; 10:15 a.m. and 11:15 a.m. \nRegistration is required. Breakfast is $12 per person over the age of 2. \nRegister online. \nAll proceeds benefit the Melissa McFadden Scholarship Fund.
URL:https://goodmorningwilton.com/event/winter-breakfast-featuring-santa-and-buddy-the-elf-at-wilton-family-ymca/
LOCATION:Wilton YMCA\, 404 Danbury Rd.\, Wilton\, CT\, 06897\, United States
CATEGORIES:Breakfast,Community Events,Family Event,Food,Fundraiser,Kids,YMCA
ATTACH;FMTTYPE=image/jpeg:https://goodmorningwilton.com/wp-content/uploads/2023/11/Santa-and-Staff.jpg
GEO:41.2116373;-73.4291811
X-APPLE-STRUCTURED-LOCATION;VALUE=URI;X-ADDRESS=Wilton YMCA 404 Danbury Rd. Wilton CT 06897 United States;X-APPLE-RADIUS=500;X-TITLE=404 Danbury Rd.:geo:-73.4291811,41.2116373
END:VEVENT
BEGIN:VEVENT
DTSTART;TZID=America/New_York:20240302T090000
DTEND;TZID=America/New_York:20240302T110000
DTSTAMP:20260422T194541
CREATED:20240227T133707Z
LAST-MODIFIED:20240227T133707Z
UID:10015648-1709370000-1709377200@goodmorningwilton.com
SUMMARY:Wilton Dunkin’ Invites Residents to Grand Re-Opening Celebration [SPONSORED]
DESCRIPTION:The team at Cain Management (CMI) is excited to celebrate the Grand Reopening of the Wilton Dunkin’ at 35 Danbury Rd. this Saturday\, March 2. As Dunkin’ has rebranded\, updated its design and expanded its menu nationally\, so too will Wilton residents see new and improved features at their favorite home-town Dunkin’ location\, including the new cold beverage tap system and a front-line bakery case. \nTo celebrate\, CMI — which owns the south Wilton location as well as 49 other Dunkin’ locations in CT — has invited WEBE 108’s Danny Lyons to host the event. Lyons will be bringing the station’s Prize Van\, and customers who attend the re-opening celebration will have a chance to win prizes and giveaways. The event will be fun for the whole family with free face painting\, opportunities to take selfies with the Cuppie and Sprinkles characters\, and spin for a prize. Plus\, the first 100 people who come in starting at 9 a.m. will get a free beverage. \n“Wilton is such a great family community and the Wilton Dunkin’ has long been a part of the way the community starts its day\, celebrates achievements and gathers to meet and share ideas. We are so pleased the new Next Gen Dunkin’ design will only enhance all the special ways Dunkin’ is part of Wilton\,” CMI President NT said.
URL:https://goodmorningwilton.com/event/wilton-dunkin-invites-residents-to-grand-re-opening-celebration-sponsored/
LOCATION:Dunkin’\, 35 Danbury Road\, Wilton\, CT\, 06897\, United States
CATEGORIES:Breakfast,Coffee,Family Event,Food,For profit,Kids,Open House,Sponsored Post
ATTACH;FMTTYPE=image/jpeg:https://goodmorningwilton.com/wp-content/uploads/2024/02/Dunkin-storefront.jpg
END:VEVENT
BEGIN:VEVENT
DTSTART;TZID=America/New_York:20240527T080000
DTEND;TZID=America/New_York:20240527T103000
DTSTAMP:20260422T194541
CREATED:20240523T004114Z
LAST-MODIFIED:20240523T004114Z
UID:10016916-1716796800-1716805800@goodmorningwilton.com
SUMMARY:Kiwanis Club Pancake Breakfast
DESCRIPTION:Parade goers are invited to the Kiwanis Pancake Breakfast at the Congregational Church — a Wilton Memorial Day tradition for more than 50 years. \nFind delicious pancakes\, sausage\, blueberry topping\, and beverages. People can enjoy breakfast seated at community tables on the church’s front lawn and watch the parade from a great vantage point. \nThe breakfast runs rain or shine. The cost is $15 for adults\, $8 for kids\, and children under age 5 eat for free; a family maximum is set at $50. \nMore information can be found here.
URL:https://goodmorningwilton.com/event/kiwanis-club-pancake-breakfast/
LOCATION:Wilton Congregational Church\, Wilton\, CT\, 06897\, United States
CATEGORIES:Breakfast,Churches,Club,Family Event,Parade
ATTACH;FMTTYPE=image/jpeg:https://goodmorningwilton.com/wp-content/uploads/2023/05/2023-Memorial-Day-Pancake-Breakfast-Kiwanis-Club-64-scaled.jpg
ORGANIZER;CN="Wilton Kiwanis Club":MAILTO:pfhannahjr@aol.com
END:VEVENT
BEGIN:VEVENT
DTSTART;TZID=America/New_York:20241214T091500
DTEND;TZID=America/New_York:20241214T120000
DTSTAMP:20260422T194541
CREATED:20241122T150800Z
LAST-MODIFIED:20241122T150800Z
UID:10018310-1734167700-1734177600@goodmorningwilton.com
SUMMARY:Riverbrook Regional Y Winter Breakfast featuring Santa and Buddy the Elf!
DESCRIPTION:Enjoy Hot Pancakes\, Fruit\, Orange Juice and Water on Saturday\, December 14 at the Wilton Family YMCA in partnership with Trackside. \nChoose from 3 shifts: \n9:15 a.m. – 10:00 a.m.\n10:15 a.m. – 11:00 a.m.\n11:15 a.m. – 12:00 p.m. \nThe cost is $15 per adult\, $12 per child. Children under 2 eat FREE. Families sign up as a unit. (parties of 2 or more) \nAll proceeds benefit the Melissa McFadden Scholarship Fund. \nPreregistration is required and ends 12/12. Space is Limited! \nPlease bring in non-perishable food items and toiletries to help fill the Wilton Food Pantry (no expired food please) Check out our Event Page for the list of needed goods. \nFor questions\, contact: Kimberly Fejes
URL:https://goodmorningwilton.com/event/riverbrook-regional-y-winter-breakfast-featuring-santa-and-buddy-the-elf/
LOCATION:Wilton YMCA\, 404 Danbury Rd.\, Wilton\, CT\, 06897\, United States
CATEGORIES:Breakfast,Family Event,Kids
ATTACH;FMTTYPE=image/jpeg:https://goodmorningwilton.com/wp-content/uploads/2024/11/Cropped-Santa-Group.jpg
ORGANIZER;CN="Riverbrook Regional YMCA":MAILTO:cfreedman@riverbrookymca.org
GEO:41.2116373;-73.4291811
X-APPLE-STRUCTURED-LOCATION;VALUE=URI;X-ADDRESS=Wilton YMCA 404 Danbury Rd. Wilton CT 06897 United States;X-APPLE-RADIUS=500;X-TITLE=404 Danbury Rd.:geo:-73.4291811,41.2116373
END:VEVENT
BEGIN:VEVENT
DTSTART;TZID=America/New_York:20251130T090000
DTEND;TZID=America/New_York:20251130T130000
DTSTAMP:20260422T194541
CREATED:20251126T151431Z
LAST-MODIFIED:20251126T151431Z
UID:10021479-1764493200-1764507600@goodmorningwilton.com
SUMMARY:Cannon Grange Breakfast with Santa Bill and Elf Martin
DESCRIPTION:Sign up for a delicious Pancake Breakfast with Santa Bill and Elf Martin at Cannon Grange on Sunday\, Nov. 30! \nTicket price is $12 per person\, and kids under 2 years old are free. Ticket includes pancake breakfast\, photo op with Santa\, face painting and music. \nSign up online:  choose from three time slots — 9 a.m.\, 10:15 a.m.\, or 11:30 a.m.
URL:https://goodmorningwilton.com/event/cannon-grange-breakfast-with-santa-bill-and-elf-martin/
LOCATION:The Cannon Grange\, 25 Cannon Rd.\, Wilton\, CT\, 06897\, United States
CATEGORIES:Breakfast,Family Event,Food,Kids
ATTACH;FMTTYPE=image/png:https://goodmorningwilton.com/wp-content/uploads/2025/11/2025-Breakfast-With-Santa-Flyer-Instagram-Post.png
GEO:41.216143;-73.4262339
X-APPLE-STRUCTURED-LOCATION;VALUE=URI;X-ADDRESS=The Cannon Grange 25 Cannon Rd. Wilton CT 06897 United States;X-APPLE-RADIUS=500;X-TITLE=25 Cannon Rd.:geo:-73.4262339,41.216143
END:VEVENT
BEGIN:VEVENT
DTSTART;TZID=America/New_York:20251213T090000
DTEND;TZID=America/New_York:20251213T120000
DTSTAMP:20260422T194541
CREATED:20251205T201252Z
LAST-MODIFIED:20251205T201252Z
UID:10021493-1765616400-1765627200@goodmorningwilton.com
SUMMARY:Breakfast at the Wilton Y with Santa and Buddy the Elf!
DESCRIPTION:Join the Wilton YMCA on Saturday\, Dec. 13 for a delicious pancake breakfast and fun holiday activities\, including meeting Santa and Buddy the Elf! New highlights of the day! Rickshaw rides in the parking lot by College Bound Rickshaw\, outdoor photo opportunities with Camp Gordyland’s Gordy and Camp Sunrise’s Sunny the Squirrel\, crafts/keepsake making\, reindeer food making\, and letters and cards for Letters for Love in Partnership with Trackside. \nChoose from three shifts: 9:15-10 a.m.\, 10:15- 11 a.m. and 11:15 a.m.-noon. Children over the age of 2 are $12 and adults are $15. All proceeds benefit the Melissa McFadden Scholarship Fund. Preregistration is required.
URL:https://goodmorningwilton.com/event/breakfast-at-the-wilton-y-with-santa-and-buddy-the-elf/
LOCATION:Wilton YMCA\, 404 Danbury Rd.\, Wilton\, CT\, 06897\, United States
CATEGORIES:Breakfast,Family Event,Fundraiser,Kids
ATTACH;FMTTYPE=image/jpeg:https://goodmorningwilton.com/wp-content/uploads/2023/01/Staff.jpg
ORGANIZER;CN="Wilton YMCA":MAILTO:kfrejes@riverbrookymca.org
GEO:41.2116373;-73.4291811
X-APPLE-STRUCTURED-LOCATION;VALUE=URI;X-ADDRESS=Wilton YMCA 404 Danbury Rd. Wilton CT 06897 United States;X-APPLE-RADIUS=500;X-TITLE=404 Danbury Rd.:geo:-73.4291811,41.2116373
END:VEVENT
BEGIN:VEVENT
DTSTART;TZID=America/New_York:20260131T113000
DTEND;TZID=America/New_York:20260131T140000
DTSTAMP:20260422T194541
CREATED:20260107T160454Z
LAST-MODIFIED:20260107T160534Z
UID:10021518-1769859000-1769868000@goodmorningwilton.com
SUMMARY:Wilton Pride Bingo Brunch
DESCRIPTION:Wilton Pride is thrilled to welcome back their friends from @troupe429 who will be bringing the energy as they lead drag queen-hosted bingo and family-friendly performances! Enjoy a delicious brunch with mimosa fixings (just BYOBubbly) while you play. \nEach ticket includes 4 bingo cards\, with chances to win amazing prizes from local Wilton businesses. Want to boost your odds? Additional cards will be available for purchase at the event! \nBest of all\, every ticket and bingo card helps fund Wilton Pride’s 2026 educational and community programs
URL:https://goodmorningwilton.com/event/wilton-pride-bingo-brunch/
LOCATION:Wilton Congregational Church\, Wilton\, CT\, 06897\, United States
CATEGORIES:Breakfast,Family Event,Fundraiser,Performance,Teens
ATTACH;FMTTYPE=image/webp:https://goodmorningwilton.com/wp-content/uploads/2026/01/GMW-Wilton-Pride-Brunch.webp
ORGANIZER;CN="Wilton Pride":MAILTO:info@wilton.pride.org
END:VEVENT
END:VCALENDAR