BEGIN:VCALENDAR
VERSION:2.0
PRODID:-//Good Morning Wilton - ECPv6.15.20//NONSGML v1.0//EN
CALSCALE:GREGORIAN
METHOD:PUBLISH
X-ORIGINAL-URL:https://goodmorningwilton.com
X-WR-CALDESC:Events for Good Morning Wilton
REFRESH-INTERVAL;VALUE=DURATION:PT1H
X-Robots-Tag:noindex
X-PUBLISHED-TTL:PT1H
BEGIN:VTIMEZONE
TZID:America/New_York
BEGIN:DAYLIGHT
TZOFFSETFROM:-0500
TZOFFSETTO:-0400
TZNAME:EDT
DTSTART:20250309T070000
END:DAYLIGHT
BEGIN:STANDARD
TZOFFSETFROM:-0400
TZOFFSETTO:-0500
TZNAME:EST
DTSTART:20251102T060000
END:STANDARD
BEGIN:DAYLIGHT
TZOFFSETFROM:-0500
TZOFFSETTO:-0400
TZNAME:EDT
DTSTART:20260308T070000
END:DAYLIGHT
BEGIN:STANDARD
TZOFFSETFROM:-0400
TZOFFSETTO:-0500
TZNAME:EST
DTSTART:20261101T060000
END:STANDARD
BEGIN:DAYLIGHT
TZOFFSETFROM:-0500
TZOFFSETTO:-0400
TZNAME:EDT
DTSTART:20270314T070000
END:DAYLIGHT
BEGIN:STANDARD
TZOFFSETFROM:-0400
TZOFFSETTO:-0500
TZNAME:EST
DTSTART:20271107T060000
END:STANDARD
END:VTIMEZONE
BEGIN:VEVENT
DTSTART;TZID=America/New_York:20261012T190000
DTEND;TZID=America/New_York:20261012T210000
DTSTAMP:20260419T141709
CREATED:20250819T090846Z
LAST-MODIFIED:20250819T090949Z
UID:10019657-1791831600-1791838800@goodmorningwilton.com
SUMMARY:Planning and Zoning Commission Meeting
DESCRIPTION:The Planning and Zoning Commission (P&Z) meets electronically to discuss and make decisions about land use and development in Wilton. The public can attend these open meetings via Zoom.
URL:https://goodmorningwilton.com/event/planning-and-zoning-commission-meeting-2/2026-10-12/
LOCATION:Online
CATEGORIES:Civic,discussion,Free,Government,Meeting,Online,Town/Government Meeting,Zoom Call
ATTACH;FMTTYPE=image/jpeg:https://goodmorningwilton.com/wp-content/uploads/2022/04/Town-Hall-3.jpeg
END:VEVENT
BEGIN:VEVENT
DTSTART;TZID=America/New_York:20261013T183000
DTEND;TZID=America/New_York:20261013T203000
DTSTAMP:20260419T141709
CREATED:20250908T152921Z
LAST-MODIFIED:20250908T152921Z
UID:10019891-1791916200-1791923400@goodmorningwilton.com
SUMMARY:Historic District and Historic Properties Commission Meeting
DESCRIPTION:The Historic District and Historic Properties Commission meets to discuss the administration and preservation of historically significant buildings\, objects and areas in Wilton for economic\, educational and general welfare purposes. The public can attend these open meetings via Zoom.
URL:https://goodmorningwilton.com/event/historic-district-and-historic-properties-commission-meeting/2026-10-13/
LOCATION:Webinar Zoom Meeting
CATEGORIES:Civic,Government,Historic,Meeting,Online,Town/Government Meeting,Zoom Call
ATTACH;FMTTYPE=image/jpeg:https://goodmorningwilton.com/wp-content/uploads/2022/04/Town-Hall-3.jpeg
END:VEVENT
BEGIN:VEVENT
DTSTART;TZID=America/New_York:20261026T190000
DTEND;TZID=America/New_York:20261026T210000
DTSTAMP:20260419T141709
CREATED:20250819T091356Z
LAST-MODIFIED:20251028T173424Z
UID:10019849-1793041200-1793048400@goodmorningwilton.com
SUMMARY:Planning and Zoning Commission Meeting
DESCRIPTION:The Planning and Zoning Commission (PZC) meets electronically to discuss and make decisions about land use and development in Wilton. The public can attend these open meetings via Zoom.
URL:https://goodmorningwilton.com/event/planning-and-zoning-commission-meeting-3/2026-10-26/
LOCATION:Online
CATEGORIES:Civic,discussion,Government,Meeting,Online,Town/Government Meeting,Zoom Call
ATTACH;FMTTYPE=image/jpeg:https://goodmorningwilton.com/wp-content/uploads/2022/04/Town-Hall-3.jpeg
END:VEVENT
END:VCALENDAR