BEGIN:VCALENDAR
VERSION:2.0
PRODID:-//Good Morning Wilton - ECPv6.15.20//NONSGML v1.0//EN
CALSCALE:GREGORIAN
METHOD:PUBLISH
X-WR-CALNAME:Good Morning Wilton
X-ORIGINAL-URL:https://goodmorningwilton.com
X-WR-CALDESC:Events for Good Morning Wilton
REFRESH-INTERVAL;VALUE=DURATION:PT1H
X-Robots-Tag:noindex
X-PUBLISHED-TTL:PT1H
BEGIN:VTIMEZONE
TZID:America/New_York
BEGIN:DAYLIGHT
TZOFFSETFROM:-0500
TZOFFSETTO:-0400
TZNAME:EDT
DTSTART:20260308T070000
END:DAYLIGHT
BEGIN:STANDARD
TZOFFSETFROM:-0400
TZOFFSETTO:-0500
TZNAME:EST
DTSTART:20261101T060000
END:STANDARD
BEGIN:DAYLIGHT
TZOFFSETFROM:-0500
TZOFFSETTO:-0400
TZNAME:EDT
DTSTART:20270314T070000
END:DAYLIGHT
BEGIN:STANDARD
TZOFFSETFROM:-0400
TZOFFSETTO:-0500
TZNAME:EST
DTSTART:20271107T060000
END:STANDARD
BEGIN:DAYLIGHT
TZOFFSETFROM:-0500
TZOFFSETTO:-0400
TZNAME:EDT
DTSTART:20280312T070000
END:DAYLIGHT
BEGIN:STANDARD
TZOFFSETFROM:-0400
TZOFFSETTO:-0500
TZNAME:EST
DTSTART:20281105T060000
END:STANDARD
END:VTIMEZONE
BEGIN:VEVENT
DTSTART;TZID=America/New_York:20270308T190000
DTEND;TZID=America/New_York:20270308T210000
DTSTAMP:20260419T223914
CREATED:20250819T090846Z
LAST-MODIFIED:20250819T090949Z
UID:10019662-1804532400-1804539600@goodmorningwilton.com
SUMMARY:Planning and Zoning Commission Meeting
DESCRIPTION:The Planning and Zoning Commission (P&Z) meets electronically to discuss and make decisions about land use and development in Wilton. The public can attend these open meetings via Zoom.
URL:https://goodmorningwilton.com/event/planning-and-zoning-commission-meeting-2/2027-03-08/
LOCATION:Online
CATEGORIES:Civic,discussion,Free,Government,Meeting,Online,Town/Government Meeting,Zoom Call
ATTACH;FMTTYPE=image/jpeg:https://goodmorningwilton.com/wp-content/uploads/2022/04/Town-Hall-3.jpeg
END:VEVENT
BEGIN:VEVENT
DTSTART;TZID=America/New_York:20270322T190000
DTEND;TZID=America/New_York:20270322T210000
DTSTAMP:20260419T223914
CREATED:20250819T091356Z
LAST-MODIFIED:20251028T173424Z
UID:10019854-1805742000-1805749200@goodmorningwilton.com
SUMMARY:Planning and Zoning Commission Meeting
DESCRIPTION:The Planning and Zoning Commission (PZC) meets electronically to discuss and make decisions about land use and development in Wilton. The public can attend these open meetings via Zoom.
URL:https://goodmorningwilton.com/event/planning-and-zoning-commission-meeting-3/2027-03-22/
LOCATION:Online
CATEGORIES:Civic,discussion,Government,Meeting,Online,Town/Government Meeting,Zoom Call
ATTACH;FMTTYPE=image/jpeg:https://goodmorningwilton.com/wp-content/uploads/2022/04/Town-Hall-3.jpeg
END:VEVENT
BEGIN:VEVENT
DTSTART;TZID=America/New_York:20270412T190000
DTEND;TZID=America/New_York:20270412T210000
DTSTAMP:20260419T223914
CREATED:20250819T090846Z
LAST-MODIFIED:20250819T090949Z
UID:10019663-1807556400-1807563600@goodmorningwilton.com
SUMMARY:Planning and Zoning Commission Meeting
DESCRIPTION:The Planning and Zoning Commission (P&Z) meets electronically to discuss and make decisions about land use and development in Wilton. The public can attend these open meetings via Zoom.
URL:https://goodmorningwilton.com/event/planning-and-zoning-commission-meeting-2/2027-04-12/
LOCATION:Online
CATEGORIES:Civic,discussion,Free,Government,Meeting,Online,Town/Government Meeting,Zoom Call
ATTACH;FMTTYPE=image/jpeg:https://goodmorningwilton.com/wp-content/uploads/2022/04/Town-Hall-3.jpeg
END:VEVENT
BEGIN:VEVENT
DTSTART;TZID=America/New_York:20270426T190000
DTEND;TZID=America/New_York:20270426T210000
DTSTAMP:20260419T223914
CREATED:20250819T091356Z
LAST-MODIFIED:20251028T173424Z
UID:10019855-1808766000-1808773200@goodmorningwilton.com
SUMMARY:Planning and Zoning Commission Meeting
DESCRIPTION:The Planning and Zoning Commission (PZC) meets electronically to discuss and make decisions about land use and development in Wilton. The public can attend these open meetings via Zoom.
URL:https://goodmorningwilton.com/event/planning-and-zoning-commission-meeting-3/2027-04-26/
LOCATION:Online
CATEGORIES:Civic,discussion,Government,Meeting,Online,Town/Government Meeting,Zoom Call
ATTACH;FMTTYPE=image/jpeg:https://goodmorningwilton.com/wp-content/uploads/2022/04/Town-Hall-3.jpeg
END:VEVENT
BEGIN:VEVENT
DTSTART;TZID=America/New_York:20270510T190000
DTEND;TZID=America/New_York:20270510T210000
DTSTAMP:20260419T223914
CREATED:20250819T090846Z
LAST-MODIFIED:20250819T090949Z
UID:10019664-1809975600-1809982800@goodmorningwilton.com
SUMMARY:Planning and Zoning Commission Meeting
DESCRIPTION:The Planning and Zoning Commission (P&Z) meets electronically to discuss and make decisions about land use and development in Wilton. The public can attend these open meetings via Zoom.
URL:https://goodmorningwilton.com/event/planning-and-zoning-commission-meeting-2/2027-05-10/
LOCATION:Online
CATEGORIES:Civic,discussion,Free,Government,Meeting,Online,Town/Government Meeting,Zoom Call
ATTACH;FMTTYPE=image/jpeg:https://goodmorningwilton.com/wp-content/uploads/2022/04/Town-Hall-3.jpeg
END:VEVENT
BEGIN:VEVENT
DTSTART;TZID=America/New_York:20270524T190000
DTEND;TZID=America/New_York:20270524T210000
DTSTAMP:20260419T223914
CREATED:20250819T091356Z
LAST-MODIFIED:20251028T173424Z
UID:10019856-1811185200-1811192400@goodmorningwilton.com
SUMMARY:Planning and Zoning Commission Meeting
DESCRIPTION:The Planning and Zoning Commission (PZC) meets electronically to discuss and make decisions about land use and development in Wilton. The public can attend these open meetings via Zoom.
URL:https://goodmorningwilton.com/event/planning-and-zoning-commission-meeting-3/2027-05-24/
LOCATION:Online
CATEGORIES:Civic,discussion,Government,Meeting,Online,Town/Government Meeting,Zoom Call
ATTACH;FMTTYPE=image/jpeg:https://goodmorningwilton.com/wp-content/uploads/2022/04/Town-Hall-3.jpeg
END:VEVENT
BEGIN:VEVENT
DTSTART;TZID=America/New_York:20270614T190000
DTEND;TZID=America/New_York:20270614T210000
DTSTAMP:20260419T223914
CREATED:20250819T090846Z
LAST-MODIFIED:20250819T090949Z
UID:10019665-1812999600-1813006800@goodmorningwilton.com
SUMMARY:Planning and Zoning Commission Meeting
DESCRIPTION:The Planning and Zoning Commission (P&Z) meets electronically to discuss and make decisions about land use and development in Wilton. The public can attend these open meetings via Zoom.
URL:https://goodmorningwilton.com/event/planning-and-zoning-commission-meeting-2/2027-06-14/
LOCATION:Online
CATEGORIES:Civic,discussion,Free,Government,Meeting,Online,Town/Government Meeting,Zoom Call
ATTACH;FMTTYPE=image/jpeg:https://goodmorningwilton.com/wp-content/uploads/2022/04/Town-Hall-3.jpeg
END:VEVENT
BEGIN:VEVENT
DTSTART;TZID=America/New_York:20270628T190000
DTEND;TZID=America/New_York:20270628T210000
DTSTAMP:20260419T223914
CREATED:20250819T091356Z
LAST-MODIFIED:20251028T173424Z
UID:10019857-1814209200-1814216400@goodmorningwilton.com
SUMMARY:Planning and Zoning Commission Meeting
DESCRIPTION:The Planning and Zoning Commission (PZC) meets electronically to discuss and make decisions about land use and development in Wilton. The public can attend these open meetings via Zoom.
URL:https://goodmorningwilton.com/event/planning-and-zoning-commission-meeting-3/2027-06-28/
LOCATION:Online
CATEGORIES:Civic,discussion,Government,Meeting,Online,Town/Government Meeting,Zoom Call
ATTACH;FMTTYPE=image/jpeg:https://goodmorningwilton.com/wp-content/uploads/2022/04/Town-Hall-3.jpeg
END:VEVENT
BEGIN:VEVENT
DTSTART;TZID=America/New_York:20270712T190000
DTEND;TZID=America/New_York:20270712T210000
DTSTAMP:20260419T223914
CREATED:20250819T090846Z
LAST-MODIFIED:20250819T090949Z
UID:10019666-1815418800-1815426000@goodmorningwilton.com
SUMMARY:Planning and Zoning Commission Meeting
DESCRIPTION:The Planning and Zoning Commission (P&Z) meets electronically to discuss and make decisions about land use and development in Wilton. The public can attend these open meetings via Zoom.
URL:https://goodmorningwilton.com/event/planning-and-zoning-commission-meeting-2/2027-07-12/
LOCATION:Online
CATEGORIES:Civic,discussion,Free,Government,Meeting,Online,Town/Government Meeting,Zoom Call
ATTACH;FMTTYPE=image/jpeg:https://goodmorningwilton.com/wp-content/uploads/2022/04/Town-Hall-3.jpeg
END:VEVENT
BEGIN:VEVENT
DTSTART;TZID=America/New_York:20270726T190000
DTEND;TZID=America/New_York:20270726T210000
DTSTAMP:20260419T223914
CREATED:20250819T091356Z
LAST-MODIFIED:20251028T173424Z
UID:10019858-1816628400-1816635600@goodmorningwilton.com
SUMMARY:Planning and Zoning Commission Meeting
DESCRIPTION:The Planning and Zoning Commission (PZC) meets electronically to discuss and make decisions about land use and development in Wilton. The public can attend these open meetings via Zoom.
URL:https://goodmorningwilton.com/event/planning-and-zoning-commission-meeting-3/2027-07-26/
LOCATION:Online
CATEGORIES:Civic,discussion,Government,Meeting,Online,Town/Government Meeting,Zoom Call
ATTACH;FMTTYPE=image/jpeg:https://goodmorningwilton.com/wp-content/uploads/2022/04/Town-Hall-3.jpeg
END:VEVENT
BEGIN:VEVENT
DTSTART;TZID=America/New_York:20270809T190000
DTEND;TZID=America/New_York:20270809T210000
DTSTAMP:20260419T223914
CREATED:20250819T090846Z
LAST-MODIFIED:20250819T090949Z
UID:10019667-1817838000-1817845200@goodmorningwilton.com
SUMMARY:Planning and Zoning Commission Meeting
DESCRIPTION:The Planning and Zoning Commission (P&Z) meets electronically to discuss and make decisions about land use and development in Wilton. The public can attend these open meetings via Zoom.
URL:https://goodmorningwilton.com/event/planning-and-zoning-commission-meeting-2/2027-08-09/
LOCATION:Online
CATEGORIES:Civic,discussion,Free,Government,Meeting,Online,Town/Government Meeting,Zoom Call
ATTACH;FMTTYPE=image/jpeg:https://goodmorningwilton.com/wp-content/uploads/2022/04/Town-Hall-3.jpeg
END:VEVENT
END:VCALENDAR