BEGIN:VCALENDAR
VERSION:2.0
PRODID:-//Good Morning Wilton - ECPv6.15.20//NONSGML v1.0//EN
CALSCALE:GREGORIAN
METHOD:PUBLISH
X-ORIGINAL-URL:https://goodmorningwilton.com
X-WR-CALDESC:Events for Good Morning Wilton
REFRESH-INTERVAL;VALUE=DURATION:PT1H
X-Robots-Tag:noindex
X-PUBLISHED-TTL:PT1H
BEGIN:VTIMEZONE
TZID:America/New_York
BEGIN:DAYLIGHT
TZOFFSETFROM:-0500
TZOFFSETTO:-0400
TZNAME:EDT
DTSTART:20250309T070000
END:DAYLIGHT
BEGIN:STANDARD
TZOFFSETFROM:-0400
TZOFFSETTO:-0500
TZNAME:EST
DTSTART:20251102T060000
END:STANDARD
BEGIN:DAYLIGHT
TZOFFSETFROM:-0500
TZOFFSETTO:-0400
TZNAME:EDT
DTSTART:20260308T070000
END:DAYLIGHT
BEGIN:STANDARD
TZOFFSETFROM:-0400
TZOFFSETTO:-0500
TZNAME:EST
DTSTART:20261101T060000
END:STANDARD
BEGIN:DAYLIGHT
TZOFFSETFROM:-0500
TZOFFSETTO:-0400
TZNAME:EDT
DTSTART:20270314T070000
END:DAYLIGHT
BEGIN:STANDARD
TZOFFSETFROM:-0400
TZOFFSETTO:-0500
TZNAME:EST
DTSTART:20271107T060000
END:STANDARD
END:VTIMEZONE
BEGIN:VEVENT
DTSTART;TZID=America/New_York:20260228T180000
DTEND;TZID=America/New_York:20260228T210000
DTSTAMP:20260422T043220
CREATED:20260202T000726Z
LAST-MODIFIED:20260202T000726Z
UID:10022035-1772301600-1772312400@goodmorningwilton.com
SUMMARY:Taste in Time – Food and Drink in History at The Wilton Historical Society
DESCRIPTION:It’s a Party for the Ages! The Wilton Historical Society’s fundraiser Taste in Time is back again on Saturday\, February 28th! \nTake a step back in time with us and experience the cuisine and cocktails of the past\, and help raise funds for the Wilton Historical Society to keep our stories alive and foster the next generation of history makers. \nImmerse yourself in nearly three centuries of Wilton’s history through food and cocktails by Marcia Selden Catering! Experience flavors of historic time periods in the charming and storied buildings of Wilton Historical Society: the c. 1770 Sloan-Raymond-Fitch House\, the c. 1740 Betts-Sturges-Blackmar House\, and the c. 1840 Burt Barn Gallery \n \nThis year’s themes are: \n\nColonial America\n1950’s Sock Hop\n1970’s Disco\n\nGuests are invited – even encouraged – to embrace this unparalleled historical setting! Historical costumes and dress are welcome. \nVIP Experience: \nEnhance this historic night with a behind the scenes look at rarely seen objects from the museum’s collection. From 5 to 6pm in the original c.1770’s Raymond Tavern Wilton Historical Society Director Nick Foster will share some unique historical stories\, and answer your burning history questions. This VIP experience is paired with historical drinks served by our friends Farah and Shawn from Wilton Cider House. \nTaste in Time is Saturday\, February 28th from 6 p.m. to 9 p.m. at the Society’s Museum Complex\, 224 Danbury Road\, Wilton\, CT 06897. \nStandard Tickets are $175 per person\nTickets + VIP Experience are $225 per person \nValet parking is available.
URL:https://goodmorningwilton.com/event/taste-in-time-food-and-drink-in-history-at-the-wilton-historical-society/
LOCATION:Wilton Historical Society\, 224 Danbury Road\, Wilton\, CT
CATEGORIES:21-and-over,Cocktails/Celebration,Food,Fundraiser,Historic,Tasting
ATTACH;FMTTYPE=image/png:https://goodmorningwilton.com/wp-content/uploads/2026/01/WHS-taste-event-logo-final-date-removed.png
ORGANIZER;CN="Wilton Historical Society":MAILTO:info@wiltonhistorical.org
GEO:41.188207;-73.424639
X-APPLE-STRUCTURED-LOCATION;VALUE=URI;X-ADDRESS=Wilton Historical Society 224 Danbury Road Wilton CT;X-APPLE-RADIUS=500;X-TITLE=224 Danbury Road:geo:-73.424639,41.188207
END:VEVENT
BEGIN:VEVENT
DTSTART;TZID=America/New_York:20260425T120000
DTEND;TZID=America/New_York:20260425T200000
DTSTAMP:20260422T043220
CREATED:20260407T060026Z
LAST-MODIFIED:20260407T060026Z
UID:10023913-1777118400-1777147200@goodmorningwilton.com
SUMMARY:Frothy Forage 2026
DESCRIPTION:A good hike should be savored…. and so should a great drink. \nWhy not do both at the same time? \nBring the whole family to Woodcock Nature Center‘s Frothy Forage 2026 for a one-of-a-kind hiking and tasting experience! At secret locations along the Woodcock trails we’ll delight your senses with all new craft brews and sweet sips for all ages plus animal encounters\, treats and treasure hunts. Also\, live music with Lazer Goose and guitarist/singer Matt Greene\, plus food for purchase from Dough Girls pizza. Even furry family members will enjoy some goodies along the trek. \nTrek\, taste and discover with Woodcock! \n​\nTickets are available for specific start times (attendees must arrive at the start of the session; walk-up tickets will be available only if space allows): 12- 2 p.m.; 12:15-2:15 p.m.; 3-5 p.m.; 3:15-5:15 p.m.; 5:45-7:45 p.m.; and 6-8 p.m. Pre-purchase ticket sales ends at midnight Friday\, Apr. 24 (check the Woodcock website for updates on availability). \n\nTickets are $57 for adult (21+) tickets\, and $27 for kids (3 and up) and spectators. Admission for 21+ includes: one souvenir tasting glass per 21+ ticket purchased; a one-of-a-kind trek through the woods and wetlands of Woodcock with beer and soda sampling at five stations along the way; complimentary soda tasting\, music\, snacks and water. Additional food\, beer and soda are available for purchase. Non-21+ ticket holders may enjoy everything except the alcohol. \n\n​
URL:https://goodmorningwilton.com/event/frothy-forage-2026/
LOCATION:Woodcock Nature Center\, 56 Deer Run Rd\, Wilton\, CT\, 06897\, United States
CATEGORIES:21-and-over,Animals,Cocktails/Celebration,Environmental,Family Event,Food,Fundraiser,Kids,Live Music,Nature,Outdoor Event,Tasting,Walk/Hike
ATTACH;FMTTYPE=image/jpeg:https://goodmorningwilton.com/wp-content/uploads/2026/03/Frothy-Socail.jpg
GEO:41.2467853;-73.4737154
X-APPLE-STRUCTURED-LOCATION;VALUE=URI;X-ADDRESS=Woodcock Nature Center 56 Deer Run Rd Wilton CT 06897 United States;X-APPLE-RADIUS=500;X-TITLE=56 Deer Run Rd:geo:-73.4737154,41.2467853
END:VEVENT
BEGIN:VEVENT
DTSTART;TZID=America/New_York:20260516T183000
DTEND;TZID=America/New_York:20260516T223000
DTSTAMP:20260422T043220
CREATED:20260214T232708Z
LAST-MODIFIED:20260214T232708Z
UID:10023853-1778956200-1778970600@goodmorningwilton.com
SUMMARY:A Better Chance of Wilton | 30th Anniversary Celebration
DESCRIPTION:Join A Better Chance of Wilton for an evening of cocktails\, dinner\, and music as they celebrate 30 years of A Better Chance of Wilton and the life-changing impact of the program. The celebration will be held at Shore & Country Club on May 16th from 6:30 p.m.–10:30 p.m.; tickets are $250 per person. They need your support to continue this impactful program! \nFor those interested in learning more about sponsorship opportunities\, please view our sponsorship kit here. To sponsor the event\, purchase tickets\, click here. The program is fully funded by the generosity of private donations\, so every dollar makes a difference. \n——– \nA Better Chance of Wilton has successfully enriched lives by providing educational opportunities to highly motivated high school students of color for 30 years. Scholars from around the United States have come to Wilton to pursue an environment and high school experience that encourages academic excellence and nurtures their potential for college and their future.
URL:https://goodmorningwilton.com/event/a-better-chance-of-wilton-30th-anniversary-celebration/
LOCATION:Shore and Country Club\, 220 Gregory Boulevard\, Norwalk\, CT\, 06897\, United States
CATEGORIES:Cocktails/Celebration,Fundraiser,Gala,Not for profit
ATTACH;FMTTYPE=image/png:https://goodmorningwilton.com/wp-content/uploads/2026/02/30th-anniversary-insta-and-email.png
END:VEVENT
END:VCALENDAR