BEGIN:VCALENDAR
VERSION:2.0
PRODID:-//Good Morning Wilton - ECPv6.15.20//NONSGML v1.0//EN
CALSCALE:GREGORIAN
METHOD:PUBLISH
X-WR-CALNAME:Good Morning Wilton
X-ORIGINAL-URL:https://goodmorningwilton.com
X-WR-CALDESC:Events for Good Morning Wilton
REFRESH-INTERVAL;VALUE=DURATION:PT1H
X-Robots-Tag:noindex
X-PUBLISHED-TTL:PT1H
BEGIN:VTIMEZONE
TZID:America/New_York
BEGIN:DAYLIGHT
TZOFFSETFROM:-0500
TZOFFSETTO:-0400
TZNAME:EDT
DTSTART:20210314T070000
END:DAYLIGHT
BEGIN:STANDARD
TZOFFSETFROM:-0400
TZOFFSETTO:-0500
TZNAME:EST
DTSTART:20211107T060000
END:STANDARD
BEGIN:DAYLIGHT
TZOFFSETFROM:-0500
TZOFFSETTO:-0400
TZNAME:EDT
DTSTART:20220313T070000
END:DAYLIGHT
BEGIN:STANDARD
TZOFFSETFROM:-0400
TZOFFSETTO:-0500
TZNAME:EST
DTSTART:20221106T060000
END:STANDARD
BEGIN:DAYLIGHT
TZOFFSETFROM:-0500
TZOFFSETTO:-0400
TZNAME:EDT
DTSTART:20230312T070000
END:DAYLIGHT
BEGIN:STANDARD
TZOFFSETFROM:-0400
TZOFFSETTO:-0500
TZNAME:EST
DTSTART:20231105T060000
END:STANDARD
BEGIN:DAYLIGHT
TZOFFSETFROM:-0500
TZOFFSETTO:-0400
TZNAME:EDT
DTSTART:20240310T070000
END:DAYLIGHT
BEGIN:STANDARD
TZOFFSETFROM:-0400
TZOFFSETTO:-0500
TZNAME:EST
DTSTART:20241103T060000
END:STANDARD
BEGIN:DAYLIGHT
TZOFFSETFROM:-0500
TZOFFSETTO:-0400
TZNAME:EDT
DTSTART:20250309T070000
END:DAYLIGHT
BEGIN:STANDARD
TZOFFSETFROM:-0400
TZOFFSETTO:-0500
TZNAME:EST
DTSTART:20251102T060000
END:STANDARD
BEGIN:DAYLIGHT
TZOFFSETFROM:-0500
TZOFFSETTO:-0400
TZNAME:EDT
DTSTART:20260308T070000
END:DAYLIGHT
BEGIN:STANDARD
TZOFFSETFROM:-0400
TZOFFSETTO:-0500
TZNAME:EST
DTSTART:20261101T060000
END:STANDARD
END:VTIMEZONE
BEGIN:VEVENT
DTSTART;TZID=America/New_York:20220530T080000
DTEND;TZID=America/New_York:20220530T103000
DTSTAMP:20260423T161713
CREATED:20220526T204706Z
LAST-MODIFIED:20220527T131319Z
UID:10011295-1653897600-1653906600@goodmorningwilton.com
SUMMARY:Kiwanis Pancake Breakfast
DESCRIPTION:A tradition that is more than 35 years old\, the Kiwanis Club of Wilton will hold its annual pancake breakfast at the Wilton Congregational Church \, to start the day’s festivities. Enjoy pancakes\, sausages\, and coffee\, all served by the men and women of the Wilton Kiwanis Club. \nThe Pancake Breakfast opens to the public from 8-10:30 a.m. before the parade begins. Adults/Teens (13+) are $12; children (5-12) are $6 and young children under 5 are free. The maximum cost to families is $40.
URL:https://goodmorningwilton.com/event/kiwanis-pancake-breakfast/
LOCATION:Wilton Congregational Church\, Wilton\, CT\, 06897\, United States
CATEGORIES:Coffee,Food,Fundraiser,Kids,Women
ATTACH;FMTTYPE=image/jpeg:https://goodmorningwilton.com/wp-content/uploads/2017/05/gail-lavielle-memorial-day-2.jpg
ORGANIZER;CN="Kiwanis Club of Wilton":MAILTO:wiltonkiwanis@#gmail.com
END:VEVENT
BEGIN:VEVENT
DTSTART;TZID=America/New_York:20220602T113000
DTEND;TZID=America/New_York:20220602T130000
DTSTAMP:20260423T161713
CREATED:20220524T020101Z
LAST-MODIFIED:20220602T123825Z
UID:10011331-1654169400-1654174800@goodmorningwilton.com
SUMMARY:Wilton League of Women Voters “Meet & Greet” and Annual Meeting — NEW LOCATION
DESCRIPTION:Curious?   \nHow can we make our town an even better place to live? \nHow do state laws get proposed/written/passed? \nI already vote on Election Day – are there ways to affect the choices on the ballot? \nIs it possible to participate as a citizen outside of the political parties? \nWhat does “non-partisan” even mean? \nStop by for a cup of coffee at Comstock Community Center! [NOTE the new location] \nPlease join members of the Wilton League for an informal chat about the League’s principles\, priorities and programs. There will be coffee — feel free to bring a brown bag lunch as well — and will follow with their Annual Meeting at 12:15 p.m.\, which is open to all as well. \nFor more\, contact the Wilton League of Women Voters. \n 
URL:https://goodmorningwilton.com/event/wilton-league-of-women-voters-meet-greet-and-annual-meeting/
LOCATION:Comstock Community Center\, 180 School Rd.\, Wilton\, CT\, 06897\, United States
CATEGORIES:Civic,Coffee,discussion,Educational,Free,Meeting,Politics,Women
ATTACH;FMTTYPE=image/jpeg:https://goodmorningwilton.com/wp-content/uploads/2022/02/LWV-logo-plain.jpg
ORGANIZER;CN="Wilton League of Women Voters":MAILTO:wiltonlwv@gmail.com
GEO:41.2020422;-73.4335825
X-APPLE-STRUCTURED-LOCATION;VALUE=URI;X-ADDRESS=Comstock Community Center 180 School Rd. Wilton CT 06897 United States;X-APPLE-RADIUS=500;X-TITLE=180 School Rd.:geo:-73.4335825,41.2020422
END:VEVENT
BEGIN:VEVENT
DTSTART;TZID=America/New_York:20230424T190000
DTEND;TZID=America/New_York:20230424T190000
DTSTAMP:20260423T161713
CREATED:20230319T191512Z
LAST-MODIFIED:20230319T191512Z
UID:10011758-1682362800-1682362800@goodmorningwilton.com
SUMMARY:Coffee with the Wilton Youth Council Board
DESCRIPTION:If you’re interested in empowering Wilton’s youth\, parents and community then this is the event for you! Come meet members of the Wilton Youth Council board members on Monday\, April 24 at 7:00 p.m.\, and explore opportunities to get involved. \nRSVP via email to receive event location information. \n 
URL:https://goodmorningwilton.com/event/coffee-with-the-wilton-youth-council-board/
LOCATION:Tusk and Cup\, 142 Old Ridgefield Rd.\, Wilton\, CT\, 06897\, United States
CATEGORIES:Coffee,Meeting,Not for profit,Volunteer Opportunity
ATTACH;FMTTYPE=image/png:https://goodmorningwilton.com/wp-content/uploads/2023/03/Screenshot-2023-03-01-4.37.46-PM-1-1-1.png
END:VEVENT
BEGIN:VEVENT
DTSTART;TZID=America/New_York:20231007T140000
DTEND;TZID=America/New_York:20231007T150000
DTSTAMP:20260423T161713
CREATED:20230924T100208Z
LAST-MODIFIED:20230924T100208Z
UID:10013114-1696687200-1696690800@goodmorningwilton.com
SUMMARY:A Perky Pairing: Coffee and Fine Chocolates
DESCRIPTION:Please join Wilton Library on Saturday\, October 7\, for a special presentation that covers everything there is to know about java! The interesting history\, benefits\, how and where coffee and chocolate hail from\, the famous pioneers in both industries\, interactive trivia quiz\, best brewing and roasting methods and fun coffee terminology. We’ll have a fun display of vintage coffee grinders and coffee pots as well as chocolate samplings that include Espresso chocolate\, bittersweet and a classic decaf Italian Affogato. \nKim Larkin is Specialty Coffee Association of America Certified in Coffee Foundations. \nRegistration is required. Please register on the Wilton Library website or call 203.762.6334.
URL:https://goodmorningwilton.com/event/a-perky-pairing-coffee-and-fine-chocolates/
LOCATION:Wilton Library\, 137 Old Ridgefield Rd.\, Wilton\, CT\, 06987
CATEGORIES:Coffee,Food,Free,Library,Not for profit,Presentation,Tasting
ATTACH;FMTTYPE=image/png:https://goodmorningwilton.com/wp-content/uploads/2023/09/COFFEEANDCHOCOLATECOMBO1_22D2DE9E.png
END:VEVENT
BEGIN:VEVENT
DTSTART;TZID=America/New_York:20240302T090000
DTEND;TZID=America/New_York:20240302T110000
DTSTAMP:20260423T161713
CREATED:20240227T133707Z
LAST-MODIFIED:20240227T133707Z
UID:10015648-1709370000-1709377200@goodmorningwilton.com
SUMMARY:Wilton Dunkin’ Invites Residents to Grand Re-Opening Celebration [SPONSORED]
DESCRIPTION:The team at Cain Management (CMI) is excited to celebrate the Grand Reopening of the Wilton Dunkin’ at 35 Danbury Rd. this Saturday\, March 2. As Dunkin’ has rebranded\, updated its design and expanded its menu nationally\, so too will Wilton residents see new and improved features at their favorite home-town Dunkin’ location\, including the new cold beverage tap system and a front-line bakery case. \nTo celebrate\, CMI — which owns the south Wilton location as well as 49 other Dunkin’ locations in CT — has invited WEBE 108’s Danny Lyons to host the event. Lyons will be bringing the station’s Prize Van\, and customers who attend the re-opening celebration will have a chance to win prizes and giveaways. The event will be fun for the whole family with free face painting\, opportunities to take selfies with the Cuppie and Sprinkles characters\, and spin for a prize. Plus\, the first 100 people who come in starting at 9 a.m. will get a free beverage. \n“Wilton is such a great family community and the Wilton Dunkin’ has long been a part of the way the community starts its day\, celebrates achievements and gathers to meet and share ideas. We are so pleased the new Next Gen Dunkin’ design will only enhance all the special ways Dunkin’ is part of Wilton\,” CMI President NT said.
URL:https://goodmorningwilton.com/event/wilton-dunkin-invites-residents-to-grand-re-opening-celebration-sponsored/
LOCATION:Dunkin’\, 35 Danbury Road\, Wilton\, CT\, 06897\, United States
CATEGORIES:Breakfast,Coffee,Family Event,Food,For profit,Kids,Open House,Sponsored Post
ATTACH;FMTTYPE=image/jpeg:https://goodmorningwilton.com/wp-content/uploads/2024/02/Dunkin-storefront.jpg
END:VEVENT
BEGIN:VEVENT
DTSTART;TZID=America/New_York:20241007T103000
DTEND;TZID=America/New_York:20241007T120000
DTSTAMP:20260423T161713
CREATED:20241001T032353Z
LAST-MODIFIED:20241001T032716Z
UID:10018108-1728297000-1728302400@goodmorningwilton.com
SUMMARY:Wilton Woman’s Club Kick Off Coffee
DESCRIPTION:The Wilton Woman’s Club invites everyone to its Kick-Off Coffee on Monday\, Oct. 7 at 10:30 a.m. at 2 Brandon Circle\, Wilton\, home of WWC President Maria Wilcox. All are welcome to come together to learn about the club\, catch up with old friends\, meet new friends\, and hear about club plans for the upcoming year. \nThe club will focus this year on strengthening social bonds among community members in Wilton. Each month includes Dinner Club get-togethers\, Lunch Club get-togethers\, Wednesday morning walks on the NRVT Trail\, Book Club meeting nights\, and regular monthly club meetings. Visit the website for details\, to join\, and to RSVP. \nA highlight again this year will be a small-group trip to Arthur Avenue in the Bronx\, led by none other than Arthur Avenue expert and Wilton First Selectman Toni Boucher. On that day\, the group will tour bakeries\, delicatessens\, and shops\, and eat together at one of the many delicious and authentic Italian restaurants there. \nThe Wilton Woman’s Club was founded in 1966 by Betty Sternad and friends. Since the start\, the club has contributed to the common good through different community service projects. Today\, the WWC is the only group that goes to the CT Food Bank each week to bring meat and produce to the Wilton Food Pantry. The club also serves lunch to seniors at Ogden House and makes meals at holiday times to deliver to homebound residents. In April\, the WWC held its 15th Annual Fashion Show Fundraiser at Rolling Hills Country Club and raised almost $25\,000 to donate to Waveny-Visiting Nurse & Hospice to provide professional caregiver respite. The 2025 beneficiary will be announced on Dec. 4 at the WWC Holiday Lunch. \n“We look forward to meeting more women in Wilton this year\, contributing to the community\, and strengthening bonds. Come join us and meet a whole new group of people! We look forward to seeing you\,” Wilcox said.
URL:https://goodmorningwilton.com/event/wilton-womans-club-announces-kick-off-coffee/
LOCATION:Home of Maria Wilcox\, 2 Brandon Circle\, Wilton\, CT\, 06897\, United States
CATEGORIES:Club,Coffee,Free
ATTACH;FMTTYPE=image/png:https://goodmorningwilton.com/wp-content/uploads/2024/09/Screenshot-2024-09-24-at-4.35.49 PM.png
END:VEVENT
BEGIN:VEVENT
DTSTART;TZID=America/New_York:20241120T083000
DTEND;TZID=America/New_York:20241120T093000
DTSTAMP:20260423T161713
CREATED:20241120T033745Z
LAST-MODIFIED:20241120T033745Z
UID:10018314-1732091400-1732095000@goodmorningwilton.com
SUMMARY:League of Women Voters Wilton — Cup of Coffee & A Conversation with Parks & Rec Director Steve Pierce Q&A
DESCRIPTION:The League of Women Voters Wilton is again hosting its monthly community event\, “A Cup of Coffee & A Conversation\,” on Wednesday\, Nov. 20 at 8:30 a.m. at Orem’s Diner. This month Steve Pierce\, Director of Wilton Parks and Recreation will be there to talk about Wilton’s facilities and answer any questions about how Parks and Rec works. No RSVP is required. Guests are welcome to show up and have a cup of coffee on the LWV!
URL:https://goodmorningwilton.com/event/league-of-women-voters-wilton-cup-of-coffee-a-conversation-with-parks-rec-director-steve-pierce-qa/
LOCATION:Orem’s Diner\, 167 Danbury Road\, Wilton\, Connecticut\, 06897\, United States
CATEGORIES:Civic,Coffee,discussion,Meeting
ATTACH;FMTTYPE=image/jpeg:https://goodmorningwilton.com/wp-content/uploads/2024/11/LWVW-Nov-20th-Coffee.jpg
ORGANIZER;CN="Wilton League of Women Voters":MAILTO:wiltonlwv@gmail.com
END:VEVENT
BEGIN:VEVENT
DTSTART;TZID=America/New_York:20250201T103000
DTEND;TZID=America/New_York:20250201T120000
DTSTAMP:20260423T161713
CREATED:20250116T180725Z
LAST-MODIFIED:20250116T180725Z
UID:10018357-1738405800-1738411200@goodmorningwilton.com
SUMMARY:Wilton League of Women Voters Dialogue with our State Legislators
DESCRIPTION:Join Wilton Library and the Wilton League of Women Voters at a Legislative Dialogue between Wilton constituents and our elected state legislators. State Senator Ceci Maher (District 26) and State Representative Savet Constantine (District 42) both plan to attend to hear from Wilton residents about priority issues facing the town and state\, as well as to talk about their respective committee work and their priorities for the upcoming legislative cycle. This event\, which is free and open to the public\, will be held in person in the Brubeck Room at Wilton Library. Because this is a dialogue\, constituents are invited to pose questions during the live event. \nRegister with the Wilton Library online so that organizers can plan seating and refreshments.
URL:https://goodmorningwilton.com/event/wilton-league-of-women-voters-dialogue-with-our-state-legislators/
LOCATION:Wilton Library Brubeck Room\, 137 Old Ridgefield Rd\, Wilton\, 06897\, United States
CATEGORIES:Coffee,discussion,Free,Government,Library,Meeting,Presentation
ATTACH;FMTTYPE=image/jpeg:https://goodmorningwilton.com/wp-content/uploads/2019/03/hartford-capitol-building-gmw-photo.jpg
ORGANIZER;CN="Wilton League of Woman Voters":MAILTO:league@comcast.net
END:VEVENT
BEGIN:VEVENT
DTSTART;TZID=America/New_York:20250225T090000
DTEND;TZID=America/New_York:20250225T100000
DTSTAMP:20260423T161713
CREATED:20250218T200703Z
LAST-MODIFIED:20250218T200703Z
UID:10018839-1740474000-1740477600@goodmorningwilton.com
SUMMARY:Wilton League of Women Voters: "Coffee & Conversation" with Board of Finance Chair Matt Raimondi
DESCRIPTION:Join the Wilton League of Women Voters for its monthly “Coffee & Conversation” event. This month’s guest is Wilton Board of Finance Chair Matt Raimondi. Your coffee is on us! \n  \n 
URL:https://goodmorningwilton.com/event/wilton-league-of-women-voters-coffee-conversation-with-board-of-finance-chair-matt-raimondi/
LOCATION:Orem’s Diner\, 167 Danbury Road\, Wilton\, Connecticut\, 06897\, United States
CATEGORIES:Civic,Coffee,discussion,Free,Government,Meeting,Politics
ATTACH;FMTTYPE=image/png:https://goodmorningwilton.com/wp-content/uploads/2025/02/LWVW-COFFEE-FEB-2025-.png
ORGANIZER;CN="Wilton League of Woman Voters":MAILTO:league@comcast.net
END:VEVENT
BEGIN:VEVENT
DTSTART;TZID=America/New_York:20250314T090000
DTEND;TZID=America/New_York:20250314T103000
DTSTAMP:20260423T161713
CREATED:20250303T203207Z
LAST-MODIFIED:20250303T203207Z
UID:10018817-1741942800-1741948200@goodmorningwilton.com
SUMMARY:Green Drinks with Wilton Go Green
DESCRIPTION:The drinks are not green — we are! Come enjoy a networking opportunity to engage\, educate and inspire one another around green living in Wilton. \nNo reservation is required\, just drop in and say hello!
URL:https://goodmorningwilton.com/event/green-drinks-with-wilton-go-green-2/
LOCATION:Nova Cafe\, 200 Danbury Rd\, Wilton\, CT\, 06897\, United States
CATEGORIES:Coffee,Environmental,Networking,Not for profit
ATTACH;FMTTYPE=image/png:https://goodmorningwilton.com/wp-content/uploads/2025/01/Green-Drinks-WILTON-4-1.png
ORGANIZER;CN="Wilton Go Green":MAILTO:info@wiltongogreen.org
END:VEVENT
BEGIN:VEVENT
DTSTART;TZID=America/New_York:20250404T080000
DTEND;TZID=America/New_York:20250404T100000
DTSTAMP:20260423T161713
CREATED:20250321T043856Z
LAST-MODIFIED:20250321T043856Z
UID:10019241-1743753600-1743760800@goodmorningwilton.com
SUMMARY:Coffee with a Cop
DESCRIPTION:The Wilton Police Department invites the community to Coffee with a Cop\, and event that provides an opportunity to ask questions and meet Wilton police officers. \nThe coffee is on Friday\, Apr. 4\, from 8-10 a.m. at Dunkin’ (35 Danbury Rd.).
URL:https://goodmorningwilton.com/event/coffee-with-a-cop/
LOCATION:Dunkin’\, 35 Danbury Road\, Wilton\, CT\, 06897\, United States
CATEGORIES:Coffee,Free,Government,Open House,Police
ATTACH;FMTTYPE=image/png:https://goodmorningwilton.com/wp-content/uploads/2025/03/Coffee-with-a-Cop-e1742531919887.png
END:VEVENT
END:VCALENDAR