BEGIN:VCALENDAR
VERSION:2.0
PRODID:-//Good Morning Wilton - ECPv6.15.20//NONSGML v1.0//EN
CALSCALE:GREGORIAN
METHOD:PUBLISH
X-ORIGINAL-URL:https://goodmorningwilton.com
X-WR-CALDESC:Events for Good Morning Wilton
REFRESH-INTERVAL;VALUE=DURATION:PT1H
X-Robots-Tag:noindex
X-PUBLISHED-TTL:PT1H
BEGIN:VTIMEZONE
TZID:America/New_York
BEGIN:DAYLIGHT
TZOFFSETFROM:-0500
TZOFFSETTO:-0400
TZNAME:EDT
DTSTART:20200308T070000
END:DAYLIGHT
BEGIN:STANDARD
TZOFFSETFROM:-0400
TZOFFSETTO:-0500
TZNAME:EST
DTSTART:20201101T060000
END:STANDARD
BEGIN:DAYLIGHT
TZOFFSETFROM:-0500
TZOFFSETTO:-0400
TZNAME:EDT
DTSTART:20210314T070000
END:DAYLIGHT
BEGIN:STANDARD
TZOFFSETFROM:-0400
TZOFFSETTO:-0500
TZNAME:EST
DTSTART:20211107T060000
END:STANDARD
BEGIN:DAYLIGHT
TZOFFSETFROM:-0500
TZOFFSETTO:-0400
TZNAME:EDT
DTSTART:20220313T070000
END:DAYLIGHT
BEGIN:STANDARD
TZOFFSETFROM:-0400
TZOFFSETTO:-0500
TZNAME:EST
DTSTART:20221106T060000
END:STANDARD
END:VTIMEZONE
BEGIN:VEVENT
DTSTART;TZID=America/New_York:20210417T100000
DTEND;TZID=America/New_York:20210417T140000
DTSTAMP:20260421T001549
CREATED:20210412T124524Z
LAST-MODIFIED:20210414T212645Z
UID:10010638-1618653600-1618668000@goodmorningwilton.com
SUMMARY:Wilton Garden Club's Daffodil Festival
DESCRIPTION:The Wilton Garden Club is celebrating a very big birthday this year and everyone in town is invited to the Club’s first Daffodil Festival to take place on Saturday\, April 17 from 10 a.m. to 2 p.m. at the Wilton Historical Society. According to Nancy Greeley\, the Garden Club’s president\, “We thought a daffodil festival would be a fun way to kick off our centennial celebration and call attention to the thousands of daffodils we planted around town in the fall for our Wilton’s Golden Miles initiative.” \nThis will be a free one-way drive-through event with lots of contests for all ages to enter and festival-goers are encouraged to go a little “daffy\,” to think daffodils and participate in the fun\, including dressing up for the occasion. As you leave the festival\, follow the daffodil map that will be on display\, to enjoy the gorgeous blooms at six locations around town.
URL:https://goodmorningwilton.com/event/wilton-garden-clubs-daffodil-festival/
LOCATION:Wilton Historical Society\, 224 Danbury Road\, Wilton\, CT
CATEGORIES:Community Celebration,Drive Through,Family Event,Festival,Free,Nature,Not for profit,Outdoor Event
ATTACH;FMTTYPE=image/jpeg:https://goodmorningwilton.com/wp-content/uploads/2021/04/DaffFest-INVITE-printmaster-nicerURL.pub_.jpeg
ORGANIZER;CN="Wilton Garden Club":MAILTO:conservationevent@wiltonct.org
GEO:41.188207;-73.424639
X-APPLE-STRUCTURED-LOCATION;VALUE=URI;X-ADDRESS=Wilton Historical Society 224 Danbury Road Wilton CT;X-APPLE-RADIUS=500;X-TITLE=224 Danbury Road:geo:-73.424639,41.188207
END:VEVENT
BEGIN:VEVENT
DTSTART;TZID=America/New_York:20210319T150000
DTEND;TZID=America/New_York:20210319T180000
DTSTAMP:20260421T001549
CREATED:20210218T220825Z
LAST-MODIFIED:20210220T032806Z
UID:10010422-1616166000-1616176800@goodmorningwilton.com
SUMMARY:Wilton Reads: Book Giveaway for Teens
DESCRIPTION:In support of Wilton Reads 2021\, Wilton Library is offering teens in grades 8-12 a limited number of free copies of The Black Friend: On Being A Better White Person by Frederick Joseph. Many thanks to Kim and Mike Healy for sponsoring this initiative. Teens can pick up their complimentary copy at the library’s drive-thru window on Godfrey Place beginning on Monday\, March 15 3:00 PM. and every afternoon that week while supplies last. Call Teen Services at 203.762.6342. or email with any questions.
URL:https://goodmorningwilton.com/event/wilton-reads-book-giveaway-for-teens/2021-03-19/
LOCATION:Wilton Library
CATEGORIES:Drive Through,Free,Library,Teens
ATTACH;FMTTYPE=image/jpeg:https://goodmorningwilton.com/wp-content/uploads/2021/02/teen_book.jpg
ORGANIZER;CN="Wilton Library":MAILTO:publicity@wiltonlibrary.org
END:VEVENT
BEGIN:VEVENT
DTSTART;TZID=America/New_York:20210318T150000
DTEND;TZID=America/New_York:20210318T180000
DTSTAMP:20260421T001549
CREATED:20210218T220825Z
LAST-MODIFIED:20210220T032806Z
UID:10010421-1616079600-1616090400@goodmorningwilton.com
SUMMARY:Wilton Reads: Book Giveaway for Teens
DESCRIPTION:In support of Wilton Reads 2021\, Wilton Library is offering teens in grades 8-12 a limited number of free copies of The Black Friend: On Being A Better White Person by Frederick Joseph. Many thanks to Kim and Mike Healy for sponsoring this initiative. Teens can pick up their complimentary copy at the library’s drive-thru window on Godfrey Place beginning on Monday\, March 15 3:00 PM. and every afternoon that week while supplies last. Call Teen Services at 203.762.6342. or email with any questions.
URL:https://goodmorningwilton.com/event/wilton-reads-book-giveaway-for-teens/2021-03-18/
LOCATION:Wilton Library
CATEGORIES:Drive Through,Free,Library,Teens
ATTACH;FMTTYPE=image/jpeg:https://goodmorningwilton.com/wp-content/uploads/2021/02/teen_book.jpg
ORGANIZER;CN="Wilton Library":MAILTO:publicity@wiltonlibrary.org
END:VEVENT
BEGIN:VEVENT
DTSTART;TZID=America/New_York:20210317T150000
DTEND;TZID=America/New_York:20210317T180000
DTSTAMP:20260421T001549
CREATED:20210218T220825Z
LAST-MODIFIED:20210220T032806Z
UID:10010420-1615993200-1616004000@goodmorningwilton.com
SUMMARY:Wilton Reads: Book Giveaway for Teens
DESCRIPTION:In support of Wilton Reads 2021\, Wilton Library is offering teens in grades 8-12 a limited number of free copies of The Black Friend: On Being A Better White Person by Frederick Joseph. Many thanks to Kim and Mike Healy for sponsoring this initiative. Teens can pick up their complimentary copy at the library’s drive-thru window on Godfrey Place beginning on Monday\, March 15 3:00 PM. and every afternoon that week while supplies last. Call Teen Services at 203.762.6342. or email with any questions.
URL:https://goodmorningwilton.com/event/wilton-reads-book-giveaway-for-teens/2021-03-17/
LOCATION:Wilton Library
CATEGORIES:Drive Through,Free,Library,Teens
ATTACH;FMTTYPE=image/jpeg:https://goodmorningwilton.com/wp-content/uploads/2021/02/teen_book.jpg
ORGANIZER;CN="Wilton Library":MAILTO:publicity@wiltonlibrary.org
END:VEVENT
BEGIN:VEVENT
DTSTART;TZID=America/New_York:20210316T150000
DTEND;TZID=America/New_York:20210316T180000
DTSTAMP:20260421T001549
CREATED:20210218T220825Z
LAST-MODIFIED:20210220T032806Z
UID:10010419-1615906800-1615917600@goodmorningwilton.com
SUMMARY:Wilton Reads: Book Giveaway for Teens
DESCRIPTION:In support of Wilton Reads 2021\, Wilton Library is offering teens in grades 8-12 a limited number of free copies of The Black Friend: On Being A Better White Person by Frederick Joseph. Many thanks to Kim and Mike Healy for sponsoring this initiative. Teens can pick up their complimentary copy at the library’s drive-thru window on Godfrey Place beginning on Monday\, March 15 3:00 PM. and every afternoon that week while supplies last. Call Teen Services at 203.762.6342. or email with any questions.
URL:https://goodmorningwilton.com/event/wilton-reads-book-giveaway-for-teens/2021-03-16/
LOCATION:Wilton Library
CATEGORIES:Drive Through,Free,Library,Teens
ATTACH;FMTTYPE=image/jpeg:https://goodmorningwilton.com/wp-content/uploads/2021/02/teen_book.jpg
ORGANIZER;CN="Wilton Library":MAILTO:publicity@wiltonlibrary.org
END:VEVENT
BEGIN:VEVENT
DTSTART;TZID=America/New_York:20210315T150000
DTEND;TZID=America/New_York:20210315T180000
DTSTAMP:20260421T001549
CREATED:20210218T220825Z
LAST-MODIFIED:20210220T032806Z
UID:10010418-1615820400-1615831200@goodmorningwilton.com
SUMMARY:Wilton Reads: Book Giveaway for Teens
DESCRIPTION:In support of Wilton Reads 2021\, Wilton Library is offering teens in grades 8-12 a limited number of free copies of The Black Friend: On Being A Better White Person by Frederick Joseph. Many thanks to Kim and Mike Healy for sponsoring this initiative. Teens can pick up their complimentary copy at the library’s drive-thru window on Godfrey Place beginning on Monday\, March 15 3:00 PM. and every afternoon that week while supplies last. Call Teen Services at 203.762.6342. or email with any questions.
URL:https://goodmorningwilton.com/event/wilton-reads-book-giveaway-for-teens/2021-03-15/
LOCATION:Wilton Library
CATEGORIES:Drive Through,Free,Library,Teens
ATTACH;FMTTYPE=image/jpeg:https://goodmorningwilton.com/wp-content/uploads/2021/02/teen_book.jpg
ORGANIZER;CN="Wilton Library":MAILTO:publicity@wiltonlibrary.org
END:VEVENT
BEGIN:VEVENT
DTSTART;TZID=America/New_York:20210223T110000
DTEND;TZID=America/New_York:20210223T130000
DTSTAMP:20260421T001549
CREATED:20210215T194331Z
LAST-MODIFIED:20210219T024005Z
UID:10010435-1614078000-1614085200@goodmorningwilton.com
SUMMARY:Stay at Home in Wilton: Heart Health Gift Bag Drive-Through
DESCRIPTION:For American Heart Month Stay at Home in Wilton is partnering with RVNAhealth to promote heart health. \nReceive a free heart health gift bag Drive-thru at the Wilton Historical Society\, 224 Danbury Rd. on Friday\, Feb. 19\, 11:00 AM – 1:00 PM.  \nThe free gift bag from RVNAhealth includes information on blood pressure\, blood pressure tracking\, grip strength\, and meditation. Additional items include ‘Wallet’ + blood pressure tracking card\, heart-healthy recipe card\, and stress Ball. \nGift bags are available to everyone who is interested and will go to the first 150 registrants. \nRegister with Janet Johnson at 203.762.2600.
URL:https://goodmorningwilton.com/event/stay-at-home-in-wilton-heart-health-gift-bag-drive-through/
LOCATION:Wilton Historical Society\, 224 Danbury Road\, Wilton\, CT
CATEGORIES:Drive Through,Health & Wellness
ATTACH;FMTTYPE=image/png:https://goodmorningwilton.com/wp-content/uploads/2021/02/Heart-weight-lifting-picture.png
ORGANIZER;CN="Stay at Home in Wilton":MAILTO:deb@shwil.org
GEO:41.188207;-73.424639
X-APPLE-STRUCTURED-LOCATION;VALUE=URI;X-ADDRESS=Wilton Historical Society 224 Danbury Road Wilton CT;X-APPLE-RADIUS=500;X-TITLE=224 Danbury Road:geo:-73.424639,41.188207
END:VEVENT
END:VCALENDAR