BEGIN:VCALENDAR
VERSION:2.0
PRODID:-//Good Morning Wilton - ECPv6.15.20//NONSGML v1.0//EN
CALSCALE:GREGORIAN
METHOD:PUBLISH
X-WR-CALNAME:Good Morning Wilton
X-ORIGINAL-URL:https://goodmorningwilton.com
X-WR-CALDESC:Events for Good Morning Wilton
REFRESH-INTERVAL;VALUE=DURATION:PT1H
X-Robots-Tag:noindex
X-PUBLISHED-TTL:PT1H
BEGIN:VTIMEZONE
TZID:America/New_York
BEGIN:DAYLIGHT
TZOFFSETFROM:-0500
TZOFFSETTO:-0400
TZNAME:EDT
DTSTART:20250309T070000
END:DAYLIGHT
BEGIN:STANDARD
TZOFFSETFROM:-0400
TZOFFSETTO:-0500
TZNAME:EST
DTSTART:20251102T060000
END:STANDARD
BEGIN:DAYLIGHT
TZOFFSETFROM:-0500
TZOFFSETTO:-0400
TZNAME:EDT
DTSTART:20260308T070000
END:DAYLIGHT
BEGIN:STANDARD
TZOFFSETFROM:-0400
TZOFFSETTO:-0500
TZNAME:EST
DTSTART:20261101T060000
END:STANDARD
BEGIN:DAYLIGHT
TZOFFSETFROM:-0500
TZOFFSETTO:-0400
TZNAME:EDT
DTSTART:20270314T070000
END:DAYLIGHT
BEGIN:STANDARD
TZOFFSETFROM:-0400
TZOFFSETTO:-0500
TZNAME:EST
DTSTART:20271107T060000
END:STANDARD
END:VTIMEZONE
BEGIN:VEVENT
DTSTART;TZID=America/New_York:20260304T180000
DTEND;TZID=America/New_York:20260304T193000
DTSTAMP:20260420T082901
CREATED:20260206T032735Z
LAST-MODIFIED:20260206T032735Z
UID:10023850-1772647200-1772652600@goodmorningwilton.com
SUMMARY:The College Process: Supporting Your Teen & Finding the Right Fit with Wilton Youth Council
DESCRIPTION:The College Process can feel like a frenzy\, but there are ways to manage it that foster resilience and relationships rather than discord and despair. \n Join the Wilton Youth Council to learn tips\, strategies\, and suggestions for reducing stress\, staying connected to your child\, and managing the process with greater ease and comfort. You will feel better\, and your teen will thank you. \n Susan Bauerfeld\, PhD\, is an experienced Clinical Psychologist who has been providing education and support to parents raising children in the Fairfield County area for over 13 years. In her private practice (from which she retired in 2024)\, she worked with adults and teens struggling with anxiety\, trauma\, learning challenges\, and health issues (including TBI\, chronic pain\, and chronic illness). \n Deena Maerowitz\, JD and MSW\, provides college and graduate school advising for the Bertram Group. \n This program takes place on Wednesday\, March 4\, 6:00 – 7:30 p.m. at the Wilton Library and is brought to you by Wilton Youth Council in partnership with Wilton Library and WHS PTSA. \nRegister Here \n 
URL:https://goodmorningwilton.com/event/the-college-process-supporting-your-teen-finding-the-right-fit-with-wilton-youth-council/
LOCATION:Wilton Library\, 137 Old Ridgefield Rd.\, Wilton\, CT\, 06987
CATEGORIES:Educational,Free,Parenting,Presentation,Teens
ATTACH;FMTTYPE=image/png:https://goodmorningwilton.com/wp-content/uploads/2026/02/GMW-College-Process.png
ORGANIZER;CN="Wilton Youth Council":MAILTO:cring@wiltonyouth.org
END:VEVENT
BEGIN:VEVENT
DTSTART;TZID=America/New_York:20260307T100000
DTEND;TZID=America/New_York:20260307T120000
DTSTAMP:20260420T082901
CREATED:20260216T031055Z
LAST-MODIFIED:20260216T031055Z
UID:10023862-1772877600-1772884800@goodmorningwilton.com
SUMMARY:Woodcock Nature Center Open Hours
DESCRIPTION:The Woodcock Nature Center building will be open to guests and team member will be on hand for a chance to meet and learn about our ambassador animals. No registration is needed. 
URL:https://goodmorningwilton.com/event/woodcock-nature-center-open-hours-2/2026-03-07/
LOCATION:Woodcock Nature Center\, 56 Deer Run Rd\, Wilton\, CT\, 06897\, United States
CATEGORIES:Animals,Educational,Environmental,Family Event,Free,Kids,Nature
ATTACH;FMTTYPE=image/jpeg:https://goodmorningwilton.com/wp-content/uploads/2026/01/Nature-Center-Open-Hours-scaled.jpg
GEO:41.2467853;-73.4737154
X-APPLE-STRUCTURED-LOCATION;VALUE=URI;X-ADDRESS=Woodcock Nature Center 56 Deer Run Rd Wilton CT 06897 United States;X-APPLE-RADIUS=500;X-TITLE=56 Deer Run Rd:geo:-73.4737154,41.2467853
END:VEVENT
BEGIN:VEVENT
DTSTART;TZID=America/New_York:20260307T100000
DTEND;TZID=America/New_York:20260307T120000
DTSTAMP:20260420T082901
CREATED:20260216T191712Z
LAST-MODIFIED:20260216T191712Z
UID:10021953-1772877600-1772884800@goodmorningwilton.com
SUMMARY:Animal Tracks Treasure Hunt at Woodcock Nature Centure
DESCRIPTION:Get outside for a morning of treasure hunting! In this drop-off program\, you will track down a treasure hidden among the trails. While doing so\, you will solve tricky riddles and learn about the tracks that different animals leave behind as they walk through Connecticut forests.  This program is for children in grades Kindergarten – 2nd. \nThis event takes place Saturday\, March 7\, 10:00 a.m. to 12:00 p.m. \nRegistration is required.  $45 per child. \n 
URL:https://goodmorningwilton.com/event/animal-tracks-treasure-hunt-at-woodcock-nature-centure/
LOCATION:Woodcock Nature Center\, 56 Deer Run Rd\, Wilton\, CT\, 06897\, United States
CATEGORIES:Animals,Educational,Environmental,Kids,Nature,Outdoor Event,Walk/Hike
ATTACH;FMTTYPE=image/jpeg:https://goodmorningwilton.com/wp-content/uploads/2026/01/Animal-Tracks-and-Treeez-scaled.jpg
GEO:41.2467853;-73.4737154
X-APPLE-STRUCTURED-LOCATION;VALUE=URI;X-ADDRESS=Woodcock Nature Center 56 Deer Run Rd Wilton CT 06897 United States;X-APPLE-RADIUS=500;X-TITLE=56 Deer Run Rd:geo:-73.4737154,41.2467853
END:VEVENT
BEGIN:VEVENT
DTSTART;TZID=America/New_York:20260307T110000
DTEND;TZID=America/New_York:20260307T120000
DTSTAMP:20260420T082901
CREATED:20260223T214003Z
LAST-MODIFIED:20260223T214040Z
UID:10023873-1772881200-1772884800@goodmorningwilton.com
SUMMARY:Maple Sugaring Open House at Ambler Farm
DESCRIPTION:The sap is running! Come experience a New England tradition: turning sap into syrup on Saturdays\, March 7 + 14 from 11 a.m.- 12:00 p.m.! Kids and families will have an opportunity to tap a tree\, take the maple syrup taste test\, learn about Native American\, colonial\, and modern methods of making syrup + taste Ambler Farm’s very own maple syrup over vanilla ice cream. Bottles of Ambler Farm maple syrup and merchandise will be available for sale. Free and open to the public. No registration required. \n 
URL:https://goodmorningwilton.com/event/maple-sugaring-open-houses-at-ambler-farm/2026-03-07/
LOCATION:Ambler Farm Sugar Shack\, 257 Hurlbutt Street\, Wilton\, 06897\, United States
CATEGORIES:Educational,Environmental,Family Event,Free,Kids,Nature,Outdoor Event,Tasting,Teens
ATTACH;FMTTYPE=image/jpeg:https://goodmorningwilton.com/wp-content/uploads/2026/02/GMW-Ambler-Syrup.jpg
ORGANIZER;CN="Ambler Farm":MAILTO:info@amblerfarm.org
END:VEVENT
BEGIN:VEVENT
DTSTART;TZID=America/New_York:20260311T103000
DTEND;TZID=America/New_York:20260311T123000
DTSTAMP:20260420T082901
CREATED:20260304T183723Z
LAST-MODIFIED:20260304T183723Z
UID:10023876-1773225000-1773232200@goodmorningwilton.com
SUMMARY:Why Are Kids So Complicated? Autism\, ADHD\, and LD
DESCRIPTION:Presented by SPED*NET in partnership with Wilton Library\, Wilton Public Schools\, Eastern CT SEPTA\, and Newtown Sped PTA. \nRegister at wiltonlibrary.org \nClinical psychologist Marcia Eckerd\, PhD\, leads a talk to help make sense of the complexities of learning differences and share how you can support your unique child. \nLocated at Wilton Library (137 Old Ridgefield Road\, Wilton\, CT)\, on Wednesday\, March 11\, 10:30 a.m. to 12:30 p.m.
URL:https://goodmorningwilton.com/event/why-are-kids-so-complicated-autism-adhd-and-ld/
LOCATION:Wilton Library\, 137 Old Ridgefield Rd.\, Wilton\, CT\, 06987
CATEGORIES:Adults,Educational,Free,In Person,Library,Not for profit,Parenting
ATTACH;FMTTYPE=image/jpeg:https://goodmorningwilton.com/wp-content/uploads/2026/02/unnamed.jpg
ORGANIZER;CN="SPED*NET":MAILTO:info@spednet.org
END:VEVENT
BEGIN:VEVENT
DTSTART;TZID=America/New_York:20260312T190000
DTEND;TZID=America/New_York:20260312T200000
DTSTAMP:20260420T082901
CREATED:20260304T192252Z
LAST-MODIFIED:20260304T192252Z
UID:10023884-1773342000-1773345600@goodmorningwilton.com
SUMMARY:America 250: Abigail Adams\, America's First Modern Woman\, as Told by Her Husband John Adams
DESCRIPTION:As we celebrate the 250th anniversary commemorating the American Revolution and the signing of our Declaration of Independence\, the month of March – designated as National Women’s History Month – is a fitting time to celebrate Abigail Adams\, a woman ahead of her time\, as told by her husband John Adams\, portrayed by George Baker. Please join the Wilton Library for this inspiring performance on Thursday\, Mar. 12\, 7:00 – 8:00 p.m. \nSince 2008\, George Baker has portrayed the character of President John Adams in a one-man show throughout the country. He speaks with admiration\, humor\, and affection about his wife\, Abigail\, the “First Modern American Woman\,” describing how she defied the sexist conventions of her time\, that married women could not own property\, yet\, with her amazing financial skills and insights\, made the Adams family prosperous. She helped John found the new nation\, advised him in important political affairs\, and raised their son\, John Quincy Adams\, to be prepared to ultimately become Ambassador to Great Britain\, Secretary of State\, and finally President of the United States. It is a story about their romance\, challenges\, trials\, and accomplishments\, which is the story of ordinary people living in extraordinary times. \nGeorge Baker: \nGeorge Baker has portrayed the character of President John Adams in a one-man show throughout the country at national conventions and venues like Mystic Seaport\, the Presidential Libraries of Harry S Truman\, Dwight D. Eisenhower\, and George H. W. Bush\, and the New York Historical Society\, and was featured as John Adams on NPR‘s weekend program\, Studio 360. George is a graduate of Columbia College and Columbia Law School\, and practiced law in Connecticut from 1973-2024. \nRegistration is requested.  Register online\, or call (203) 762-6334.  \nRegistration will close on March 12\, 2026 at 5:00pm.
URL:https://goodmorningwilton.com/event/america-250-abigail-adams-americas-first-modern-woman-as-told-by-her-husband-john-adams/
LOCATION:Wilton Library\, 137 Old Ridgefield Rd.\, Wilton\, CT\, 06987
CATEGORIES:Educational,Free,Historic,Library,Performance,Women
ATTACH;FMTTYPE=image/jpeg:https://goodmorningwilton.com/wp-content/uploads/2026/03/GMW-Abigail-Adams.jpeg
END:VEVENT
BEGIN:VEVENT
DTSTART;TZID=America/New_York:20260314T110000
DTEND;TZID=America/New_York:20260314T120000
DTSTAMP:20260420T082901
CREATED:20260223T214003Z
LAST-MODIFIED:20260223T214040Z
UID:10023874-1773486000-1773489600@goodmorningwilton.com
SUMMARY:Maple Sugaring Open House at Ambler Farm
DESCRIPTION:The sap is running! Come experience a New England tradition: turning sap into syrup on Saturdays\, March 7 + 14 from 11 a.m.- 12:00 p.m.! Kids and families will have an opportunity to tap a tree\, take the maple syrup taste test\, learn about Native American\, colonial\, and modern methods of making syrup + taste Ambler Farm’s very own maple syrup over vanilla ice cream. Bottles of Ambler Farm maple syrup and merchandise will be available for sale. Free and open to the public. No registration required. \n 
URL:https://goodmorningwilton.com/event/maple-sugaring-open-houses-at-ambler-farm/2026-03-14/
LOCATION:Ambler Farm Sugar Shack\, 257 Hurlbutt Street\, Wilton\, 06897\, United States
CATEGORIES:Educational,Environmental,Family Event,Free,Kids,Nature,Outdoor Event,Tasting,Teens
ATTACH;FMTTYPE=image/jpeg:https://goodmorningwilton.com/wp-content/uploads/2026/02/GMW-Ambler-Syrup.jpg
ORGANIZER;CN="Ambler Farm":MAILTO:info@amblerfarm.org
END:VEVENT
BEGIN:VEVENT
DTSTART;TZID=America/New_York:20260314T120000
DTEND;TZID=America/New_York:20260314T153000
DTSTAMP:20260420T082901
CREATED:20260223T215734Z
LAST-MODIFIED:20260223T215734Z
UID:10023875-1773489600-1773502200@goodmorningwilton.com
SUMMARY:The Wilton Historical Society Presents: Etuaptmumk: Two Eyed Seeing Lecture
DESCRIPTION:Join the Wilton Historical Society on Saturday\, March 14\, from 12:00 p.m. – 3:30 p.m. for the Etuaptmumk: Two Eyed Seeing Lecture \nEtuaptmumk is a Mi’kmaw saying that translates to “Two – Eyed Seeing.” This concept refers to learning how to see from one eye the strengths of Indigenous knowledge\, and from the other eye the strengths of Western knowledge. Two-Eyed Seeing can lead to powerful collaborative work between Native and Non-Native people with the goal of leaving the world a better place for future generations. Join educational outreach ambassador and traditional storyteller\, Darlene Kascak\, from the Schaghticoke Tribal Nation for an interactive presentation and discussion that examines how people can include this “Two-Eyed Seeing” concept in their daily lives. \nAbout Darlene:\nDarlene Kascak is the Educational Outreach Ambassador for The Institute for American Indian Studies Museum and Research Center in Washington\, Connecticut. Darlene is also a Traditional Native American Storyteller and an active member of the Schaghticoke Tribal Nation. At the museum\, Darlene develops and teaches educational programs that tell the 12\,000-year story of Quinnetukut’s Indigenous Peoples. \n  \nAdmission:\nFree for Wilton Historical Society Members\n$10 per person for non-members.\nRegistration required: https://wiltonhistorical.org/events/event/etuaptmunk-two-eyed-seeing/ \nThis program is made possible by funding provided by the Elizabeth Raymond Ambler Trust.
URL:https://goodmorningwilton.com/event/the-wilton-historical-society-presents-etuaptmumk-two-eyed-seeing-lecture/
LOCATION:Wilton Historical Society\, 224 Danbury Road\, Wilton\, CT
CATEGORIES:Educational,In Person,Lecture,Not for profit
ATTACH;FMTTYPE=image/jpeg:https://goodmorningwilton.com/wp-content/uploads/2026/02/Dar-Photo-BIO-2.jpg
ORGANIZER;CN="Wilton Historical Society":MAILTO:info@wiltonhistorical.org
GEO:41.188207;-73.424639
X-APPLE-STRUCTURED-LOCATION;VALUE=URI;X-ADDRESS=Wilton Historical Society 224 Danbury Road Wilton CT;X-APPLE-RADIUS=500;X-TITLE=224 Danbury Road:geo:-73.424639,41.188207
END:VEVENT
BEGIN:VEVENT
DTSTART;TZID=America/New_York:20260314T140000
DTEND;TZID=America/New_York:20260314T160000
DTSTAMP:20260420T082901
CREATED:20260225T181316Z
LAST-MODIFIED:20260225T181316Z
UID:10023867-1773496800-1773504000@goodmorningwilton.com
SUMMARY:Wilton Go Green's Green Speaker Series- Shaping Wilton’s Energy Future: An Interactive Community Forum
DESCRIPTION:Join Wilton Go Green on Saturday\, March 14\, from 2:00 – 4:00 p.m. for an informative and interactive afternoon discussing the energy issues facing Wilton and Connecticut\, and explore how we can work as a community to become more energy efficient. From Global warming and data centers to high electric bills and sustainable energy solutions\, energy has been in the news and top of mind for Wilton residents. How can we lower costs\, improve local resiliency\, and advocate for smarter state policies?  Come get the facts and share your voice at the Wilton Library. \n 
URL:https://goodmorningwilton.com/event/wilton-go-greens-green-speaker-series-shaping-wiltons-energy-future-an-interactive-community-forum/
LOCATION:Wilton Library\, 137 Old Ridgefield Rd.\, Wilton\, CT\, 06987
CATEGORIES:Adults,discussion,Educational,Environmental,Free,In Person,Library,Not for profit
ATTACH;FMTTYPE=image/png:https://goodmorningwilton.com/wp-content/uploads/2026/02/Wiltons-Energy-Future.png
ORGANIZER;CN="Wilton Go Green":MAILTO:info@wiltongogreen.org
END:VEVENT
BEGIN:VEVENT
DTSTART;TZID=America/New_York:20260314T140000
DTEND;TZID=America/New_York:20260314T160000
DTSTAMP:20260420T082901
CREATED:20260304T185726Z
LAST-MODIFIED:20260304T185726Z
UID:10023882-1773496800-1773504000@goodmorningwilton.com
SUMMARY:Wilton Go Green's Green Speaker Series - Shaping Wilton’s Energy Future: An Interactive Community Forum
DESCRIPTION:Join Wilton Go Green on Saturday\, Mar. 14\, for an informative and interactive afternoon discussing the energy issues facing Wilton and Connecticut\, and explore how we can work as a community to become more energy efficient. From Global warming and data centers to high electric bills and sustainable energy solutions\, energy has been in the news and top of mind for Wilton residents. How can we lower costs\, improve local resiliency\, and advocate for smarter state policies?  Come get the facts and share your voice. \nEvent Schedule: \n\n2:00 p.m.-3:00 p.m. | Expert Panel & Open Forum:Our expert panel will present the current energy landscape in Connecticut and Wilton\, followed by a moderated Q&A.\n3:00 p.m.-4:00 p.m. | Interactive Breakout Sessions:Join a small group to explore the topics that matter most to you.  Potential topics including:\n\nSolar Energy/Battery Storage\nEV Infrastructure\nThe New England Grid\nNuclear Energy in Connecticut\nEnergy efficient residences\nEnergy Efficiency for the Town of Wilton\n\n\n\nAbout our Panel: \nWe are joined by three experts from PACE\, People’s Action for Clean Energy. Working with towns and individuals to improve energy efficiency\, conservation\, and clean renewable energy across Connecticut\, PACE provides outreach and education on clean energy issues at public events\, legislative hearings and environmental forums. \nMark Scully has long been interested in clean energy\, energy efficiency and recycling. He has served as President of PACE since 2016 and recently introduced its Clean Energy Action Center. A native of Simsbury\, Mark is active in his local Sustainability Committee. He sits on the Advisory Committee of the CT Coalition for Climate Action and speaks regularly on solar and other clean energy issues. \nBernard Pelletier serves as a Vice President for PACE. He also volunteers at the state level recently joining Connecticut’s Energy Efficiency Board as the Residential Representative. Prior to that he co-chaired the Building Working Group of the Governor’s Council on Climate Change. His focus is on building energy efficiency and renewable energy adoption. Additionally\, he is a member of the Connecticut Energy Network’s Steering. \nA former middle school Tech Ed teacher\, Andy Bauer\, became a grassroots environmental activist in 2000 with the ‘Sooty Six’ campaign to clean up old and dirty power plants. That greatly expanded his understanding of the various impacts of non-renewable forms of power and the ability of regular citizens to do something about it. In 2005\, he founded the Portland\, CT\, Clean Energy Task Force\, which he continues to Chair. Andy became Coordinator of the CT Energy Network in 2024 and hosted a 2025 press conference at the legislature\, highlighting the many necessary aspects of CT’s Public Benefits Charge. When not out ‘saving the planet’\, he’s a farmhand\, a carpenter\, a hiker\, and a speaker to Leaders-in-Training at his beloved YMCA Camp Woodstock. \nRegistration is required for this event and will close on Mar. 14\, 2026\, at 12:00 p.m.
URL:https://goodmorningwilton.com/event/wilton-go-greens-green-speaker-series-shaping-wiltons-energy-future-an-interactive-community-forum-2/
LOCATION:Wilton Library Brubeck Room\, 137 Old Ridgefield Rd\, Wilton\, 06897\, United States
CATEGORIES:Educational,Environmental,Free,In Person,Library,Presentation
ATTACH;FMTTYPE=image/png:https://goodmorningwilton.com/wp-content/uploads/2026/03/GMW-Go-Green.png
ORGANIZER;CN="Wilton Go Green":MAILTO:info@wiltongogreen.org
END:VEVENT
BEGIN:VEVENT
DTSTART;TZID=America/New_York:20260323T093000
DTEND;TZID=America/New_York:20260323T110000
DTSTAMP:20260420T082901
CREATED:20260216T192333Z
LAST-MODIFIED:20260216T192333Z
UID:10023863-1774258200-1774263600@goodmorningwilton.com
SUMMARY:Home Garden Workshop with Ambler Farm
DESCRIPTION:Do you ever wish your garden would yield the same beautiful produce that our own Farmer Jonathan Kirschner grows? It can – and now is the time to start planning! Jonathan Kirschner\, Director of Agriculture\, is offering this workshop to help you create your own bountiful garden. He will walk you through his steps and show you how to adapt these processes to your garden. Topics will include: Crop Selection\, Starting Seedlings\, Timing\, Spacing\, Basic Soil Nutrition + Home Composting\, and Basic Garden Design. Breakfast items and beverages are included. \nThis event takes place on Monday\, March 23\, from 9:30 a.m. to 11:00 a.m. \nTickets are $30 per Member and $35 per Non-Member \nRegister Here 
URL:https://goodmorningwilton.com/event/home-garden-workshop-with-ambler-farm/
LOCATION:Ambler Farm\, 257 Hurlbutt Street\, Wilton\, CT\, 06897
CATEGORIES:Educational,Environmental,In Person,Nature,Not for profit,Workshop
ATTACH;FMTTYPE=image/jpeg:https://goodmorningwilton.com/wp-content/uploads/2026/02/GMW-Garden.jpg
ORGANIZER;CN="Ambler Farm":MAILTO:info@amblerfarm.org
END:VEVENT
BEGIN:VEVENT
DTSTART;TZID=America/New_York:20260325T130000
DTEND;TZID=America/New_York:20260325T140000
DTSTAMP:20260420T082901
CREATED:20260304T191004Z
LAST-MODIFIED:20260304T191004Z
UID:10023883-1774443600-1774447200@goodmorningwilton.com
SUMMARY:Get Well\, Stay Well: Senior Nutrition - How to be Supermarket Savvy
DESCRIPTION:Please join the Wilton Library in the Rimer Room on Wednesday\, Mar. 25\, from 1:00 – 2:00 p.m. for an important talk on Senior Nutrition. Food labels can be confusing and\, in many cases\, misleading. Learn what it all means and how to make healthier choices at the Supermarket. \nChristine Burns is the Community Health Coordinator at Waveny/Visiting Nurse and Hospice. She has been in practice for 34 years and focuses on Healthy Aging and disease prevention. \nRegistration is required for this event and will close on March 25\, 2026 @ 11:00 a.m.
URL:https://goodmorningwilton.com/event/get-well-stay-well-senior-nutrition-how-to-be-supermarket-savvy/
LOCATION:Wilton Library\, 137 Old Ridgefield Rd.\, Wilton\, CT\, 06987
CATEGORIES:Adults,Educational,Free,Health & Wellness,Seniors
ATTACH;FMTTYPE=image/png:https://goodmorningwilton.com/wp-content/uploads/2026/03/GMW-Senior-Wellness.png
END:VEVENT
BEGIN:VEVENT
DTSTART;TZID=America/New_York:20260328T100000
DTEND;TZID=America/New_York:20260328T140000
DTSTAMP:20260420T082901
CREATED:20260323T204855Z
LAST-MODIFIED:20260323T204855Z
UID:10023911-1774692000-1774706400@goodmorningwilton.com
SUMMARY:The Human Library at Wilton Library
DESCRIPTION:The Human Library is returning to Wilton Library on Saturday\, Mar. 28\, 10:00 a.m. – 2:00 p.m.! The Human Library is a community event featuring a library of people – human Books – and their experiences with prejudice\, bias\, or discrimination based on aspects of their person\, heritage\, or life experiences. “Books” will be on loan to “Readers” for a 25-minute one-on-one conversation in a safe space. \nThis event is intended for ages 12 and up. \nSponsored by ASML. \nNo registration required.
URL:https://goodmorningwilton.com/event/the-human-library-at-wilton-library/
LOCATION:Wilton Library\, 137 Old Ridgefield Rd.\, Wilton\, CT\, 06987
CATEGORIES:Adults,Educational,Free,Library,Not for profit,Teens
ATTACH;FMTTYPE=image/jpeg:https://goodmorningwilton.com/wp-content/uploads/2026/03/GMW-Human-Lib.jpg
END:VEVENT
BEGIN:VEVENT
DTSTART;TZID=America/New_York:20260328T140000
DTEND;TZID=America/New_York:20260328T150000
DTSTAMP:20260420T082901
CREATED:20260308T164057Z
LAST-MODIFIED:20260308T164821Z
UID:10023886-1774706400-1774710000@goodmorningwilton.com
SUMMARY:Book Talk: The Battle of Ridgefield\, by Keith Marshall Jones III
DESCRIPTION:Join the Wilton Historical Society on Saturday\, Mar. 28\, from  2:00 – 3:00 p.m.  for a talk by historian and author Keith Marshall Jones III\, featuring his book The Battle of Ridgefield. Discover the largest battle in inland Connecticut during the Revolutionary War through a lively discussion that brings local history to life. The book integrates findings from a new generation of historians with the National Park Service’s 2022 Ridgefield Battlefield Protection Program Phase I Study\, and a digital trove of never-before-published archival primary source material. \nFollowing the book talk\, questions are welcome\, and books will be available for purchase and signing. \nRegistration Required\nWilton Historical Society Members – FREE\nNon-Members – $10
URL:https://goodmorningwilton.com/event/book-talk-the-battle-of-ridgefield-by-keith-marshall-jones-iii/
LOCATION:Wilton Historical Society\, 224 Danbury Road\, Wilton\, CT
CATEGORIES:Book Signing,Educational,Historic
ATTACH;FMTTYPE=image/jpeg:https://goodmorningwilton.com/wp-content/uploads/2026/03/Battle-of-Ridgefield-Keith-Jones-450x700-1.jpg
ORGANIZER;CN="Wilton Historical Society":MAILTO:info@wiltonhistorical.org
GEO:41.188207;-73.424639
X-APPLE-STRUCTURED-LOCATION;VALUE=URI;X-ADDRESS=Wilton Historical Society 224 Danbury Road Wilton CT;X-APPLE-RADIUS=500;X-TITLE=224 Danbury Road:geo:-73.424639,41.188207
END:VEVENT
BEGIN:VEVENT
DTSTART;TZID=America/New_York:20260328T173000
DTEND;TZID=America/New_York:20260328T203000
DTSTAMP:20260420T082901
CREATED:20260304T184543Z
LAST-MODIFIED:20260304T184543Z
UID:10023868-1774719000-1774729800@goodmorningwilton.com
SUMMARY:Wild & Scenic Film Festival
DESCRIPTION:Join community partners: Norwalk River Valley Trail\, Norwalk River Watershed Association\, Pollinator Pathway\, Trout Unlimited\, Wilton Go Green\, Wilton Land Trust\, and Woodcock Nature Center for a film festival. Nine films will be shown on Saturday\, Mar. 28\, 5:30 p.m. – 8:30 p.m. at the Wilton High School Little Theater. Proceeds directly benefit their shared mission to foster sustainability\, conservation\, and a deeper connection to the environment. \nThis community fundraiser is an evening of inspiration\, education\, and entertainment. Tickets are $25 ($20 for seniors and students K-12)\n\nRegister Here
URL:https://goodmorningwilton.com/event/wild-scenic-film-festival/
LOCATION:The Little Theater at Wilton High School\, 395 Danbury Road\, Wilton\, CT\, 06897\, United States
CATEGORIES:Educational,Environmental,Festival,Film
ATTACH;FMTTYPE=image/png:https://goodmorningwilton.com/wp-content/uploads/2026/02/1.png
ORGANIZER;CN="Norwalk River Valley Trail (NRVT)":MAILTO:bmerrill@nrvt-trail.com
END:VEVENT
END:VCALENDAR