BEGIN:VCALENDAR
VERSION:2.0
PRODID:-//Good Morning Wilton - ECPv6.15.20//NONSGML v1.0//EN
CALSCALE:GREGORIAN
METHOD:PUBLISH
X-WR-CALNAME:Good Morning Wilton
X-ORIGINAL-URL:https://goodmorningwilton.com
X-WR-CALDESC:Events for Good Morning Wilton
REFRESH-INTERVAL;VALUE=DURATION:PT1H
X-Robots-Tag:noindex
X-PUBLISHED-TTL:PT1H
BEGIN:VTIMEZONE
TZID:America/New_York
BEGIN:DAYLIGHT
TZOFFSETFROM:-0500
TZOFFSETTO:-0400
TZNAME:EDT
DTSTART:20250309T070000
END:DAYLIGHT
BEGIN:STANDARD
TZOFFSETFROM:-0400
TZOFFSETTO:-0500
TZNAME:EST
DTSTART:20251102T060000
END:STANDARD
BEGIN:DAYLIGHT
TZOFFSETFROM:-0500
TZOFFSETTO:-0400
TZNAME:EDT
DTSTART:20260308T070000
END:DAYLIGHT
BEGIN:STANDARD
TZOFFSETFROM:-0400
TZOFFSETTO:-0500
TZNAME:EST
DTSTART:20261101T060000
END:STANDARD
BEGIN:DAYLIGHT
TZOFFSETFROM:-0500
TZOFFSETTO:-0400
TZNAME:EDT
DTSTART:20270314T070000
END:DAYLIGHT
BEGIN:STANDARD
TZOFFSETFROM:-0400
TZOFFSETTO:-0500
TZNAME:EST
DTSTART:20271107T060000
END:STANDARD
END:VTIMEZONE
BEGIN:VEVENT
DTSTART;TZID=America/New_York:20260122T190000
DTEND;TZID=America/New_York:20260122T200000
DTSTAMP:20260423T164602
CREATED:20251230T223258Z
LAST-MODIFIED:20251230T223258Z
UID:10021512-1769108400-1769112000@goodmorningwilton.com
SUMMARY:Wilton Historical Society Documentary Screening: The Hidden History of Slavery in New York
DESCRIPTION:The Hidden History of Slavery in New York digs deeply into an infamous chapter in our country that hasn’t always made its way into the history books. The film features Bryan Stevenson\, founder of the Equal Justice Initiative\, and explores how the Transatlantic trade of enslaved people was centered in the north\, not the south\, in the 17th and 18th century — with New Amsterdam as its epicenter — and Wall Street as its largest market. Journalist Larry Epstein wrote\, produced and researched the project\, which won an award at the 67th annual NY Emmy Awards. \nOn Thursday\, Jan. 22\, at 7 p.m. at the Wilton Historical Society\, Epstein will present this film along with a Q&A session afterwards. \nEpstein is a two-time Emmy award-winning documentary and news producer\, journalist\, writer\, anchor and corporate copywriter. He is a former executive producer at MSNBC and former senior-level producer at the Fox News Channel and Fox Business Network. \nSpace is limited and registration is required. The cost to attend is $10 per person for non-members\, free for Wilton Historical Society members.
URL:https://goodmorningwilton.com/event/wilton-historical-society-documentary-screening-the-hidden-history-of-slavery-in-new-york/
LOCATION:Wilton Historical Society\, 224 Danbury Road\, Wilton\, CT
CATEGORIES:Film,Historic,Lecture,Presentation,Screening
ATTACH;FMTTYPE=image/jpeg:https://goodmorningwilton.com/wp-content/uploads/2025/12/TheHiddenHistoryofSlaveryinNewYorkLogo.jpeg
ORGANIZER;CN="Wilton Historical Society":MAILTO:info@wiltonhistorical.org
GEO:41.188207;-73.424639
X-APPLE-STRUCTURED-LOCATION;VALUE=URI;X-ADDRESS=Wilton Historical Society 224 Danbury Road Wilton CT;X-APPLE-RADIUS=500;X-TITLE=224 Danbury Road:geo:-73.424639,41.188207
END:VEVENT
BEGIN:VEVENT
DTSTART;TZID=America/New_York:20260328T173000
DTEND;TZID=America/New_York:20260328T203000
DTSTAMP:20260423T164602
CREATED:20260304T184543Z
LAST-MODIFIED:20260304T184543Z
UID:10023868-1774719000-1774729800@goodmorningwilton.com
SUMMARY:Wild & Scenic Film Festival
DESCRIPTION:Join community partners: Norwalk River Valley Trail\, Norwalk River Watershed Association\, Pollinator Pathway\, Trout Unlimited\, Wilton Go Green\, Wilton Land Trust\, and Woodcock Nature Center for a film festival. Nine films will be shown on Saturday\, Mar. 28\, 5:30 p.m. – 8:30 p.m. at the Wilton High School Little Theater. Proceeds directly benefit their shared mission to foster sustainability\, conservation\, and a deeper connection to the environment. \nThis community fundraiser is an evening of inspiration\, education\, and entertainment. Tickets are $25 ($20 for seniors and students K-12)\n\nRegister Here
URL:https://goodmorningwilton.com/event/wild-scenic-film-festival/
LOCATION:The Little Theater at Wilton High School\, 395 Danbury Road\, Wilton\, CT\, 06897\, United States
CATEGORIES:Educational,Environmental,Festival,Film
ATTACH;FMTTYPE=image/png:https://goodmorningwilton.com/wp-content/uploads/2026/02/1.png
ORGANIZER;CN="Norwalk River Valley Trail (NRVT)":MAILTO:bmerrill@nrvt-trail.com
END:VEVENT
BEGIN:VEVENT
DTSTART;TZID=America/New_York:20260331T190000
DTEND;TZID=America/New_York:20260331T203000
DTSTAMP:20260423T164602
CREATED:20260317T184500Z
LAST-MODIFIED:20260317T184500Z
UID:10023891-1774983600-1774989000@goodmorningwilton.com
SUMMARY:The Wilton Library Presents Film Screening: “Join or Die”
DESCRIPTION:Please join the Wilton Library at a special screening of Join or Die\, a film about why you should join a club…and why the fate of America depends on it. \nIn this Emmy-nominated feature documentary\, follow the half-century story of America’s civic unraveling through the journey of legendary social scientist Robert Putnam\, whose groundbreaking Bowling Alone research into America’s decades-long decline in community connections could hold the answers to our democracy’s present crisis. The film also discusses the direct impact of social disconnection on mortality rates\, arguing that people living in social isolation die earlier than those with stronger social bonds. Flanked by influential fans and scholars — from Priya Parker\, Pete Buttigieg\, and Surgeon General Vivek Murthy to Jane McAlevey\, and Eddie Glaude Jr. — as well as inspiring groups building community in neighborhoods across the country\, Bob explores three urgent civic questions: What makes democracy work? Why is American democracy in crisis? And\, most importantly… What can we do about it? \nAbout Robert Putnam: \nHarvard professor Robert D. Putnam is America’s preeminent political scientist — and one of the most widely read and cited social scientists living today. Author of fourteen books\, translated into twenty languages\, his work focuses on asking big questions about American society and deploying immense\, creative studies and analyses to unlock answers. \nHis Bowling Alone research — which demonstrated that levels of American community connections were in decline over the past half-century — rocketed Putnam to national fame in the late 1990s\, earning him the moniker “the poet laureate of civil society” and the ear of presidents\, religious leaders\, and tech founders over the coming decades. In 2012\, Putnam received the National Humanities Medal\, the nation’s highest honor for contributions to the humanities. As more Americans turn on to the reality of our social isolation crisis\, a consistent drumbeat of media interest in revisiting Putnam’s work has grown. More information is available at https://joinordiefilm.com/. \nDoors will open at 6:30 p.m\, with the film to begin at 7:00 p.m. The run time is 90 minutes. Movie snacks & refreshments provided. \nRegistration is requested. Please register online or call (203) 762-6334. \nThis program is made possible by the generosity and collaboration of Block Party USA\, Town of Wilton Social Services\, Wilton Library\, Wilton Public Schools\, and Wilton Youth Council.
URL:https://goodmorningwilton.com/event/the-wilton-library-presents-film-screening-join-or-die/
LOCATION:Wilton Library\, 137 Old Ridgefield Rd.\, Wilton\, CT\, 06987
CATEGORIES:Adults,Film,In Person,Library
ATTACH;FMTTYPE=image/jpeg:https://goodmorningwilton.com/wp-content/uploads/2026/03/GMW-Join-or-Die.jpg
END:VEVENT
END:VCALENDAR