BEGIN:VCALENDAR
VERSION:2.0
PRODID:-//Good Morning Wilton - ECPv6.15.20//NONSGML v1.0//EN
CALSCALE:GREGORIAN
METHOD:PUBLISH
X-ORIGINAL-URL:https://goodmorningwilton.com
X-WR-CALDESC:Events for Good Morning Wilton
REFRESH-INTERVAL;VALUE=DURATION:PT1H
X-Robots-Tag:noindex
X-PUBLISHED-TTL:PT1H
BEGIN:VTIMEZONE
TZID:America/New_York
BEGIN:DAYLIGHT
TZOFFSETFROM:-0500
TZOFFSETTO:-0400
TZNAME:EDT
DTSTART:20250309T070000
END:DAYLIGHT
BEGIN:STANDARD
TZOFFSETFROM:-0400
TZOFFSETTO:-0500
TZNAME:EST
DTSTART:20251102T060000
END:STANDARD
BEGIN:DAYLIGHT
TZOFFSETFROM:-0500
TZOFFSETTO:-0400
TZNAME:EDT
DTSTART:20260308T070000
END:DAYLIGHT
BEGIN:STANDARD
TZOFFSETFROM:-0400
TZOFFSETTO:-0500
TZNAME:EST
DTSTART:20261101T060000
END:STANDARD
BEGIN:DAYLIGHT
TZOFFSETFROM:-0500
TZOFFSETTO:-0400
TZNAME:EDT
DTSTART:20270314T070000
END:DAYLIGHT
BEGIN:STANDARD
TZOFFSETFROM:-0400
TZOFFSETTO:-0500
TZNAME:EST
DTSTART:20271107T060000
END:STANDARD
BEGIN:DAYLIGHT
TZOFFSETFROM:-0500
TZOFFSETTO:-0400
TZNAME:EDT
DTSTART:20280312T070000
END:DAYLIGHT
BEGIN:STANDARD
TZOFFSETFROM:-0400
TZOFFSETTO:-0500
TZNAME:EST
DTSTART:20281105T060000
END:STANDARD
END:VTIMEZONE
BEGIN:VEVENT
DTSTART;TZID=America/New_York:20260701T190000
DTEND;TZID=America/New_York:20260701T210000
DTSTAMP:20260419T121023
CREATED:20250819T085702Z
LAST-MODIFIED:20250819T085702Z
UID:10019544-1782932400-1782939600@goodmorningwilton.com
SUMMARY:Conservation Committee Meeting
DESCRIPTION:The Wilton Conservation Commission meets to discuss environmental issues\, such as management of town-owned land\, education of residents on eco-friendly practices\, and development of Wilton’s natural resources. The Conservation Commission advises the Planning & Zoning Commission\, the Inland Wetlands Commission\, and private individuals and groups. The public can attend these open meetings in person or via Zoom.
URL:https://goodmorningwilton.com/event/conservation-committee-meeting/2026-07-01/
LOCATION:Comstock Community Center
CATEGORIES:Civic,discussion,Environmental,Free,Government,In Person,Meeting,Nature,Online,Town/Government Meeting,Zoom Call
ATTACH;FMTTYPE=image/jpeg:https://goodmorningwilton.com/wp-content/uploads/2022/04/Town-Hall-3.jpeg
END:VEVENT
BEGIN:VEVENT
DTSTART;TZID=America/New_York:20260708T173000
DTEND;TZID=America/New_York:20260708T203000
DTSTAMP:20260419T121023
CREATED:20250819T093652Z
LAST-MODIFIED:20250819T095415Z
UID:10019815-1783531800-1783542600@goodmorningwilton.com
SUMMARY:Wilton Water Pollution Control Authority Meeting
DESCRIPTION:The Water Pollution Control Authority meets to discuss the management of the sewers and pump stations in Wilton. The public can attend these open meetings in person or via Zoom.
URL:https://goodmorningwilton.com/event/water-pollution-control-authority-meeting/2026-07-08/
LOCATION:Comstock Community Center
CATEGORIES:Civic,discussion,Free,Government,In Person,Meeting,Online,Town/Government Meeting,Zoom Call
ATTACH;FMTTYPE=image/jpeg:https://goodmorningwilton.com/wp-content/uploads/2022/04/Town-Hall-3.jpeg
END:VEVENT
BEGIN:VEVENT
DTSTART;TZID=America/New_York:20260713T190000
DTEND;TZID=America/New_York:20260713T210000
DTSTAMP:20260419T121023
CREATED:20250819T090846Z
LAST-MODIFIED:20250819T090949Z
UID:10019654-1783969200-1783976400@goodmorningwilton.com
SUMMARY:Planning and Zoning Commission Meeting
DESCRIPTION:The Planning and Zoning Commission (P&Z) meets electronically to discuss and make decisions about land use and development in Wilton. The public can attend these open meetings via Zoom.
URL:https://goodmorningwilton.com/event/planning-and-zoning-commission-meeting-2/2026-07-13/
LOCATION:Online
CATEGORIES:Civic,discussion,Free,Government,Meeting,Online,Town/Government Meeting,Zoom Call
ATTACH;FMTTYPE=image/jpeg:https://goodmorningwilton.com/wp-content/uploads/2022/04/Town-Hall-3.jpeg
END:VEVENT
BEGIN:VEVENT
DTSTART;TZID=America/New_York:20260721T190000
DTEND;TZID=America/New_York:20260721T210000
DTSTAMP:20260419T121023
CREATED:20250819T094331Z
LAST-MODIFIED:20250819T094331Z
UID:10019519-1784660400-1784667600@goodmorningwilton.com
SUMMARY:Board of Selectmen Meeting
DESCRIPTION:The Board of Selectmen meet to discuss carrying out town government policies and administrative and budgetary matters. The public can attend these open meetings in person or via Zoom.
URL:https://goodmorningwilton.com/event/board-of-selectmen-meeting-4/2026-07-21/
LOCATION:Comstock Community Center
CATEGORIES:Civic,discussion,Free,Government,In Person,Meeting,Online,Town/Government Meeting,Zoom Call
ATTACH;FMTTYPE=image/jpeg:https://goodmorningwilton.com/wp-content/uploads/2022/04/Town-Hall-3.jpeg
END:VEVENT
BEGIN:VEVENT
DTSTART;TZID=America/New_York:20260810T190000
DTEND;TZID=America/New_York:20260810T210000
DTSTAMP:20260419T121023
CREATED:20250819T090846Z
LAST-MODIFIED:20250819T090949Z
UID:10019655-1786388400-1786395600@goodmorningwilton.com
SUMMARY:Planning and Zoning Commission Meeting
DESCRIPTION:The Planning and Zoning Commission (P&Z) meets electronically to discuss and make decisions about land use and development in Wilton. The public can attend these open meetings via Zoom.
URL:https://goodmorningwilton.com/event/planning-and-zoning-commission-meeting-2/2026-08-10/
LOCATION:Online
CATEGORIES:Civic,discussion,Free,Government,Meeting,Online,Town/Government Meeting,Zoom Call
ATTACH;FMTTYPE=image/jpeg:https://goodmorningwilton.com/wp-content/uploads/2022/04/Town-Hall-3.jpeg
END:VEVENT
BEGIN:VEVENT
DTSTART;TZID=America/New_York:20260818T190000
DTEND;TZID=America/New_York:20260818T210000
DTSTAMP:20260419T121023
CREATED:20250819T094331Z
LAST-MODIFIED:20250819T094331Z
UID:10019520-1787079600-1787086800@goodmorningwilton.com
SUMMARY:Board of Selectmen Meeting
DESCRIPTION:The Board of Selectmen meet to discuss carrying out town government policies and administrative and budgetary matters. The public can attend these open meetings in person or via Zoom.
URL:https://goodmorningwilton.com/event/board-of-selectmen-meeting-4/2026-08-18/
LOCATION:Comstock Community Center
CATEGORIES:Civic,discussion,Free,Government,In Person,Meeting,Online,Town/Government Meeting,Zoom Call
ATTACH;FMTTYPE=image/jpeg:https://goodmorningwilton.com/wp-content/uploads/2022/04/Town-Hall-3.jpeg
END:VEVENT
BEGIN:VEVENT
DTSTART;TZID=America/New_York:20260914T190000
DTEND;TZID=America/New_York:20260914T210000
DTSTAMP:20260419T121023
CREATED:20250819T090846Z
LAST-MODIFIED:20250819T090949Z
UID:10019656-1789412400-1789419600@goodmorningwilton.com
SUMMARY:Planning and Zoning Commission Meeting
DESCRIPTION:The Planning and Zoning Commission (P&Z) meets electronically to discuss and make decisions about land use and development in Wilton. The public can attend these open meetings via Zoom.
URL:https://goodmorningwilton.com/event/planning-and-zoning-commission-meeting-2/2026-09-14/
LOCATION:Online
CATEGORIES:Civic,discussion,Free,Government,Meeting,Online,Town/Government Meeting,Zoom Call
ATTACH;FMTTYPE=image/jpeg:https://goodmorningwilton.com/wp-content/uploads/2022/04/Town-Hall-3.jpeg
END:VEVENT
BEGIN:VEVENT
DTSTART;TZID=America/New_York:20261012T190000
DTEND;TZID=America/New_York:20261012T210000
DTSTAMP:20260419T121023
CREATED:20250819T090846Z
LAST-MODIFIED:20250819T090949Z
UID:10019657-1791831600-1791838800@goodmorningwilton.com
SUMMARY:Planning and Zoning Commission Meeting
DESCRIPTION:The Planning and Zoning Commission (P&Z) meets electronically to discuss and make decisions about land use and development in Wilton. The public can attend these open meetings via Zoom.
URL:https://goodmorningwilton.com/event/planning-and-zoning-commission-meeting-2/2026-10-12/
LOCATION:Online
CATEGORIES:Civic,discussion,Free,Government,Meeting,Online,Town/Government Meeting,Zoom Call
ATTACH;FMTTYPE=image/jpeg:https://goodmorningwilton.com/wp-content/uploads/2022/04/Town-Hall-3.jpeg
END:VEVENT
BEGIN:VEVENT
DTSTART;TZID=America/New_York:20261109T190000
DTEND;TZID=America/New_York:20261109T210000
DTSTAMP:20260419T121023
CREATED:20250819T090846Z
LAST-MODIFIED:20250819T090949Z
UID:10019658-1794250800-1794258000@goodmorningwilton.com
SUMMARY:Planning and Zoning Commission Meeting
DESCRIPTION:The Planning and Zoning Commission (P&Z) meets electronically to discuss and make decisions about land use and development in Wilton. The public can attend these open meetings via Zoom.
URL:https://goodmorningwilton.com/event/planning-and-zoning-commission-meeting-2/2026-11-09/
LOCATION:Online
CATEGORIES:Civic,discussion,Free,Government,Meeting,Online,Town/Government Meeting,Zoom Call
ATTACH;FMTTYPE=image/jpeg:https://goodmorningwilton.com/wp-content/uploads/2022/04/Town-Hall-3.jpeg
END:VEVENT
BEGIN:VEVENT
DTSTART;TZID=America/New_York:20261214T190000
DTEND;TZID=America/New_York:20261214T210000
DTSTAMP:20260419T121023
CREATED:20250819T090846Z
LAST-MODIFIED:20250819T090949Z
UID:10019659-1797274800-1797282000@goodmorningwilton.com
SUMMARY:Planning and Zoning Commission Meeting
DESCRIPTION:The Planning and Zoning Commission (P&Z) meets electronically to discuss and make decisions about land use and development in Wilton. The public can attend these open meetings via Zoom.
URL:https://goodmorningwilton.com/event/planning-and-zoning-commission-meeting-2/2026-12-14/
LOCATION:Online
CATEGORIES:Civic,discussion,Free,Government,Meeting,Online,Town/Government Meeting,Zoom Call
ATTACH;FMTTYPE=image/jpeg:https://goodmorningwilton.com/wp-content/uploads/2022/04/Town-Hall-3.jpeg
END:VEVENT
BEGIN:VEVENT
DTSTART;TZID=America/New_York:20270111T190000
DTEND;TZID=America/New_York:20270111T210000
DTSTAMP:20260419T121023
CREATED:20250819T090846Z
LAST-MODIFIED:20250819T090949Z
UID:10019660-1799694000-1799701200@goodmorningwilton.com
SUMMARY:Planning and Zoning Commission Meeting
DESCRIPTION:The Planning and Zoning Commission (P&Z) meets electronically to discuss and make decisions about land use and development in Wilton. The public can attend these open meetings via Zoom.
URL:https://goodmorningwilton.com/event/planning-and-zoning-commission-meeting-2/2027-01-11/
LOCATION:Online
CATEGORIES:Civic,discussion,Free,Government,Meeting,Online,Town/Government Meeting,Zoom Call
ATTACH;FMTTYPE=image/jpeg:https://goodmorningwilton.com/wp-content/uploads/2022/04/Town-Hall-3.jpeg
END:VEVENT
BEGIN:VEVENT
DTSTART;TZID=America/New_York:20270208T190000
DTEND;TZID=America/New_York:20270208T210000
DTSTAMP:20260419T121023
CREATED:20250819T090846Z
LAST-MODIFIED:20250819T090949Z
UID:10019661-1802113200-1802120400@goodmorningwilton.com
SUMMARY:Planning and Zoning Commission Meeting
DESCRIPTION:The Planning and Zoning Commission (P&Z) meets electronically to discuss and make decisions about land use and development in Wilton. The public can attend these open meetings via Zoom.
URL:https://goodmorningwilton.com/event/planning-and-zoning-commission-meeting-2/2027-02-08/
LOCATION:Online
CATEGORIES:Civic,discussion,Free,Government,Meeting,Online,Town/Government Meeting,Zoom Call
ATTACH;FMTTYPE=image/jpeg:https://goodmorningwilton.com/wp-content/uploads/2022/04/Town-Hall-3.jpeg
END:VEVENT
BEGIN:VEVENT
DTSTART;TZID=America/New_York:20270308T190000
DTEND;TZID=America/New_York:20270308T210000
DTSTAMP:20260419T121023
CREATED:20250819T090846Z
LAST-MODIFIED:20250819T090949Z
UID:10019662-1804532400-1804539600@goodmorningwilton.com
SUMMARY:Planning and Zoning Commission Meeting
DESCRIPTION:The Planning and Zoning Commission (P&Z) meets electronically to discuss and make decisions about land use and development in Wilton. The public can attend these open meetings via Zoom.
URL:https://goodmorningwilton.com/event/planning-and-zoning-commission-meeting-2/2027-03-08/
LOCATION:Online
CATEGORIES:Civic,discussion,Free,Government,Meeting,Online,Town/Government Meeting,Zoom Call
ATTACH;FMTTYPE=image/jpeg:https://goodmorningwilton.com/wp-content/uploads/2022/04/Town-Hall-3.jpeg
END:VEVENT
BEGIN:VEVENT
DTSTART;TZID=America/New_York:20270412T190000
DTEND;TZID=America/New_York:20270412T210000
DTSTAMP:20260419T121023
CREATED:20250819T090846Z
LAST-MODIFIED:20250819T090949Z
UID:10019663-1807556400-1807563600@goodmorningwilton.com
SUMMARY:Planning and Zoning Commission Meeting
DESCRIPTION:The Planning and Zoning Commission (P&Z) meets electronically to discuss and make decisions about land use and development in Wilton. The public can attend these open meetings via Zoom.
URL:https://goodmorningwilton.com/event/planning-and-zoning-commission-meeting-2/2027-04-12/
LOCATION:Online
CATEGORIES:Civic,discussion,Free,Government,Meeting,Online,Town/Government Meeting,Zoom Call
ATTACH;FMTTYPE=image/jpeg:https://goodmorningwilton.com/wp-content/uploads/2022/04/Town-Hall-3.jpeg
END:VEVENT
BEGIN:VEVENT
DTSTART;TZID=America/New_York:20270510T190000
DTEND;TZID=America/New_York:20270510T210000
DTSTAMP:20260419T121023
CREATED:20250819T090846Z
LAST-MODIFIED:20250819T090949Z
UID:10019664-1809975600-1809982800@goodmorningwilton.com
SUMMARY:Planning and Zoning Commission Meeting
DESCRIPTION:The Planning and Zoning Commission (P&Z) meets electronically to discuss and make decisions about land use and development in Wilton. The public can attend these open meetings via Zoom.
URL:https://goodmorningwilton.com/event/planning-and-zoning-commission-meeting-2/2027-05-10/
LOCATION:Online
CATEGORIES:Civic,discussion,Free,Government,Meeting,Online,Town/Government Meeting,Zoom Call
ATTACH;FMTTYPE=image/jpeg:https://goodmorningwilton.com/wp-content/uploads/2022/04/Town-Hall-3.jpeg
END:VEVENT
BEGIN:VEVENT
DTSTART;TZID=America/New_York:20270614T190000
DTEND;TZID=America/New_York:20270614T210000
DTSTAMP:20260419T121023
CREATED:20250819T090846Z
LAST-MODIFIED:20250819T090949Z
UID:10019665-1812999600-1813006800@goodmorningwilton.com
SUMMARY:Planning and Zoning Commission Meeting
DESCRIPTION:The Planning and Zoning Commission (P&Z) meets electronically to discuss and make decisions about land use and development in Wilton. The public can attend these open meetings via Zoom.
URL:https://goodmorningwilton.com/event/planning-and-zoning-commission-meeting-2/2027-06-14/
LOCATION:Online
CATEGORIES:Civic,discussion,Free,Government,Meeting,Online,Town/Government Meeting,Zoom Call
ATTACH;FMTTYPE=image/jpeg:https://goodmorningwilton.com/wp-content/uploads/2022/04/Town-Hall-3.jpeg
END:VEVENT
BEGIN:VEVENT
DTSTART;TZID=America/New_York:20270712T190000
DTEND;TZID=America/New_York:20270712T210000
DTSTAMP:20260419T121023
CREATED:20250819T090846Z
LAST-MODIFIED:20250819T090949Z
UID:10019666-1815418800-1815426000@goodmorningwilton.com
SUMMARY:Planning and Zoning Commission Meeting
DESCRIPTION:The Planning and Zoning Commission (P&Z) meets electronically to discuss and make decisions about land use and development in Wilton. The public can attend these open meetings via Zoom.
URL:https://goodmorningwilton.com/event/planning-and-zoning-commission-meeting-2/2027-07-12/
LOCATION:Online
CATEGORIES:Civic,discussion,Free,Government,Meeting,Online,Town/Government Meeting,Zoom Call
ATTACH;FMTTYPE=image/jpeg:https://goodmorningwilton.com/wp-content/uploads/2022/04/Town-Hall-3.jpeg
END:VEVENT
BEGIN:VEVENT
DTSTART;TZID=America/New_York:20270809T190000
DTEND;TZID=America/New_York:20270809T210000
DTSTAMP:20260419T121023
CREATED:20250819T090846Z
LAST-MODIFIED:20250819T090949Z
UID:10019667-1817838000-1817845200@goodmorningwilton.com
SUMMARY:Planning and Zoning Commission Meeting
DESCRIPTION:The Planning and Zoning Commission (P&Z) meets electronically to discuss and make decisions about land use and development in Wilton. The public can attend these open meetings via Zoom.
URL:https://goodmorningwilton.com/event/planning-and-zoning-commission-meeting-2/2027-08-09/
LOCATION:Online
CATEGORIES:Civic,discussion,Free,Government,Meeting,Online,Town/Government Meeting,Zoom Call
ATTACH;FMTTYPE=image/jpeg:https://goodmorningwilton.com/wp-content/uploads/2022/04/Town-Hall-3.jpeg
END:VEVENT
END:VCALENDAR