BEGIN:VCALENDAR
VERSION:2.0
PRODID:-//Good Morning Wilton - ECPv6.15.20//NONSGML v1.0//EN
CALSCALE:GREGORIAN
METHOD:PUBLISH
X-ORIGINAL-URL:https://goodmorningwilton.com
X-WR-CALDESC:Events for Good Morning Wilton
REFRESH-INTERVAL;VALUE=DURATION:PT1H
X-Robots-Tag:noindex
X-PUBLISHED-TTL:PT1H
BEGIN:VTIMEZONE
TZID:America/New_York
BEGIN:DAYLIGHT
TZOFFSETFROM:-0500
TZOFFSETTO:-0400
TZNAME:EDT
DTSTART:20180311T070000
END:DAYLIGHT
BEGIN:STANDARD
TZOFFSETFROM:-0400
TZOFFSETTO:-0500
TZNAME:EST
DTSTART:20181104T060000
END:STANDARD
BEGIN:DAYLIGHT
TZOFFSETFROM:-0500
TZOFFSETTO:-0400
TZNAME:EDT
DTSTART:20190310T070000
END:DAYLIGHT
BEGIN:STANDARD
TZOFFSETFROM:-0400
TZOFFSETTO:-0500
TZNAME:EST
DTSTART:20191103T060000
END:STANDARD
BEGIN:DAYLIGHT
TZOFFSETFROM:-0500
TZOFFSETTO:-0400
TZNAME:EDT
DTSTART:20200308T070000
END:DAYLIGHT
BEGIN:STANDARD
TZOFFSETFROM:-0400
TZOFFSETTO:-0500
TZNAME:EST
DTSTART:20201101T060000
END:STANDARD
BEGIN:DAYLIGHT
TZOFFSETFROM:-0500
TZOFFSETTO:-0400
TZNAME:EDT
DTSTART:20210314T070000
END:DAYLIGHT
BEGIN:STANDARD
TZOFFSETFROM:-0400
TZOFFSETTO:-0500
TZNAME:EST
DTSTART:20211107T060000
END:STANDARD
BEGIN:DAYLIGHT
TZOFFSETFROM:-0500
TZOFFSETTO:-0400
TZNAME:EDT
DTSTART:20220313T070000
END:DAYLIGHT
BEGIN:STANDARD
TZOFFSETFROM:-0400
TZOFFSETTO:-0500
TZNAME:EST
DTSTART:20221106T060000
END:STANDARD
BEGIN:DAYLIGHT
TZOFFSETFROM:-0500
TZOFFSETTO:-0400
TZNAME:EDT
DTSTART:20230312T070000
END:DAYLIGHT
BEGIN:STANDARD
TZOFFSETFROM:-0400
TZOFFSETTO:-0500
TZNAME:EST
DTSTART:20231105T060000
END:STANDARD
BEGIN:DAYLIGHT
TZOFFSETFROM:-0500
TZOFFSETTO:-0400
TZNAME:EDT
DTSTART:20240310T070000
END:DAYLIGHT
BEGIN:STANDARD
TZOFFSETFROM:-0400
TZOFFSETTO:-0500
TZNAME:EST
DTSTART:20241103T060000
END:STANDARD
BEGIN:DAYLIGHT
TZOFFSETFROM:-0500
TZOFFSETTO:-0400
TZNAME:EDT
DTSTART:20250309T070000
END:DAYLIGHT
BEGIN:STANDARD
TZOFFSETFROM:-0400
TZOFFSETTO:-0500
TZNAME:EST
DTSTART:20251102T060000
END:STANDARD
BEGIN:DAYLIGHT
TZOFFSETFROM:-0500
TZOFFSETTO:-0400
TZNAME:EDT
DTSTART:20260308T070000
END:DAYLIGHT
BEGIN:STANDARD
TZOFFSETFROM:-0400
TZOFFSETTO:-0500
TZNAME:EST
DTSTART:20261101T060000
END:STANDARD
END:VTIMEZONE
BEGIN:VEVENT
DTSTART;TZID=America/New_York:20250628T100000
DTEND;TZID=America/New_York:20250628T110000
DTSTAMP:20260425T213518
CREATED:20250521T041858Z
LAST-MODIFIED:20250530T031934Z
UID:10019328-1751104800-1751108400@goodmorningwilton.com
SUMMARY:Wilton's 4th Annual Duck Race to Benefit Trout Unlimited and Norwalk River Conservation NEW DATE!
DESCRIPTION:Look what’s back again! Traditionally hosted by Point Break Tacos\, which closed doors last year\, the 4th annual Duck Race returns\, with the torch to oversee it being passed to Trout Unlimited. \nTrout Unlimited is a non-profit organization dedicated to the conservation of freshwater streams\, rivers\, and associated upland habitats for trout\, salmon\, other aquatic species\, and bringing communities together for this mission. \nThe duck race will take place on Sunday\, May 25 at 10 a.m.\, starting at Schenck’s Island in Wilton Town Center. While the ducks will be racing down the river for about 20 minutes\, participants and guests can explore downtown Wilton for local shopping and eateries as well as learn a few fly-fishing tricks from Trout Unlimited. \nThe participant whose duck crosses the finish line first will win a Sweet Summer prize and the infamous “Big Duck.”  Racing ducks are limited to 150 (one per registrant) and residents and guests are encouraged to register as soon as possible. The cost to enter is $25 per race duck\, with 100% of the proceeds supporting Trout Unlimited’s conservation mission. \nVisit the event website for additional details and registration instructions.
URL:https://goodmorningwilton.com/event/wiltons-4th-annual-duck-race-to-benefit-trout-unlimited-and-norwalk-river-conservation-new-date/
LOCATION:Schenck’s Island:  202 Old Ridgefield Road\, #2\, 202 Old Ridgefield Road\, #2\, Wilton\, 06897
CATEGORIES:Community Events,Donation/Collection,Environmental,Family Event,Fundraiser,Launch,Outdoor Event
ATTACH;FMTTYPE=image/png:https://goodmorningwilton.com/wp-content/uploads/2025/05/Wilton-Duck-Race-2025.png
END:VEVENT
BEGIN:VEVENT
DTSTART;TZID=America/New_York:20211023T110000
DTEND;TZID=America/New_York:20211023T130000
DTSTAMP:20260425T213518
CREATED:20211019T021946Z
LAST-MODIFIED:20211020T155527Z
UID:10010945-1634986800-1634994000@goodmorningwilton.com
SUMMARY:Wilton RTC Election Headquarters Grand Opening
DESCRIPTION:The Wilton Republican Town Committee is holding the grand opening of its campaign headquarters located at 16 Center St.\, in between CT Coffee and Eco Chic Hair Salon\, in Wilton Center near Red Rooster. The official opening will take place on Saturday\, Oct. 23\, at 11 a.m. \nWilton’s State Rep. Tom O’Dea\, former State Sen. Toni Boucher\, former State Rep. Gail Lavielle and many current town elected and appointed officials will be present to welcome all Wiltonians into the location to meet the RTC’s slate of candidates for this year’s municipal elections. \n“There is a lot of excitement for the Row B slate this year\, and we are excited to open the doors of our headquarters to the public\,” said Peter Wrampe\, WRTC Chairman. He added\, “We look forward to seeing many of our friends and neighbors stopping by our headquarters in the coming weeks.” \n“In this important election year\, Row B candidates are running to support our businesses\, law enforcement\, parental participation in Wilton’s schools\, and to protect local zoning from state control. We are running for a Wilton run by Wiltonians\, rather than a Wilton run by a state party platform out of Hartford\,” said Board of Selectmen candidate Kim Healy. \nThe headquarters will be open to the public starting Tuesday\, Oct. 19 from 9 a.m.-6 p.m. Residents are invited to stop by to get a lawn sign or candidate materials.
URL:https://goodmorningwilton.com/event/wilton-rtc-election-headquarters-grand-opening/
LOCATION:16 Center Street\, 16 Center Street\, Wilton\, 06897\, United States
CATEGORIES:Free,Launch,Not for profit,Open House,Politics
ATTACH;FMTTYPE=image/jpeg:https://goodmorningwilton.com/wp-content/uploads/2020/09/Republican.jpeg
ORGANIZER;CN="Wilton Republican Town Committee":MAILTO:wiltonctgop@gmail.com
END:VEVENT
BEGIN:VEVENT
DTSTART;TZID=America/New_York:20200303T183000
DTEND;TZID=America/New_York:20200303T193000
DTSTAMP:20260425T213518
CREATED:20200225T142841Z
LAST-MODIFIED:20200225T142841Z
UID:10009489-1583260200-1583263800@goodmorningwilton.com
SUMMARY:Wilton Reads–Tales of the Jazz Age Book Giveaway
DESCRIPTION:To encourage readership and kick-off the community-wide Wilton Reads 2020 program\, 200 paperback copies of Tales of the Jazz Age will be distributed to members of the community free of charge courtesy of Fairfield County Bank\, on a first-come first-served basis.
URL:https://goodmorningwilton.com/event/wilton-reads-tales-of-the-jazz-age-book-giveaway/2020-03-03/2/
LOCATION:Wilton Library\, 137 Old Ridgefield Rd.\, Wilton\, CT\, 06987
CATEGORIES:Community Events,Educational,Free,Historic,Launch
ATTACH;FMTTYPE=image/jpeg:https://goodmorningwilton.com/wp-content/uploads/2020/01/kevin-smith-elaine-tai-lauria-and-fran-kompar-with-wilton-reads-2020-jazz-book-selection4-011520-1.jpg
END:VEVENT
BEGIN:VEVENT
DTSTART;TZID=America/New_York:20200303T100000
DTEND;TZID=America/New_York:20200303T120000
DTSTAMP:20260425T213518
CREATED:20200225T142841Z
LAST-MODIFIED:20200225T142841Z
UID:10009488-1583229600-1583236800@goodmorningwilton.com
SUMMARY:Wilton Reads–Tales of the Jazz Age Book Giveaway
DESCRIPTION:To encourage readership and kick-off the community-wide Wilton Reads 2020 program\, 200 paperback copies of Tales of the Jazz Age will be distributed to members of the community free of charge courtesy of Fairfield County Bank\, on a first-come first-served basis.
URL:https://goodmorningwilton.com/event/wilton-reads-tales-of-the-jazz-age-book-giveaway/2020-03-03/1/
LOCATION:Wilton Library\, 137 Old Ridgefield Rd.\, Wilton\, CT\, 06987
CATEGORIES:Community Events,Educational,Free,Historic,Launch
ATTACH;FMTTYPE=image/jpeg:https://goodmorningwilton.com/wp-content/uploads/2020/01/kevin-smith-elaine-tai-lauria-and-fran-kompar-with-wilton-reads-2020-jazz-book-selection4-011520-1.jpg
END:VEVENT
BEGIN:VEVENT
DTSTART;TZID=America/New_York:20200110T180000
DTEND;TZID=America/New_York:20200110T193000
DTSTAMP:20260425T213518
CREATED:20200105T195021Z
LAST-MODIFIED:20200105T195021Z
UID:10009260-1578679200-1578684600@goodmorningwilton.com
SUMMARY:Wilton Library: Winter Interlude Art Exhibition & Reception
DESCRIPTION:Nine area artists will be showcased in Wilton Library’s first art exhibition of the new year\, “Winter Interlude.” Wilton artists are Dawn Dahl\, Gini Fischer\, Dorothy Hyde\, Trish Nelson\, Rama Ramaswami\, and Robert Tortorella. Other Artists include Frank Bordonaro\, Norwalk; Bobbi Eike Mullen\, Weston/Georgetown; and Dick Rauh\, Westport (formerly Wilton). Their works represent a wide variety of styles\, media and subject matter choices. \nReception free and open to the public. Exhibition runs through January 30\, 2020.  A majority of the works will be available for purchase with a portion of the proceeds benefiting the library.
URL:https://goodmorningwilton.com/event/wilton-library-winter-interlude-art-exhibition-reception/
LOCATION:Wilton Library
CATEGORIES:Art Exhibit,Arts,Community Celebration,Community Events,Exhibit,Free,Launch,Reception
ATTACH;FMTTYPE=image/jpeg:https://goodmorningwilton.com/wp-content/uploads/2014/01/wilton-library-exterior.jpg
ORGANIZER;CN="Wilton Library":MAILTO:publicity@wiltonlibrary.org
END:VEVENT
BEGIN:VEVENT
DTSTART;TZID=America/New_York:20190926T160000
DTEND;TZID=America/New_York:20190926T170000
DTSTAMP:20260425T213518
CREATED:20190922T165135Z
LAST-MODIFIED:20190922T165135Z
UID:10009070-1569513600-1569517200@goodmorningwilton.com
SUMMARY:Wilton Family YMCA Launch Party for Capital Public Phase & Annual Campaigns
DESCRIPTION:Come hear about the Wilton Family YMCA‘s renovation progress and the impact the Y has in the Wilton community. \nFood Trucks – Ice Cream – Magician – Games \nAND THERE’S MORE:  For anyone who decides to join the Wilton Family YMCA during the event\, the Y will waive the joiner’s fee! \nONE YMCA • TWO CAMPAIGNS • ALL IN FOR A STRONGER COMMUNITY \nSince 1972\, the Wilton Family YMCA has served as an essential and charitable organization\, dedicated to strengthening the foundations of the community. \nYour participation in supporting both YMCA fundraising efforts brings meaningful change and ensures our programs and facilities will be here for generations to come. \nTo learn more about giving to the Wilton Family YMCA\, visit the Wilton Family YMCA website.
URL:https://goodmorningwilton.com/event/wilton-family-ymca-launch-party-for-capital-public-phase-annual-campaigns/
LOCATION:Wilton YMCA\, 404 Danbury Rd.\, Wilton\, CT\, 06897\, United States
CATEGORIES:Community Events,Family Event,Food,Free,Launch,Not for profit,Outdoor Event,YMCA
ATTACH;FMTTYPE=image/png:https://goodmorningwilton.com/wp-content/uploads/2019/09/facebook-banner_dual.png
ORGANIZER;CN="Wilton YMCA":MAILTO:kfrejes@riverbrookymca.org
GEO:41.2116373;-73.4291811
X-APPLE-STRUCTURED-LOCATION;VALUE=URI;X-ADDRESS=Wilton YMCA 404 Danbury Rd. Wilton CT 06897 United States;X-APPLE-RADIUS=500;X-TITLE=404 Danbury Rd.:geo:-73.4291811,41.2116373
END:VEVENT
BEGIN:VEVENT
DTSTART;TZID=America/New_York:20190824T100000
DTEND;TZID=America/New_York:20190824T120000
DTSTAMP:20260425T213518
CREATED:20190813T185550Z
LAST-MODIFIED:20190813T185550Z
UID:10008468-1566640800-1566648000@goodmorningwilton.com
SUMMARY:Wilton DTC Campaign Launch!
DESCRIPTION:Join us as we introduce Wilton’s Democratic slate for November 2019! Meet the candidates\, hear about plans for the campaign and their ideas for Wilton’s future. \nYou’ll hear from special guests and learn about getting your candidates elected–and how you might be able to help.
URL:https://goodmorningwilton.com/event/wilton-dtc-campaign-launch/
LOCATION:Trackside Teen Center\, 15 Station Road\, Wilton\, CT\, 06897\, United States
CATEGORIES:Free,Government,Launch,Meeting,Not for profit,Politics
ATTACH;FMTTYPE=image/jpeg:https://goodmorningwilton.com/wp-content/uploads/2014/04/Wilton-Dems-jpeg.jpg
END:VEVENT
BEGIN:VEVENT
DTSTART;TZID=America/New_York:20190508T180000
DTEND;TZID=America/New_York:20190508T203000
DTSTAMP:20260425T213518
CREATED:20190331T223301Z
LAST-MODIFIED:20190331T223301Z
UID:10008630-1557338400-1557347400@goodmorningwilton.com
SUMMARY:Wilton SWAG Launch Party
DESCRIPTION:Save The Date \nWilton Swag is a non-profit organization dedicated to developing meaningful employment opportunities for young adults with disabilities\, within in their local community. \nWilton SWAG Launch Party \nJoin us for wine\, appetizers\, live music from the Wilton High School band and enjoy our live website launch. \nWednesday\, May 8\, from 6-8:30 p.m. at the Wilton Playshop.
URL:https://goodmorningwilton.com/event/wilton-swag-launch-party/
LOCATION:Wilton Playshop\, 15 Lovers Lane\, Wilton\, CT\, 06897
CATEGORIES:Community Celebration,Kids,Launch,Not for profit,Ribbon Cutting,Schools
ATTACH;FMTTYPE=image/jpeg:https://goodmorningwilton.com/wp-content/uploads/2019/03/wilton-swag-logo.jpg
END:VEVENT
END:VCALENDAR