BEGIN:VCALENDAR
VERSION:2.0
PRODID:-//Good Morning Wilton - ECPv6.15.20//NONSGML v1.0//EN
CALSCALE:GREGORIAN
METHOD:PUBLISH
X-ORIGINAL-URL:https://goodmorningwilton.com
X-WR-CALDESC:Events for Good Morning Wilton
REFRESH-INTERVAL;VALUE=DURATION:PT1H
X-Robots-Tag:noindex
X-PUBLISHED-TTL:PT1H
BEGIN:VTIMEZONE
TZID:America/New_York
BEGIN:DAYLIGHT
TZOFFSETFROM:-0500
TZOFFSETTO:-0400
TZNAME:EDT
DTSTART:20250309T070000
END:DAYLIGHT
BEGIN:STANDARD
TZOFFSETFROM:-0400
TZOFFSETTO:-0500
TZNAME:EST
DTSTART:20251102T060000
END:STANDARD
BEGIN:DAYLIGHT
TZOFFSETFROM:-0500
TZOFFSETTO:-0400
TZNAME:EDT
DTSTART:20260308T070000
END:DAYLIGHT
BEGIN:STANDARD
TZOFFSETFROM:-0400
TZOFFSETTO:-0500
TZNAME:EST
DTSTART:20261101T060000
END:STANDARD
BEGIN:DAYLIGHT
TZOFFSETFROM:-0500
TZOFFSETTO:-0400
TZNAME:EDT
DTSTART:20270314T070000
END:DAYLIGHT
BEGIN:STANDARD
TZOFFSETFROM:-0400
TZOFFSETTO:-0500
TZNAME:EST
DTSTART:20271107T060000
END:STANDARD
END:VTIMEZONE
BEGIN:VEVENT
DTSTART;TZID=America/New_York:20260430T190000
DTEND;TZID=America/New_York:20260430T200000
DTSTAMP:20260420T124729
CREATED:20260321T193542Z
LAST-MODIFIED:20260321T193542Z
UID:10023905-1777575600-1777579200@goodmorningwilton.com
SUMMARY:The Importance of Connecticut to the Revolution with Mike Allen
DESCRIPTION:Connecticut played an outsized role in winning U.S. independence from the British Empire. Prominent historical figures contributed to the formation of the new country\, while Connecticut earned the nickname “the provision state” because of its supplies of food and ammunition to the Continental Army. \nMilitary actions in Danbury\, Ridgefield\, Saugatuck\, Groton\, New London\, New Haven\, Greenwich\, Norwalk\, and Fairfield were significant. \nRoger Sherman\, Israel Putnam\, Jonathan Trumbull\, Benedict Arnold\, Noah Webster\, and others played critical roles\, while other notable figures visited the state during the Revolutionary War years: George Washington\, French General Rochambeau\, John Hancock\, and more. \nThe Connecticut Compromise broke a stalemate in the Continental Congress and allowed progress to continue forming the Constitution. \nNoted storyteller and journalist Mike Allen\, former host of the popular podcast Amazing Tales About History\, will walk through the key people and events in Connecticut during our nation’s tumultuous march to independence\, 250 years ago. \nThe talk will be held on Thursday\, April 30\, at 7:00 p.m. at the Wilton Historical Society (224 Danbury Road in Wilton).\nThe event is free for Historical Society members. For non-members\, there is a $10.00 fee. \nRegistration required. \nThis event is sponsored by ASML.
URL:https://goodmorningwilton.com/event/the-importance-of-connecticut-to-the-revolution-with-mike-allen/
LOCATION:Wilton Historical Society\, 224 Danbury Road\, Wilton\, CT
CATEGORIES:Educational,Historic,In Person,Lecture,Not for profit
ATTACH;FMTTYPE=image/jpeg:https://goodmorningwilton.com/wp-content/uploads/2026/03/MikeAllen-450x450-1.jpg
ORGANIZER;CN="Wilton Historical Society":MAILTO:info@wiltonhistorical.org
GEO:41.188207;-73.424639
X-APPLE-STRUCTURED-LOCATION;VALUE=URI;X-ADDRESS=Wilton Historical Society 224 Danbury Road Wilton CT;X-APPLE-RADIUS=500;X-TITLE=224 Danbury Road:geo:-73.424639,41.188207
END:VEVENT
END:VCALENDAR