BEGIN:VCALENDAR
VERSION:2.0
PRODID:-//Good Morning Wilton - ECPv6.15.20//NONSGML v1.0//EN
CALSCALE:GREGORIAN
METHOD:PUBLISH
X-ORIGINAL-URL:https://goodmorningwilton.com
X-WR-CALDESC:Events for Good Morning Wilton
REFRESH-INTERVAL;VALUE=DURATION:PT1H
X-Robots-Tag:noindex
X-PUBLISHED-TTL:PT1H
BEGIN:VTIMEZONE
TZID:America/New_York
BEGIN:DAYLIGHT
TZOFFSETFROM:-0500
TZOFFSETTO:-0400
TZNAME:EDT
DTSTART:20250309T070000
END:DAYLIGHT
BEGIN:STANDARD
TZOFFSETFROM:-0400
TZOFFSETTO:-0500
TZNAME:EST
DTSTART:20251102T060000
END:STANDARD
BEGIN:DAYLIGHT
TZOFFSETFROM:-0500
TZOFFSETTO:-0400
TZNAME:EDT
DTSTART:20260308T070000
END:DAYLIGHT
BEGIN:STANDARD
TZOFFSETFROM:-0400
TZOFFSETTO:-0500
TZNAME:EST
DTSTART:20261101T060000
END:STANDARD
BEGIN:DAYLIGHT
TZOFFSETFROM:-0500
TZOFFSETTO:-0400
TZNAME:EDT
DTSTART:20270314T070000
END:DAYLIGHT
BEGIN:STANDARD
TZOFFSETFROM:-0400
TZOFFSETTO:-0500
TZNAME:EST
DTSTART:20271107T060000
END:STANDARD
END:VTIMEZONE
BEGIN:VEVENT
DTSTART;TZID=America/New_York:20260201T150000
DTEND;TZID=America/New_York:20260201T163000
DTSTAMP:20260422T200715
CREATED:20260104T194601Z
LAST-MODIFIED:20260109T181517Z
UID:10021514-1769958000-1769963400@goodmorningwilton.com
SUMMARY:Wilton Library Presents Music for Youth’s Emerging Artists Concert Featuring Award-Winning Cellist Sydney Lee
DESCRIPTION:Please join the Wilton Library for Music for Youth’s Emerging Artists concert featuring award-winning cellist Sydney Lee. This program celebrates the lyrical intimacy and rich harmonic language of French music from the late Romantic to early 20th century. César Franck’s radiant Sonata in A major anchors the program with its sweeping emotional arc and cyclical design\, a hallmark of French Romanticism. Nadia Boulanger’s Three Pieces for Cello and Piano offer a more introspective voice of poetic miniatures that reveal delicate shades of color and quiet nuance. Camille Saint-Saëns’s beloved The Swan and Gabriel Fauré’s graceful Sicilienne complement these works with their elegance\, warmth\, and timeless melodic charm. Together\, these pieces trace a lineage of French expressivity—refined\, nostalgic\, and deeply human. \nPraised for her “mesmerizing” interpretation of Prokofiev’s Sinfonia Concertante\, where she “surmounted all of its technical challenges with ease and gave us a joyous musical experience” (Julian Lloyd Webber\, solo cellist)\, Sydney Lee captivates audiences with her refined elegance\, expressive depth\, and radiant sincerity. A rising force in the classical music world\, Sydney was awarded First Prize at the 2022 Washington International Competition\, Second Prize at the Classic Strings International Competition\, and became the inaugural recipient of Meadowmount School of Music’s prestigious $50\,000 Gurrena Fellowship. Since making her solo debut at age thirteen with the Pittsburgh Symphony Orchestra\, Sydney has performed across North America and Europe in such renowned venues as Kennedy Center’s Millennium Stage and Terrace Theater\, Philadelphia’s Kimmel Center\, Carnegie Hall’s Stern Auditorium\, and the Konzerthaus Berlin. \nCollaborating with Sydney on this concert is Music for Youth Emerging Artist\, Serena Li. Serena\, age 14\, is one of the talented high school musicians selected by Music for Youth to be part of their Emerging Artists program. She currently studies at Juilliard Pre-College under the tutelage of Clara Minhye Kim\, and has won many awards in cello. \nThis concert is appropriate for adults and seniors\, as well as youth interested in music in grades 4-12. Registration suggested. Register & See Details
URL:https://goodmorningwilton.com/event/wilton-library-presents-music-for-youths-emerging-artists-concert-featuring-award-winning-cellist-sydney-lee/
LOCATION:Wilton Library\, 137 Old Ridgefield Rd.\, Wilton\, CT\, 06987
CATEGORIES:Concert,Kids,Library,Performance,Teens
ATTACH;FMTTYPE=image/png:https://goodmorningwilton.com/wp-content/uploads/2026/01/Wilton-Library-emerging-artist-Sydney-Lee.png
END:VEVENT
BEGIN:VEVENT
DTSTART;TZID=America/New_York:20260206T190000
DTEND;TZID=America/New_York:20260206T210000
DTSTAMP:20260422T200715
CREATED:20260104T193351Z
LAST-MODIFIED:20260104T193351Z
UID:10021500-1770404400-1770411600@goodmorningwilton.com
SUMMARY:Wilton High School Theater Presents "High School Musical" Senior Show
DESCRIPTION:Cheer on the Wildcats as the Class of 2026 presents the beloved Disney classic\, High School Musical! Troy and Gabriella meet at a teen karaoke event on their family vacation. Upon return\, Troy discovers Gabriella has moved to his town and high school. Gabriella\, the shy and intelligent student learns to navigate the social dynamics of East High. The two of them decide to break the norms of the cliques in their school and star in their high school musical. Don’t miss the chance to see these Wilton High School seniors show us how we are all in this together!
URL:https://goodmorningwilton.com/event/wilton-high-school-theater-presents-high-school-musical-senior-show/2026-02-06/
LOCATION:The Little Theater at Wilton High School\, 395 Danbury Road\, Wilton\, CT\, 06897\, United States
CATEGORIES:Arts,Family Event,In Person,Musical,Performance,Schools,Teens,Theater
ATTACH;FMTTYPE=image/jpeg:https://goodmorningwilton.com/wp-content/uploads/2025/12/HSM-logo.jpg
ORGANIZER;CN="WHS Theater":MAILTO:luckstonek@wiltonps.org
END:VEVENT
BEGIN:VEVENT
DTSTART;TZID=America/New_York:20260207T190000
DTEND;TZID=America/New_York:20260207T210000
DTSTAMP:20260422T200715
CREATED:20260104T193351Z
LAST-MODIFIED:20260104T193351Z
UID:10021501-1770490800-1770498000@goodmorningwilton.com
SUMMARY:Wilton High School Theater Presents "High School Musical" Senior Show
DESCRIPTION:Cheer on the Wildcats as the Class of 2026 presents the beloved Disney classic\, High School Musical! Troy and Gabriella meet at a teen karaoke event on their family vacation. Upon return\, Troy discovers Gabriella has moved to his town and high school. Gabriella\, the shy and intelligent student learns to navigate the social dynamics of East High. The two of them decide to break the norms of the cliques in their school and star in their high school musical. Don’t miss the chance to see these Wilton High School seniors show us how we are all in this together!
URL:https://goodmorningwilton.com/event/wilton-high-school-theater-presents-high-school-musical-senior-show/2026-02-07/
LOCATION:The Little Theater at Wilton High School\, 395 Danbury Road\, Wilton\, CT\, 06897\, United States
CATEGORIES:Arts,Family Event,In Person,Musical,Performance,Schools,Teens,Theater
ATTACH;FMTTYPE=image/jpeg:https://goodmorningwilton.com/wp-content/uploads/2025/12/HSM-logo.jpg
ORGANIZER;CN="WHS Theater":MAILTO:luckstonek@wiltonps.org
END:VEVENT
END:VCALENDAR