BEGIN:VCALENDAR
VERSION:2.0
PRODID:-//Good Morning Wilton - ECPv6.15.20//NONSGML v1.0//EN
CALSCALE:GREGORIAN
METHOD:PUBLISH
X-WR-CALNAME:Good Morning Wilton
X-ORIGINAL-URL:https://goodmorningwilton.com
X-WR-CALDESC:Events for Good Morning Wilton
REFRESH-INTERVAL;VALUE=DURATION:PT1H
X-Robots-Tag:noindex
X-PUBLISHED-TTL:PT1H
BEGIN:VTIMEZONE
TZID:America/New_York
BEGIN:DAYLIGHT
TZOFFSETFROM:-0500
TZOFFSETTO:-0400
TZNAME:EDT
DTSTART:20170312T070000
END:DAYLIGHT
BEGIN:STANDARD
TZOFFSETFROM:-0400
TZOFFSETTO:-0500
TZNAME:EST
DTSTART:20171105T060000
END:STANDARD
BEGIN:DAYLIGHT
TZOFFSETFROM:-0500
TZOFFSETTO:-0400
TZNAME:EDT
DTSTART:20180311T070000
END:DAYLIGHT
BEGIN:STANDARD
TZOFFSETFROM:-0400
TZOFFSETTO:-0500
TZNAME:EST
DTSTART:20181104T060000
END:STANDARD
BEGIN:DAYLIGHT
TZOFFSETFROM:-0500
TZOFFSETTO:-0400
TZNAME:EDT
DTSTART:20190310T070000
END:DAYLIGHT
BEGIN:STANDARD
TZOFFSETFROM:-0400
TZOFFSETTO:-0500
TZNAME:EST
DTSTART:20191103T060000
END:STANDARD
BEGIN:DAYLIGHT
TZOFFSETFROM:-0500
TZOFFSETTO:-0400
TZNAME:EDT
DTSTART:20200308T070000
END:DAYLIGHT
BEGIN:STANDARD
TZOFFSETFROM:-0400
TZOFFSETTO:-0500
TZNAME:EST
DTSTART:20201101T060000
END:STANDARD
END:VTIMEZONE
BEGIN:VEVENT
DTSTART;TZID=America/New_York:20190924T150000
DTEND;TZID=America/New_York:20190924T170000
DTSTAMP:20260420T195549
CREATED:20190911T132839Z
LAST-MODIFIED:20190911T132839Z
UID:10008507-1569337200-1569344400@goodmorningwilton.com
SUMMARY:Stay at Home in Wilton Hosts Fire Prevention and Safety Tips
DESCRIPTION:Wilton Fire Marshal Rocco Grosso and Deputy Fire Marshal Kevin Plank will arrive in a fire truck and present important fire safety tips. Information will include tips on home smoke alarms\, kitchen and bedroom safety\, fire escape planning and avoiding slips and falls. Q & A will follow. No charge. Open to the public. Reservations are recommended:  203.762.2600
URL:https://goodmorningwilton.com/event/stay-at-home-in-wilton-hosts-fire-prevention-and-safety-tips/
LOCATION:Comstock Community Center\, 180 School Rd.\, Wilton\, CT\, 06897\, United States
CATEGORIES:discussion,Educational,Free,Not for profit,Presentation,Seniors
ATTACH;FMTTYPE=image/jpeg:https://goodmorningwilton.com/wp-content/uploads/2019/09/wilton-fire-truck.jpg
ORGANIZER;CN="Stay at Home in Wilton":MAILTO:deb@shwil.org
GEO:41.2020422;-73.4335825
X-APPLE-STRUCTURED-LOCATION;VALUE=URI;X-ADDRESS=Comstock Community Center 180 School Rd. Wilton CT 06897 United States;X-APPLE-RADIUS=500;X-TITLE=180 School Rd.:geo:-73.4335825,41.2020422
END:VEVENT
BEGIN:VEVENT
DTSTART;TZID=America/New_York:20190625T150000
DTEND;TZID=America/New_York:20190625T170000
DTSTAMP:20260420T195549
CREATED:20190619T184257Z
LAST-MODIFIED:20190619T184257Z
UID:10008832-1561474800-1561482000@goodmorningwilton.com
SUMMARY:State Senator Will Haskell Advocates for Seniors
DESCRIPTION:On Tuesday\, June 25 at 3 p.m.\, Stay at Home in Wilton will host State Senator Will Haskell at the Comstock Community Center to discuss his plans to make Connecticut an affordable and attractive state for seniors. Senator Haskell will discuss the social security tax as well as programs he is supporting that will help Connecticut’s seniors live comfortably as they grow older. Stay at Home in Wilton welcomes community members to bring their questions to this special town hall meeting. \nReservations are recommended. There is no charge to attend. Contact Janet Johnson at 203.762.2600. Please provide your phone or email. In the event the Senator is called away registrants will be notified. \nStay at Home in Wilton\, a registered\, volunteered supported non-profit\, offers seniors supportive services and resources\, along with social and educational programs that unite its members as a community and enhance their efforts to remain independent\, active and connected.
URL:https://goodmorningwilton.com/event/state-senator-will-haskell-advocates-for-seniors/
LOCATION:Comstock Community Center
CATEGORIES:discussion,Free,Government,Not for profit,Politics,Seniors
ATTACH;FMTTYPE=image/png:https://goodmorningwilton.com/wp-content/uploads/2019/06/image001.png
ORGANIZER;CN="Stay at Home in Wilton":MAILTO:deb@shwil.org
END:VEVENT
BEGIN:VEVENT
DTSTART;TZID=America/New_York:20190606T120000
DTEND;TZID=America/New_York:20190606T140000
DTSTAMP:20260420T195549
CREATED:20190529T070836Z
LAST-MODIFIED:20190529T070836Z
UID:10008784-1559822400-1559829600@goodmorningwilton.com
SUMMARY:Wilton Commons NeighborWorks Week
DESCRIPTION:Connecticut Housing Partners will be hosting NeighborWorks Week at Wilton Commons! Come join us at our 4th Annual Health and Wellness Fair. Meet vendors in the community and experience live demonstrations and samples. Learn more about health and wellness and building strong communities. There will be great food and fun as well! \nThe event will be held on Thursday\, June 6 from 12-2 p.m.. Hope to see you there!
URL:https://goodmorningwilton.com/event/wilton-commons-neighborworks-week/
LOCATION:Wilton Commons\, 21 Station Rd.\, Wilton\, CT\, 06897\, United States
CATEGORIES:Free,Health & Wellness,Not for profit,Seniors
ATTACH;FMTTYPE=image/png:https://goodmorningwilton.com/wp-content/uploads/2019/05/screen-shot-2019-05-29-at-3.07.38-am.png
END:VEVENT
BEGIN:VEVENT
DTSTART;TZID=America/New_York:20190423T150000
DTEND;TZID=America/New_York:20190423T170000
DTSTAMP:20260420T195549
CREATED:20190420T042809Z
LAST-MODIFIED:20190420T042809Z
UID:10008758-1556031600-1556038800@goodmorningwilton.com
SUMMARY:Better Hearing\, Better Living
DESCRIPTION:Don’t miss one of CT’s top doctors\, Dr. Andrew Parker\, present common hearing problems\, effects of hearing loss on health\, and treatment at the Wilton Senior Center on Tuesday\, April 23. \nFree hearing test screening will be done immediately after the lecture. Parker and his certified staff–audiologist Debra Berg and physician assistant Kaitlyn Johnson–will assist with screenings. Reservations are recommended\, by calling 203.762.2600. \nAndrew J. Parker\, M.D.\, medical director of Parker Ear Nose & Throat\, is a board certified otolaryngologist in Norwalk\, CT. In addition to his practice\, Parker is the chief of the Department of Ear Nose & Throat–Head and Neck Surgery at Norwalk Hospital. He was recently honored by the prestigious Castle Connolly’s highly selective Top Doctor’s Directory. He has also been on CT Magazine‘s Top Doc list every year since 2008. When not practicing medicine\, Dr. Parker enjoys being a lead singer in two local Fairfield County rock ‘n roll bands (DNR and VERTIGO)\, and spending time with his wife and their two children.
URL:https://goodmorningwilton.com/event/better-hearing-better-living/
LOCATION:Wilton Senior Center\, 180 School Road\, Wilton\, 06897\, United States
CATEGORIES:Free,Health & Wellness,Lecture,Presentation,Seniors
ATTACH;FMTTYPE=image/png:https://goodmorningwilton.com/wp-content/uploads/2019/04/headshot.png
ORGANIZER;CN="Stay at Home in Wilton":MAILTO:deb@shwil.org
GEO:41.2020422;-73.4335825
X-APPLE-STRUCTURED-LOCATION;VALUE=URI;X-ADDRESS=Wilton Senior Center 180 School Road Wilton 06897 United States;X-APPLE-RADIUS=500;X-TITLE=180 School Road:geo:-73.4335825,41.2020422
END:VEVENT
BEGIN:VEVENT
DTSTART;TZID=America/New_York:20190326T150000
DTEND;TZID=America/New_York:20190326T170000
DTSTAMP:20260420T195549
CREATED:20190318T035942Z
LAST-MODIFIED:20190318T035942Z
UID:10008757-1553612400-1553619600@goodmorningwilton.com
SUMMARY:Stay at Home in Wilton Talk:  Are You Ready to Downsize?
DESCRIPTION:Alexis Boccanfuso\, professional organizer\, and Peter Schattenfield of Turning Point Estates\, share professional tips on decluttering\, downsizing and organizing. \nTopics Include: \n\nHow to decide what to keep\nRecognizing barriers to parting with possessions\nDealing with Stuff: selling items\, charitable donations and disposing of unwanted items\nPreparing your home to sell\nPacking and selling\n\nFor more information call 203.762.2600. Reservations are recommended.
URL:https://goodmorningwilton.com/event/stay-at-home-in-wilton-talk-are-you-ready-to-downsize/
LOCATION:Wilton Senior Center\, 180 School Road\, Wilton\, 06897\, United States
CATEGORIES:discussion,Free,Presentation,Seminar,Seniors
ATTACH;FMTTYPE=image/png:https://goodmorningwilton.com/wp-content/uploads/2019/03/decluttering.png
ORGANIZER;CN="Stay at Home in Wilton":MAILTO:deb@shwil.org
GEO:41.2020422;-73.4335825
X-APPLE-STRUCTURED-LOCATION;VALUE=URI;X-ADDRESS=Wilton Senior Center 180 School Road Wilton 06897 United States;X-APPLE-RADIUS=500;X-TITLE=180 School Road:geo:-73.4335825,41.2020422
END:VEVENT
BEGIN:VEVENT
DTSTART;TZID=America/New_York:20190323T190000
DTEND;TZID=America/New_York:20190323T213000
DTSTAMP:20260420T195549
CREATED:20190220T230945Z
LAST-MODIFIED:20190220T230945Z
UID:10008531-1553367600-1553376600@goodmorningwilton.com
SUMMARY:An Evening of Laurel & Hardy Silent Movies with Live Piano Accompaniment!
DESCRIPTION:Wilton’s historic Cannon Grange Hall presents a triple feature of Laurel & Hardy silent movies with live piano accompaniment on Saturday\, March 23 at 7 p.m.. Grange member and Wilton resident John Mucci will present the movies and provide a dazzling piano score to each of the movies. This is a wonderful activity for children\, adults\, teens\, youth groups. Free parking at the Cannondale Railroad Station across the road from the Cannon Grange. Refreshments will be available. Tickets are $6 and may be purchased online (with a small service fee)\, or at the door. For additional information\, call 203.762.1900 or email.
URL:https://goodmorningwilton.com/event/an-evening-of-laurel-hardy-silent-movies-with-live-piano-accompaniment/
LOCATION:Cannon Grange Hall\, 25 Cannon Road\, Wilton\, CT\, 06897
CATEGORIES:Club,Family Event,Film,Kids,Live Music,Seniors
ATTACH;FMTTYPE=image/jpeg:https://goodmorningwilton.com/wp-content/uploads/2019/02/lhimage.jpg
END:VEVENT
BEGIN:VEVENT
DTSTART;TZID=America/New_York:20190226T150000
DTEND;TZID=America/New_York:20190226T170000
DTSTAMP:20260420T195549
CREATED:20190219T010732Z
LAST-MODIFIED:20190219T010732Z
UID:10008263-1551193200-1551200400@goodmorningwilton.com
SUMMARY:Tax Breaks & Smart Strategies for Seniors
DESCRIPTION:Jim Kapustka\, CPA and retired global controller for Marsh & McLennan Companies\, is the treasurer of Stay at Home in Wilton. He will discuss the new tax law and how it affects seniors. \nTopics of discussion include: \n\n2018 tax update for seniors\nTax cuts and jobs act:  impact on brackets\, deductions and other changes\nDocumentation and tax return retention\nTen financial scams aimed at seniors and how to avoid them
URL:https://goodmorningwilton.com/event/tax-breaks-smart-strategies-for-seniors/
LOCATION:Wilton Senior Center\, 180 School Road\, Wilton\, 06897\, United States
CATEGORIES:Free,Presentation,Seminar,Seniors
ATTACH;FMTTYPE=image/png:https://goodmorningwilton.com/wp-content/uploads/2019/02/jim-kapustka.png
ORGANIZER;CN="Stay at Home in Wilton":MAILTO:deb@shwil.org
GEO:41.2020422;-73.4335825
X-APPLE-STRUCTURED-LOCATION;VALUE=URI;X-ADDRESS=Wilton Senior Center 180 School Road Wilton 06897 United States;X-APPLE-RADIUS=500;X-TITLE=180 School Road:geo:-73.4335825,41.2020422
END:VEVENT
BEGIN:VEVENT
DTSTART;TZID=America/New_York:20190122T030000
DTEND;TZID=America/New_York:20190122T160000
DTSTAMP:20260420T195549
CREATED:20190121T111125Z
LAST-MODIFIED:20190121T111125Z
UID:10008403-1548126000-1548172800@goodmorningwilton.com
SUMMARY:Making Seniors a Priority in Wilton–Meet and Greet with Will Haskell
DESCRIPTION:Meet State Senator Will Haskell and Stay at Home in Wilton president Sally Maraventano Kirmser. An informal discussion will be followed by a Q & A. Bring your questions! \nJoin us for a special meet and greet with biscotti and Italian pastries and learn about the many opportunities for enjoyable and meaningful activity.
URL:https://goodmorningwilton.com/event/making-seniors-a-priority-in-wilton-meet-and-greet-with-will-haskell/
LOCATION:Wilton Senior Center\, 180 School Road\, Wilton\, 06897\, United States
CATEGORIES:discussion,Free,Meeting,Open House,Presentation,Seniors
ATTACH;FMTTYPE=image/jpeg:https://goodmorningwilton.com/wp-content/uploads/2019/01/will-and-sally-photo.jpg
ORGANIZER;CN="Stay at Home in Wilton":MAILTO:deb@shwil.org
GEO:41.2020422;-73.4335825
X-APPLE-STRUCTURED-LOCATION;VALUE=URI;X-ADDRESS=Wilton Senior Center 180 School Road Wilton 06897 United States;X-APPLE-RADIUS=500;X-TITLE=180 School Road:geo:-73.4335825,41.2020422
END:VEVENT
BEGIN:VEVENT
DTSTART;TZID=America/New_York:20181023T150000
DTEND;TZID=America/New_York:20181023T170000
DTSTAMP:20260420T195549
CREATED:20181016T150819Z
LAST-MODIFIED:20181016T150819Z
UID:10008266-1540306800-1540314000@goodmorningwilton.com
SUMMARY:Scam Prevention
DESCRIPTION:On Tuesday\, Oct. 23\, Lt. David Hartman\, Officer Diane MacLean and Officer Jonathan Patry will give a talk on “Scam Prevention” at the Senior Center. They will teach the audience how to recognize a scam and what to do if you’re a victim. Participants will see actual scam letters that were mailed to Wilton residents. The Wilton Police Department will have handouts available with information where victims can file formal complaints if they have been scammed.
URL:https://goodmorningwilton.com/event/scam-prevention/
LOCATION:Wilton Senior Center\, 180 School Road\, Wilton\, 06897\, United States
CATEGORIES:discussion,Free,Not for profit,Police,Presentation,Seminar,Seniors
ATTACH;FMTTYPE=image/jpeg:https://goodmorningwilton.com/wp-content/uploads/2018/10/lt.-hartman-1.jpg
ORGANIZER;CN="Stay at Home in Wilton":MAILTO:deb@shwil.org
GEO:41.2020422;-73.4335825
X-APPLE-STRUCTURED-LOCATION;VALUE=URI;X-ADDRESS=Wilton Senior Center 180 School Road Wilton 06897 United States;X-APPLE-RADIUS=500;X-TITLE=180 School Road:geo:-73.4335825,41.2020422
END:VEVENT
BEGIN:VEVENT
DTSTART;TZID=America/New_York:20181011T190000
DTEND;TZID=America/New_York:20181011T203000
DTSTAMP:20260420T195549
CREATED:20180928T184720Z
LAST-MODIFIED:20180928T184720Z
UID:10008215-1539284400-1539289800@goodmorningwilton.com
SUMMARY:Medicare Bootcamp
DESCRIPTION:Ever wonder how to sign up for Medicare\, when you are eligible\, or what your options are? \nPlease join the Wilton Library for a community conversation which will provide information for those who will be new to Medicare in the near future. Learn the ‘ins and outs’ of Medicare enrollment and how to avoid mistakes that can be costly. And\, most important\, please bring questions of your own. There will be a brief presentation by Nancy Lombard\, long-term options specialist and CHOICES counselor for the Southwest CT Agency on Aging\, and Lauren Hughes\, coordinator of senior services for the Wilton Department of Social Services. \nNo charge. Registration recommended. To register\, visit the Wilton Library website or call 203.762.3950.
URL:https://goodmorningwilton.com/event/medicare-bootcamp/
LOCATION:Wilton Library\, 137 Old Ridgefield Road\, Wilton\, CT\, 06897\, United States
CATEGORIES:discussion,Free,Lecture,Seniors
ATTACH;FMTTYPE=image/png:https://goodmorningwilton.com/wp-content/uploads/2018/09/medicare.png
ORGANIZER;CN="Wilton Library":MAILTO:publicity@wiltonlibrary.org
GEO:41.1925414;-73.4313726
X-APPLE-STRUCTURED-LOCATION;VALUE=URI;X-ADDRESS=Wilton Library 137 Old Ridgefield Road Wilton CT 06897 United States;X-APPLE-RADIUS=500;X-TITLE=137 Old Ridgefield Road:geo:-73.4313726,41.1925414
END:VEVENT
BEGIN:VEVENT
DTSTART;TZID=America/New_York:20180930T150000
DTEND;TZID=America/New_York:20180930T170000
DTSTAMP:20260420T195549
CREATED:20180829T205529Z
LAST-MODIFIED:20180829T205529Z
UID:10008104-1538319600-1538326800@goodmorningwilton.com
SUMMARY:The Spiritual\, Medical\, and Legal Aspects of Aging
DESCRIPTION:Stay at Home in Wilton invites you to a roundtable discussion featuring three leaders from the community who will speak on issues associated with aging and the retirement years. \n\nPastor and author\, Rev. Shannon White\, will discuss the role of spirituality and aging\nAttorney Christine Tenore\, elder law expert from the firm of Eliovson and Tenore\, will discuss important legal considerations including wills and advanced directives in health care\nDr. Andrea Peterson\, an internist and moderator of Health Talk\, will discuss preventative health care recommendations.\n\nReception will follow. No charge. Open to the public. Reservations recommended–call 203.762.2600.
URL:https://goodmorningwilton.com/event/the-spiritual-medical-and-legal-aspects-of-aging/
LOCATION:Trackside Teen Center\, 15 Station Road\, Wilton\, CT\, 06897\, United States
CATEGORIES:discussion,Free,Not for profit,Presentation,Seniors
ATTACH;FMTTYPE=image/jpeg:https://goodmorningwilton.com/wp-content/uploads/2018/08/93425-425x282-beachwalking.jpg
ORGANIZER;CN="Stay at Home in Wilton":MAILTO:deb@shwil.org
END:VEVENT
BEGIN:VEVENT
DTSTART;TZID=America/New_York:20180927T100000
DTEND;TZID=America/New_York:20180927T120000
DTSTAMP:20260420T195549
CREATED:20180829T211136Z
LAST-MODIFIED:20180829T211136Z
UID:10008081-1538042400-1538049600@goodmorningwilton.com
SUMMARY:September New Canaan Nature Center Walk & Picnic with Stay at Home in Wilton
DESCRIPTION:All senior citizens are welcomed to join Stay at Home in Wilton president Peter Dodds for a walk at New Canaan Nature Center. Walkers can meet at the commuter lot\, north of Orem’s Diner (corner of Wolfpit Rd. and Rt. 7/Danbury Rd.) at 10 a.m. to carpool. Pack a picnic lunch to enjoy outdoors. All levels welcomed also. For more information call 203.762.2600.
URL:https://goodmorningwilton.com/event/september-new-canaan-nature-center-walk-picnic-with-stay-at-home-in-wilton/
LOCATION:New Canaan Nature Center\, 144 Oenoke Ridge\, New Canaan\, CT\, 06840\, United States
CATEGORIES:Community Events,Free,Not for profit,Seniors,Walk/Hike
ATTACH;FMTTYPE=image/jpeg:https://goodmorningwilton.com/wp-content/uploads/2018/08/new-canaan-nature-center-sign.jpg
ORGANIZER;CN="Stay at Home in Wilton":MAILTO:deb@shwil.org
END:VEVENT
BEGIN:VEVENT
DTSTART;TZID=America/New_York:20180925T150000
DTEND;TZID=America/New_York:20180925T170000
DTSTAMP:20260420T195549
CREATED:20180829T211318Z
LAST-MODIFIED:20180829T211318Z
UID:10008089-1537887600-1537894800@goodmorningwilton.com
SUMMARY:Fall Prevention
DESCRIPTION:September is Fall Prevention Month! \nJoan Dodds PT\, physical therapist with Visiting Nursing & Hospice of Fairfield County\, will discuss practical measures in preventing falls\, importance of exercise\, control of medical problems and measures to make our homes safer. This event is sponsored by Lang’s Pharmacy. No charge.
URL:https://goodmorningwilton.com/event/fall-prevention/
LOCATION:Wilton Senior Center\, 180 School Road\, Wilton\, 06897\, United States
CATEGORIES:discussion,Free,Lecture,Not for profit,Presentation,Seniors
ATTACH;FMTTYPE=image/jpeg:https://goodmorningwilton.com/wp-content/uploads/2018/08/workplace-protection-and-fall-prevention-training.jpg
ORGANIZER;CN="Stay at Home in Wilton":MAILTO:deb@shwil.org
GEO:41.2020422;-73.4335825
X-APPLE-STRUCTURED-LOCATION;VALUE=URI;X-ADDRESS=Wilton Senior Center 180 School Road Wilton 06897 United States;X-APPLE-RADIUS=500;X-TITLE=180 School Road:geo:-73.4335825,41.2020422
END:VEVENT
BEGIN:VEVENT
DTSTART;TZID=America/New_York:20180816T110000
DTEND;TZID=America/New_York:20180816T130000
DTSTAMP:20260420T195549
CREATED:20180706T132612Z
LAST-MODIFIED:20180706T132612Z
UID:10008070-1534417200-1534424400@goodmorningwilton.com
SUMMARY:August Walk at Sherwood Island
DESCRIPTION:All senior residents are invited to join Stay at Home in Wilton’s Walking Group for a scenic walk at Sherwood Island. Walkers can meet the group at the park at 11 a.m. or carpool from the commuter lot north of Orem’s at 10 a.m.. Lunch will follow at the Sherwood Diner. \nPeter Dodds\, president of Stay at Home in Wilton\, will lead the walk. All levels welcomed. For more information or to RSVP contact Janet Johnson at 203.762.2600.
URL:https://goodmorningwilton.com/event/august-walk-at-sherwood-island/
LOCATION:Sherwood Island\, Sherwood Island Connector\, Westport\, CT\, 06880\, United States
CATEGORIES:Seniors,Walk/Hike
ATTACH;FMTTYPE=image/png:https://goodmorningwilton.com/wp-content/uploads/2018/07/sherwood-island.png
ORGANIZER;CN="Stay at Home in Wilton":MAILTO:deb@shwil.org
GEO:41.1250899;-73.3321671
X-APPLE-STRUCTURED-LOCATION;VALUE=URI;X-ADDRESS=Sherwood Island Sherwood Island Connector Westport CT 06880 United States;X-APPLE-RADIUS=500;X-TITLE=Sherwood Island Connector:geo:-73.3321671,41.1250899
END:VEVENT
BEGIN:VEVENT
DTSTART;TZID=America/New_York:20180719T103000
DTEND;TZID=America/New_York:20180719T123000
DTSTAMP:20260420T195549
CREATED:20180706T132815Z
LAST-MODIFIED:20180706T132815Z
UID:10008072-1531996200-1532003400@goodmorningwilton.com
SUMMARY:July Walk and Picnic at Cranbury Park
DESCRIPTION:All senior residents are invited to join Stay at Home in Wilton’s Walking Club for a picturesque walk around beautiful Cranbury Park. President Peter Dodds will lead the group on a leisurely walk pass the old stone mansion\, gardens and along the trails. All levels invited. Walkers can carpool from the commuter lot north of Orem’s Diner at 10 a.m. or meet at the park at 10:30 a.m.. Pack a picnic lunch! For more information or to RSVP contact Janet Johnson at 203.762.2600.
URL:https://goodmorningwilton.com/event/july-walk-and-picnic-at-cranbury-park/
LOCATION:Cranbury Park\, 300 Grumman AveT\, Norwalk\, CT\, 06851\, United States
CATEGORIES:Seniors,Walk/Hike
ATTACH;FMTTYPE=image/jpeg:https://goodmorningwilton.com/wp-content/uploads/2018/07/mansion-with-forsythia-from-rt.jpg
ORGANIZER;CN="Stay at Home in Wilton":MAILTO:deb@shwil.org
GEO:41.163833;-73.404951
X-APPLE-STRUCTURED-LOCATION;VALUE=URI;X-ADDRESS=Cranbury Park 300 Grumman AveT Norwalk CT 06851 United States;X-APPLE-RADIUS=500;X-TITLE=300 Grumman AveT:geo:-73.404951,41.163833
END:VEVENT
BEGIN:VEVENT
DTSTART;TZID=America/New_York:20180628T100000
DTEND;TZID=America/New_York:20180628T140000
DTSTAMP:20260420T195549
CREATED:20180621T182026Z
LAST-MODIFIED:20180621T182026Z
UID:10008023-1530180000-1530194400@goodmorningwilton.com
SUMMARY:Stay at Home in Wilton June Walking Club: New Canaan Nature Center
DESCRIPTION:Stay at Home in Wilton‘s Walking Club invites all seniors to join their June Walk at the New Canaan Nature Center. All levels are welcome! \nStay at Home in Wilton president Peter Dodds will lead the group on a leisurely walk along the trails. Walkers will pair up with walkers with a similar pace. New Canaan Nature Center offers new walking trails\, beautiful gardens and a picnic area. Pack a picnic lunch to enjoy afterwards. \nMeet at the nature center at 10:30 a.m. or at the commuter lot north of Orem’s Diner at 10 a.m. to carpool. Open to the public. No charge. For more information contact Janet Johnson at 203.762.2600.
URL:https://goodmorningwilton.com/event/stay-at-home-in-wilton-june-walking-club-new-canaan-nature-center/
LOCATION:New Canaan Nature Center\, 144 Oenoke Ridge\, New Canaan\, CT\, 06840\, United States
CATEGORIES:Free,Not for profit,Seniors,Walk/Hike
ORGANIZER;CN="Stay at Home in Wilton":MAILTO:deb@shwil.org
END:VEVENT
END:VCALENDAR