BEGIN:VCALENDAR
VERSION:2.0
PRODID:-//Good Morning Wilton - ECPv6.15.20//NONSGML v1.0//EN
CALSCALE:GREGORIAN
METHOD:PUBLISH
X-ORIGINAL-URL:https://goodmorningwilton.com
X-WR-CALDESC:Events for Good Morning Wilton
REFRESH-INTERVAL;VALUE=DURATION:PT1H
X-Robots-Tag:noindex
X-PUBLISHED-TTL:PT1H
BEGIN:VTIMEZONE
TZID:America/New_York
BEGIN:DAYLIGHT
TZOFFSETFROM:-0500
TZOFFSETTO:-0400
TZNAME:EDT
DTSTART:20170312T070000
END:DAYLIGHT
BEGIN:STANDARD
TZOFFSETFROM:-0400
TZOFFSETTO:-0500
TZNAME:EST
DTSTART:20171105T060000
END:STANDARD
BEGIN:DAYLIGHT
TZOFFSETFROM:-0500
TZOFFSETTO:-0400
TZNAME:EDT
DTSTART:20180311T070000
END:DAYLIGHT
BEGIN:STANDARD
TZOFFSETFROM:-0400
TZOFFSETTO:-0500
TZNAME:EST
DTSTART:20181104T060000
END:STANDARD
BEGIN:DAYLIGHT
TZOFFSETFROM:-0500
TZOFFSETTO:-0400
TZNAME:EDT
DTSTART:20190310T070000
END:DAYLIGHT
BEGIN:STANDARD
TZOFFSETFROM:-0400
TZOFFSETTO:-0500
TZNAME:EST
DTSTART:20191103T060000
END:STANDARD
BEGIN:DAYLIGHT
TZOFFSETFROM:-0500
TZOFFSETTO:-0400
TZNAME:EDT
DTSTART:20200308T070000
END:DAYLIGHT
BEGIN:STANDARD
TZOFFSETFROM:-0400
TZOFFSETTO:-0500
TZNAME:EST
DTSTART:20201101T060000
END:STANDARD
BEGIN:DAYLIGHT
TZOFFSETFROM:-0500
TZOFFSETTO:-0400
TZNAME:EDT
DTSTART:20210314T070000
END:DAYLIGHT
BEGIN:STANDARD
TZOFFSETFROM:-0400
TZOFFSETTO:-0500
TZNAME:EST
DTSTART:20211107T060000
END:STANDARD
BEGIN:DAYLIGHT
TZOFFSETFROM:-0500
TZOFFSETTO:-0400
TZNAME:EDT
DTSTART:20220313T070000
END:DAYLIGHT
BEGIN:STANDARD
TZOFFSETFROM:-0400
TZOFFSETTO:-0500
TZNAME:EST
DTSTART:20221106T060000
END:STANDARD
BEGIN:DAYLIGHT
TZOFFSETFROM:-0500
TZOFFSETTO:-0400
TZNAME:EDT
DTSTART:20230312T070000
END:DAYLIGHT
BEGIN:STANDARD
TZOFFSETFROM:-0400
TZOFFSETTO:-0500
TZNAME:EST
DTSTART:20231105T060000
END:STANDARD
BEGIN:DAYLIGHT
TZOFFSETFROM:-0500
TZOFFSETTO:-0400
TZNAME:EDT
DTSTART:20240310T070000
END:DAYLIGHT
BEGIN:STANDARD
TZOFFSETFROM:-0400
TZOFFSETTO:-0500
TZNAME:EST
DTSTART:20241103T060000
END:STANDARD
BEGIN:DAYLIGHT
TZOFFSETFROM:-0500
TZOFFSETTO:-0400
TZNAME:EDT
DTSTART:20250309T070000
END:DAYLIGHT
BEGIN:STANDARD
TZOFFSETFROM:-0400
TZOFFSETTO:-0500
TZNAME:EST
DTSTART:20251102T060000
END:STANDARD
END:VTIMEZONE
BEGIN:VEVENT
DTSTART;TZID=America/New_York:20180621T190000
DTEND;TZID=America/New_York:20180621T220000
DTSTAMP:20260420T134803
CREATED:20180620T005139Z
LAST-MODIFIED:20180620T005139Z
UID:10007990-1529607600-1529618400@goodmorningwilton.com
SUMMARY:POCD Public Workshop – Conservation\, Preservation and Cultural Resources
DESCRIPTION:As part of the ongoing update of Wilton’s 2019-2029 Plan of Conservation and Development\, the Wilton Planning and Zoning Commission invites the public to its next public workshop on Thursday\, June 21\, at 7 p.m.\, at Trackside Teen Center (15 Station Rd.)\, to discuss conservation\, preservation and sustainability. \nAs a reminder\, written comments on the plan\, workshops or related topics can be submitted by email or via the Plan of Conservation and Development website\, where all information\, presentations\, comments\, schedules\, surveys and more are available for viewing. \nFinally\, we encourage everyone to please complete the online survey No. 5 on Wilton Center and Other Villages\, available via the Wilton2029 website or directly here. Responses are requested by June 19 for analysis at the next public workshop\, but the survey will be kept open.
URL:https://goodmorningwilton.com/event/pocd-public-workshop-conservation-preservation-and-cultural-resources-2/
LOCATION:Trackside Teen Center\, 15 Station Road\, Wilton\, CT\, 06897\, United States
CATEGORIES:Hindu Temple,Religious Event,Synagogue,Town/Government Meeting
END:VEVENT
BEGIN:VEVENT
DTSTART;TZID=America/New_York:20191117T110000
DTEND;TZID=America/New_York:20191117T113000
DTSTAMP:20260420T134803
CREATED:20191113T120440Z
LAST-MODIFIED:20191113T120440Z
UID:10009181-1573988400-1573990200@goodmorningwilton.com
SUMMARY:Blessing of the Pets at Temple B'nai Chaim
DESCRIPTION:Temple B’nai Chaim is holding a community-wide Blessing of the Pets. Everyone is welcome and encouraged to attend! \nAs we gather in the courtyard\, Rabbi Bearman and Student Cantor Hamstra will lead a brief ceremony where we celebrate the love\, laughter\, and companionship that our pets bring to our lives. We will also offer a prayer of mourning for anyone who is remembering a beloved pet. \nAll animals are welcome but should be either leashed or secured in travel cages. \nLocal photographers Bruce Miller and Jon Gordon will be on hand to take photos–including pet portraits–for participants to purchase. These make a great holiday gifts! (Pricing is available upon request.) \nEmail Temple B’nai Chaim for more information.
URL:https://goodmorningwilton.com/event/blessing-of-the-pets-at-temple-bnai-chaim/
LOCATION:Temple B’nai Chaim\, 82 Portland Avenue\, WIlton\, CT\, 06897\, United States
CATEGORIES:Animals,Community Events,Family Event,Fundraiser,Kids,Pets,Synagogue
ATTACH;FMTTYPE=image/png:https://goodmorningwilton.com/wp-content/uploads/2019/11/blessing-of-the-pets-cats-and-dogs.png
ORGANIZER;CN="Temple B'nai Chaim":MAILTO:tbc@templebnaichaim.org
END:VEVENT
BEGIN:VEVENT
DTSTART;TZID=America/New_York:20191125T190000
DTEND;TZID=America/New_York:20191125T203000
DTSTAMP:20260420T134803
CREATED:20191119T223057Z
LAST-MODIFIED:20191119T223057Z
UID:10009249-1574708400-1574713800@goodmorningwilton.com
SUMMARY:Interfaith Thankgiving Service
DESCRIPTION:Temple B’nai Chaim is hosting this year’s Interfaith Thanksgiving Service:  A Night of Giving Thanks.  \nPeople of all faiths and all backgrounds will gather together to offer gratitude for friendship and all the blessings in our lives.\nThe wider community is invited to this special experience\, led by multiple interfaith leaders of the community.
URL:https://goodmorningwilton.com/event/interfaith-thankgiving-service/
LOCATION:Temple B’nai Chaim\, 82 Portland Avenue\, WIlton\, CT\, 06897\, United States
CATEGORIES:Churches,Community Events,Family Event,Free,Not for profit,Religious Event,Synagogue,Worship
ATTACH;FMTTYPE=image/png:https://goodmorningwilton.com/wp-content/uploads/2019/11/intefaith-thanksgiving-1-social-media-post.png
ORGANIZER;CN="Temple B'nai Chaim":MAILTO:tbc@templebnaichaim.org
END:VEVENT
BEGIN:VEVENT
DTSTART;TZID=America/New_York:20191210T160000
DTEND;TZID=America/New_York:20191210T170000
DTSTAMP:20260420T134803
CREATED:20191202T084808Z
LAST-MODIFIED:20191202T090927Z
UID:10008606-1575993600-1575997200@goodmorningwilton.com
SUMMARY:Hanukkah Hoopla at Wilton Library with Temple B'nai Chaim
DESCRIPTION:This December\, Temple B’nai Chaim is partnering with local libraries to spread some Hanukkah magic!  On Tuesday\, Dec. 10 at 4 p.m. Rabbi Bearman visits Wilton Library for a Hanukkah Hoopla program. Enjoy stories and a craft all about the festival of lights! Especially for children in grades K-3. Register online to attend.
URL:https://goodmorningwilton.com/event/hanukkah-hoopla/
LOCATION:Wilton Library\, 137 Old Ridgefield Rd.\, Wilton\, CT\, 06987
CATEGORIES:Create!,Family Event,Free,Kids,Not for profit,Religious Event,Synagogue
ATTACH;FMTTYPE=image/jpeg:https://goodmorningwilton.com/wp-content/uploads/2019/12/hanukkah-2197684_1280-e1575276471904.jpg
ORGANIZER;CN="Temple B'nai Chaim":MAILTO:tbc@templebnaichaim.org
END:VEVENT
BEGIN:VEVENT
DTSTART;TZID=America/New_York:20191219T160000
DTEND;TZID=America/New_York:20191219T170000
DTSTAMP:20260420T134804
CREATED:20191202T091721Z
LAST-MODIFIED:20191217T215711Z
UID:10008608-1576771200-1576774800@goodmorningwilton.com
SUMMARY:Dreidel Days at Wilton Library with Temple B'nai Chaim–NEW DATE
DESCRIPTION:NEW DATE!  On Thursday\, Dec. 19 at 4 p.m.\, Rabbi Bearman and Director of Lifelong Learning Karin Beitel invite the community to join them at Wilton Library for Dreidel Days\, an interactive Hanukkah program where people of all ages will learn\, play\, and celebrate the Hanukkah season! \nNo registration required.
URL:https://goodmorningwilton.com/event/dreidel-days-at-wilton-library-with-temple-bnai-chaim/
LOCATION:Wilton Library\, 137 Old Ridgefield Rd.\, Wilton\, CT\, 06987
CATEGORIES:Free,Kids,Religious Event,Synagogue
ATTACH;FMTTYPE=image/jpeg:https://goodmorningwilton.com/wp-content/uploads/2019/12/dreidels-20347_1280.jpg
END:VEVENT
BEGIN:VEVENT
DTSTART;TZID=America/New_York:20201217T160000
DTEND;TZID=America/New_York:20201217T170000
DTSTAMP:20260420T134804
CREATED:20201119T222355Z
LAST-MODIFIED:20201216T115308Z
UID:10009096-1608220800-1608224400@goodmorningwilton.com
SUMMARY:Zooming Hanukkah Hoopla:  Stories and Fun!
DESCRIPTION:Join the Wilton Library\, alongside special guest Cantor Harriet Dunkerley from Temple B’nai Chaim\, on Zoom for a fun afternoon all about the festival of lights. You will learn about the holiday\, hear stories\, do a craft and get the opportunity to see a variety of menorahs. If you have a menorah at home\, feel free to have it on hand to share. Registration is required. Once you are registered you will be contacted to pick up your kit containing craft supplies and some fun Hanukkah treats. Zoom link will be sent out before the program. For children in grades Kindergarten and up. Visit the Wilton Library website to register.
URL:https://goodmorningwilton.com/event/zooming-hanukkah-hoopla-stories-and-fun/
LOCATION:ZOOM
CATEGORIES:craft,Family Event,Free,Kids,Library,Online,Synagogue,Zoom Call
ATTACH;FMTTYPE=image/png:https://goodmorningwilton.com/wp-content/uploads/2020/11/HANUKKAH_PNG34_7E00E781.png
ORGANIZER;CN="Wilton Library":MAILTO:publicity@wiltonlibrary.org
END:VEVENT
BEGIN:VEVENT
DTSTART;TZID=America/New_York:20210119T190000
DTEND;TZID=America/New_York:20210119T193000
DTSTAMP:20260420T134804
CREATED:20210115T123853Z
LAST-MODIFIED:20210115T124628Z
UID:10010113-1611082800-1611084600@goodmorningwilton.com
SUMMARY:Interfaith Prayer Service for Hope and Peace
DESCRIPTION:Members of the Wilton Interfaith Clergy Association are sponsoring an Interfaith Prayer Service for Hope and Peace\, in response to recent events in Washington DC. \nThe webinar/Zoom is scheduled for Tuesday\, Jan. 19 from 7-7:30 p.m. Organizers can accommodate 300 people on this webinar/zoom; advance registration online is required for security purposes. After registering\, you will receive a confirmation email containing information about joining the webinar. \nPrayers\, readings and music from a variety of faith traditions will be offered; \nALL are welcome!
URL:https://goodmorningwilton.com/event/interfaith-prayer-service-for-hope-and-peace/
LOCATION:ZOOM
CATEGORIES:Churches,Community Events,Free,Online,Religious Event,Support Group,Synagogue,Worship,Zoom Call
ATTACH;FMTTYPE=image/jpeg:https://goodmorningwilton.com/wp-content/uploads/2016/02/Interfaith-symbols.jpg
END:VEVENT
BEGIN:VEVENT
DTSTART;TZID=America/New_York:20210501T183000
DTEND;TZID=America/New_York:20210501T213000
DTSTAMP:20260420T134804
CREATED:20210419T183315Z
LAST-MODIFIED:20210422T210248Z
UID:10010697-1619893800-1619904600@goodmorningwilton.com
SUMMARY:Havdalah and Music Under the Stars
DESCRIPTION:“Havdalah and Music Under The Stars” – A Night of Cabaret and Jazz\, following a brief Havdalah service. Bring your own chairs\, food and refreshments\, and join us in Temple B’nai Chaim‘s parking lot to enjoy the music. Our Jazz line-up features John Dunkerley on keyboards\, Ben Carriel on drums\, Danny Patiris on sax\, with vocals by big band singer Doug Ferony\, cabaret stylings from TBC congregant Jerry O’Neil\, our own Cantor Harriet and other special guests! The concert is free\, donations will be graciously accepted.
URL:https://goodmorningwilton.com/event/havdalah-and-music-under-the-stars/
LOCATION:Temple B’nai Chaim\, 82 Portland Avenue\, WIlton\, CT\, 06897\, United States
CATEGORIES:Concert,Free,Live Music,Outdoor Event,Synagogue
ATTACH;FMTTYPE=image/png:https://goodmorningwilton.com/wp-content/uploads/2021/04/unsplash-Jazz-TBC-event.png
ORGANIZER;CN="Temple B'nai Chaim":MAILTO:tbc@templebnaichaim.org
END:VEVENT
BEGIN:VEVENT
DTSTART;VALUE=DATE:20210508
DTEND;VALUE=DATE:20210516
DTSTAMP:20260420T134804
CREATED:20210419T183900Z
LAST-MODIFIED:20210422T233727Z
UID:10010696-1620432000-1621123199@goodmorningwilton.com
SUMMARY:Temple B'nai Chaim Virtual Art Sale
DESCRIPTION:Temple B’nai Chaim‘s virtual art sale includes an extensive collection of eclectic art\, sculpture and jewelry. Artists include Lionel Barrymore\, Babette Bloch\, Saul Chase\, Jon Gordon\, Joni Johns Lerner\, Richard Lerner\, Aldo Luongo\, LeRoy Neiman\, Frederic Remington and many more. Visit the art sale website to view and bid on art or to make a donation.
URL:https://goodmorningwilton.com/event/temple-bnai-chaim-virtual-art-sale/
LOCATION:Online
CATEGORIES:Art Auction,Arts,Fundraiser,Online,Sale,Synagogue
ATTACH;FMTTYPE=image/png:https://goodmorningwilton.com/wp-content/uploads/2021/04/TBC-Art-Auction-LeRoy-Neiman.png
ORGANIZER;CN="Temple B'nai Chaim":MAILTO:tbc@templebnaichaim.org
END:VEVENT
BEGIN:VEVENT
DTSTART;TZID=America/New_York:20220322T193000
DTEND;TZID=America/New_York:20220322T210000
DTSTAMP:20260420T134804
CREATED:20220318T222959Z
LAST-MODIFIED:20220321T222648Z
UID:10011204-1647977400-1647982800@goodmorningwilton.com
SUMMARY:"Messiah Musings" — The Messiah in Abrahamic Religions Discussion
DESCRIPTION:Please join Temple B’nai Chaim on Tuesday evening\, Mar. 22\, at 7:30 p.m. via Zoom for a conversational dive into the multiple origins\, perspectives and practices concerning the Messiah in the Abrahamic Faith Traditions. \nCantor Harriet Dunkerley will be joined by Rev. Will Fisher of Christ Episcopal Church in Redding\, and Dr. Kareem Adeen\, Founder and Imam of the American Institute for Islamic and Arabic Studies\, for a discussion around their various beliefs\, traditions and tales about “The Messiah.” A question and answer period will follow the discussion. \nRegistration is required. More information is available online.
URL:https://goodmorningwilton.com/event/messiah-musings-the-messiah-in-abrahamic-religions-3-22-730-pm/
LOCATION:ZOOM
CATEGORIES:Churches,discussion,Presentation,Synagogue,Zoom Call
ATTACH;FMTTYPE=image/jpeg:https://goodmorningwilton.com/wp-content/uploads/2022/03/abrahamic-religions_300px.jpg
ORGANIZER;CN="Temple B'nai Chaim":MAILTO:tbc@templebnaichaim.org
END:VEVENT
BEGIN:VEVENT
DTSTART;TZID=America/New_York:20220617T173000
DTEND;TZID=America/New_York:20220617T190000
DTSTAMP:20260420T134804
CREATED:20220610T154508Z
LAST-MODIFIED:20220615T162400Z
UID:10011336-1655487000-1655492400@goodmorningwilton.com
SUMMARY:Burgers and Brews Shabbat at TBC
DESCRIPTION:Join us as at Temple B’nai Chaim as we welcome summer for a fun evening in the Courtyard for Shabbat. There will be a short Shabbat service (15 minutes at most) followed by burgers (beef and veggie) and hot dogs\, salads\, and refreshments including a nice cold brew (soft drinks for the kids) and an opportunity to get together and have a fun evening. \nSpeaking of fun\, we will have a bouncy house for the kids and perhaps some surprise games for kids and adults alike. \nRSVP online so we know how much food to provide.
URL:https://goodmorningwilton.com/event/__trashed-9/
LOCATION:Temple B’nai Chaim\, 82 Portland Avenue\, WIlton\, CT\, 06897\, United States
CATEGORIES:Family Event,Food,Religious Event,Synagogue
ATTACH;FMTTYPE=image/jpeg:https://goodmorningwilton.com/wp-content/uploads/2022/06/burgers_and_brew2.jpg
ORGANIZER;CN="Temple B'nai Chaim":MAILTO:tbc@templebnaichaim.org
END:VEVENT
BEGIN:VEVENT
DTSTART;TZID=America/New_York:20220624T190000
DTEND;TZID=America/New_York:20220624T200000
DTSTAMP:20260420T134804
CREATED:20220618T222146Z
LAST-MODIFIED:20220721T120356Z
UID:10011370-1656097200-1656100800@goodmorningwilton.com
SUMMARY:Special Pride Shabbat at Temple B'nai Chaim
DESCRIPTION:On Friday\, June 24\, Temple B’nai Chaim (TBC) will celebrate its annual Pride Shabbat! Join us for special readings and songs as well as a talk by congregants Jeffrey Busch and Stephen Davis\, TBC’s first same-sex married couple. \nAll are welcome! A special Pride oneg will follow. (Please see TBC’s COVID Safety Guidelines)
URL:https://goodmorningwilton.com/event/special-pride-shabbat-at-temple-bnai-chaim/
LOCATION:Temple B’nai Chaim\, 82 Portland Avenue\, WIlton\, CT\, 06897\, United States
CATEGORIES:Family Event,Religious Event,Synagogue
ATTACH;FMTTYPE=image/jpeg:https://goodmorningwilton.com/wp-content/uploads/2022/06/pride.jpg
ORGANIZER;CN="Temple B'nai Chaim":MAILTO:tbc@templebnaichaim.org
END:VEVENT
BEGIN:VEVENT
DTSTART;TZID=America/New_York:20230122T110000
DTEND;TZID=America/New_York:20230122T140000
DTSTAMP:20260420T134804
CREATED:20230117T165606Z
LAST-MODIFIED:20230117T165606Z
UID:10011678-1674385200-1674396000@goodmorningwilton.com
SUMMARY:Mitzvah Day at Temple B'nai Chaim
DESCRIPTION:Help Temple B’nai Chaim spread kindness throughout the local\, national & global communities! There will be tons of service opportunities and activities for participants of all ages to do. All are welcome to join in fulfilling the mitzvah of Tikkun Olam – Repairing the World!
URL:https://goodmorningwilton.com/event/mitzvah-day-at-temple-bnai-chaim/
LOCATION:Temple B’nai Chaim\, 82 Portland Avenue\, WIlton\, CT\, 06897\, United States
CATEGORIES:Family Event,Free,Religious Event,Synagogue,Volunteer Opportunity
ATTACH;FMTTYPE=image/jpeg:https://goodmorningwilton.com/wp-content/uploads/2023/01/mitzvah-day-graphic.jpg
ORGANIZER;CN="Temple B'nai Chaim":MAILTO:tbc@templebnaichaim.org
END:VEVENT
BEGIN:VEVENT
DTSTART;TZID=America/New_York:20240204T140000
DTEND;TZID=America/New_York:20240204T160000
DTSTAMP:20260420T134804
CREATED:20240126T140351Z
LAST-MODIFIED:20240126T140351Z
UID:10014990-1707055200-1707062400@goodmorningwilton.com
SUMMARY:Confronting Acts of Hate in Our Community
DESCRIPTION:Please join Temple B’nai Chaim and invited guests to a special town hall meeting\, “Confronting Acts of Hate in Our Community\,” on Sunday\, Feb. 4\, at 2 p.m. \nIn light of the unprecedented rise in the number of hate-inspired incidents within our local communities\, Temple B’nai Chaim’s Social Action Group to Confront Antisemitism and Hate ─ in partnership with the Anti-Defamation League’s Kulanu Program\, the Riverbrook YMCA\, and the Wilton Library ─ will offer a two-hour community strengthening program led by faith and local community leaders. \nPanelists representing various faiths and marginalized groups ─ including Cantor Harriet Dunkerley (Temple B’nai Chaim)\, Father Reggie Norman (Our Lady of Fatima)\, Sohair Omar (Muslim community representative)\, Sarvesh Damle (Hindu community representative)\, and Rachel Simon\, ED (LGBT+ community\, Norwalk Triangle Center) ─ will share their communities’ sensitivities and experiences with hate incidents. U.S. Rep. Jim Himes will also speak. \nThe program sponsors hope that this community program will facilitate the formation of a supportive network that will meet periodically to follow up on this forum’s discussions and implement ways to prevent hate speech and acts of hate from invading our community. Most importantly\, its work will address developing a coordinated system of responses to future hate incidents and help ensure support for those who are victims of such acts. \nRegistration is required\, register online.
URL:https://goodmorningwilton.com/event/confronting-acts-of-hate-in-our-community/
LOCATION:Wilton YMCA\, 404 Danbury Rd.\, Wilton\, CT\, 06897\, United States
CATEGORIES:Churches,Civic,Community Events,discussion,Synagogue,YMCA
ATTACH;FMTTYPE=image/jpeg:https://goodmorningwilton.com/wp-content/uploads/2024/01/confronting-acts-of-hate_frame.jpg
ORGANIZER;CN="Temple B'nai Chaim":MAILTO:tbc@templebnaichaim.org
GEO:41.2116373;-73.4291811
X-APPLE-STRUCTURED-LOCATION;VALUE=URI;X-ADDRESS=Wilton YMCA 404 Danbury Rd. Wilton CT 06897 United States;X-APPLE-RADIUS=500;X-TITLE=404 Danbury Rd.:geo:-73.4291811,41.2116373
END:VEVENT
BEGIN:VEVENT
DTSTART;TZID=America/New_York:20240325T190000
DTEND;TZID=America/New_York:20240325T203000
DTSTAMP:20260420T134804
CREATED:20240307T003338Z
LAST-MODIFIED:20240307T003338Z
UID:10015673-1711393200-1711398600@goodmorningwilton.com
SUMMARY:Author Mark Oppenheimer Speaks on "Pittsburgh and Beyond: Antisemitism from the 2018 Synagogue Shooting to Today"
DESCRIPTION:Join Wilton Library and the Wilton Coalition to Combat Antisemitism for an important talk\, “Pittsburgh and Beyond: Antisemitism from the 2018 Synagogue Shooting to Today\,” by Mark Oppenheimer\, on Monday\, March 25 at 7 p.m. Oppenheimer is a NY Times columnist\, Pulitzer grantee and the author of Squirrel Hill\, the Tree of Life Synagogue Shooting and the Soul of a Neighborhood. \nSquirrel Hill\, Pittsburgh is one of the oldest Jewish neighborhoods in the country\, known for its tight-knit community and the profusion of multigenerational families. On October 27\, 2018\, a gunman killed eleven Jews who were worshiping at the Tree of Life Synagogue — the most deadly anti-Semitic attack in American history. \nMany neighborhoods would be understandably subsumed by despair and recrimination after such an event\, but not this one. Oppenheimer poignantly shifts the focus away from the criminal and his crime\, and instead presents the historic\, spirited community at the center of this heartbreak. He even speaks with residents and nonresidents\, Jews and gentiles\, survivors and witnesses\, teenagers and seniors\, activists and historians. \nTogether\, these stories provide a kaleidoscopic and nuanced account of collective grief\, love\, support\, and revival. Yet\, he additionally details the difficult dialogue and messy confrontations that Squirrel Hill had to face in the process of healing. These necessary steps are a part of true growth and understanding in any community. He has reverently captured the vibrancy and caring that still characterize Squirrel Hill\, and it is this phenomenal resilience that can provide inspiration to any place burdened with discrimination and hate. \nOppenheimer has covered American religion for 25 years. He holds a PhD in religious studies from Yale\, and has taught at Stanford\, Wesleyan\, Wellesley\, NYU\, Boston College\, and Yale. He also was the founding director of the Yale Journalism Initiative. On top of that\, he wrote the “Beliefs” column for The New York Times from 2010 – 2016\, and has written for The New Yorker\, The Nation\, GQ\, Slate\, and many more. Oppenheimer notably created Unorthodox\, the world’s most popular podcast about Jewish life and culture\, and more recently hosted the multi-part podcast\, Gatecrashers. This discussed the history of Jews and antisemitism at Ivy League schools. He is the author of five books\, including Squirrel Hill. Since 2023\, he has been Director of Open Learning at American Jewish University and lives in Connecticut with his wife\, four daughters\, one son\, and two dogs. \nElm Street Books will sell copies of the book\, which the author will sign after the program. \nPresented in partnership with Wilton Library\, the Wilton Coalition to Combat Antisemitism\, and the Riverbrook Regional YMCA\, serving Wilton\, Norwalk\, and Redding\, the media sponsor for this event is GOOD Morning Wilton. \nRegistration is required online or call 203.761.6334.
URL:https://goodmorningwilton.com/event/author-mark-oppenheimer-speaks-on-pittsburgh-and-beyond-antisemitism-from-the-2018-synagogue-shooting-to-today/
LOCATION:Wilton Library\, 137 Old Ridgefield Rd.\, Wilton\, CT\, 06987
CATEGORIES:Book Signing,Civic,Community Events,discussion,Library,Synagogue,YMCA
ATTACH;FMTTYPE=image/jpeg:https://goodmorningwilton.com/wp-content/uploads/2024/03/AUTHOR_TALK_MARK_OPPENHEIMER_4FEE1348.jpg
END:VEVENT
END:VCALENDAR