BEGIN:VCALENDAR
VERSION:2.0
PRODID:-//Good Morning Wilton - ECPv6.15.20//NONSGML v1.0//EN
CALSCALE:GREGORIAN
METHOD:PUBLISH
X-ORIGINAL-URL:https://goodmorningwilton.com
X-WR-CALDESC:Events for Good Morning Wilton
REFRESH-INTERVAL;VALUE=DURATION:PT1H
X-Robots-Tag:noindex
X-PUBLISHED-TTL:PT1H
BEGIN:VTIMEZONE
TZID:America/New_York
BEGIN:DAYLIGHT
TZOFFSETFROM:-0500
TZOFFSETTO:-0400
TZNAME:EDT
DTSTART:20230312T070000
END:DAYLIGHT
BEGIN:STANDARD
TZOFFSETFROM:-0400
TZOFFSETTO:-0500
TZNAME:EST
DTSTART:20231105T060000
END:STANDARD
BEGIN:DAYLIGHT
TZOFFSETFROM:-0500
TZOFFSETTO:-0400
TZNAME:EDT
DTSTART:20240310T070000
END:DAYLIGHT
BEGIN:STANDARD
TZOFFSETFROM:-0400
TZOFFSETTO:-0500
TZNAME:EST
DTSTART:20241103T060000
END:STANDARD
BEGIN:DAYLIGHT
TZOFFSETFROM:-0500
TZOFFSETTO:-0400
TZNAME:EDT
DTSTART:20250309T070000
END:DAYLIGHT
BEGIN:STANDARD
TZOFFSETFROM:-0400
TZOFFSETTO:-0500
TZNAME:EST
DTSTART:20251102T060000
END:STANDARD
BEGIN:DAYLIGHT
TZOFFSETFROM:-0500
TZOFFSETTO:-0400
TZNAME:EDT
DTSTART:20260308T070000
END:DAYLIGHT
BEGIN:STANDARD
TZOFFSETFROM:-0400
TZOFFSETTO:-0500
TZNAME:EST
DTSTART:20261101T060000
END:STANDARD
BEGIN:DAYLIGHT
TZOFFSETFROM:-0500
TZOFFSETTO:-0400
TZNAME:EDT
DTSTART:20270314T070000
END:DAYLIGHT
BEGIN:STANDARD
TZOFFSETFROM:-0400
TZOFFSETTO:-0500
TZNAME:EST
DTSTART:20271107T060000
END:STANDARD
END:VTIMEZONE
BEGIN:VEVENT
DTSTART;TZID=America/New_York:20240428T140000
DTEND;TZID=America/New_York:20240428T173000
DTSTAMP:20260421T100919
CREATED:20240216T190423Z
LAST-MODIFIED:20240216T190423Z
UID:10015054-1714312800-1714325400@goodmorningwilton.com
SUMMARY:Screening: The Philadelphia Eleven
DESCRIPTION:St. Matthew’s\, the Episcopal Church in Wilton\, will hold a special screening of a new documentary about the first eleven women who were ordained in the Episcopal Church. This is a fascinating story about women who changed the world around them. It’s a story about the resistance they met and how they overcame it. And it’s a story about their legacy. You can read more about the film online. \nOne of the eleven\, the Rev. Dr. Carter Heyward\, will join. Not only one of these original eleven\, Heyward is also a feminist theologian with a wide scope of influence and interests. Read more about Heward here. \nThe Rev. Dr. will preach at the 10 a.m. worship service at St. Matthew’s. The screening will then be at 2 p.m. followed by a conversation with Heyward. This event is free and open to the public. Light refreshments will be served.
URL:https://goodmorningwilton.com/event/screening-the-philadelphia-eleven/
LOCATION:St. Matthew’s Episcopal Church\, 36 New Canaan Road\, Wilton\, CT\, 06897\, United States
CATEGORIES:Arts,Churches,Community Celebration,Community Events,Educational,Film,Free,Historic,Religious Event,Screening,Women
ATTACH;FMTTYPE=image/jpeg:https://goodmorningwilton.com/wp-content/uploads/2024/02/philadelphia-eleven-square.jpg
ORGANIZER;CN="The Rev. Marissa Rohrbach":MAILTO:marissa@stmatthewswilton.org
GEO:41.1751493;-73.4434533
X-APPLE-STRUCTURED-LOCATION;VALUE=URI;X-ADDRESS=St. Matthew’s Episcopal Church 36 New Canaan Road Wilton CT 06897 United States;X-APPLE-RADIUS=500;X-TITLE=36 New Canaan Road:geo:-73.4434533,41.1751493
END:VEVENT
BEGIN:VEVENT
DTSTART;TZID=America/New_York:20240910T180000
DTEND;TZID=America/New_York:20240910T200000
DTSTAMP:20260421T100919
CREATED:20240908T163129Z
LAST-MODIFIED:20240908T163129Z
UID:10018077-1725991200-1725998400@goodmorningwilton.com
SUMMARY:Wilton Woman's Club 2024-25 Season Kick Off Party
DESCRIPTION:The Wilton Woman’s Club will kick off its 2024-25 year on Tuesday\, Sept. 10 with a Kick Off the Season Party at Old Town Hall at 6 p.m. All are welcome to come together to catch up with old friends\, meet new friends\, and hear about club plans for the upcoming year. \nThe club will focus this year on strengthening social bonds among community members in Wilton. Each month includes Dinner Club get-togethers\, Lunch Club get-togethers\, Wednesday morning walks on the NRVT Trail\, Book Club meeting nights\, and regular monthly club meetings. Visit the website for details\, to join\, and to RSVP. \nA highlight again this year will be a small-group trip to Arthur Avenue in the Bronx\, led by none other than Arthur Avenue expert and Wilton First Selectman Toni Boucher. On that day\, the group will tour bakeries\, delicatessens\, shops\, and eat together at one of the many delicious and authentic Italian restaurants there. \nThe Wilton Woman’s Club was founded in 1966 by Betty Sternad and friends.  Since the start\, the club has contributed to the common good through different community service projects. Today\, the WWC is the only group that goes to the CT Food Bank each week to bring fresh meat and produce to the Wilton Food Pantry. The club also serves lunch to seniors at Ogden House and makes meals at holiday times to deliver to homebound residents. \nLast April\, the WWC held its 15th Annual Fashion Show Fundraiser at Rolling Hills Country Club and raised almost $25\,000 to donate to Waveny-Visiting Nurse & Hospice to provide professional caregiver respite. The 2025 beneficiary will be announced on Dec. 4 at the WWC Holiday Lunch. \n“We look forward to meeting more women in Wilton this year\, contributing to the community\, and strengthening bonds. Come join us and meet a whole new group of people! We look forward to seeing you\,” WWC President Maria Wilcox said.
URL:https://goodmorningwilton.com/event/wilton-womans-club-2024-25-season-kick-off-party/
LOCATION:Old Town Hall\, 69 RIdgefield Road\, Wilton
CATEGORIES:Civic,Club,Meeting,Networking,Not for profit,Reception,Volunteer Opportunity,Women
ATTACH;FMTTYPE=image/png:https://goodmorningwilton.com/wp-content/uploads/2024/08/WWC-BookClub.png
END:VEVENT
BEGIN:VEVENT
DTSTART;TZID=America/New_York:20260312T190000
DTEND;TZID=America/New_York:20260312T200000
DTSTAMP:20260421T100919
CREATED:20260304T192252Z
LAST-MODIFIED:20260304T192252Z
UID:10023884-1773342000-1773345600@goodmorningwilton.com
SUMMARY:America 250: Abigail Adams\, America's First Modern Woman\, as Told by Her Husband John Adams
DESCRIPTION:As we celebrate the 250th anniversary commemorating the American Revolution and the signing of our Declaration of Independence\, the month of March – designated as National Women’s History Month – is a fitting time to celebrate Abigail Adams\, a woman ahead of her time\, as told by her husband John Adams\, portrayed by George Baker. Please join the Wilton Library for this inspiring performance on Thursday\, Mar. 12\, 7:00 – 8:00 p.m. \nSince 2008\, George Baker has portrayed the character of President John Adams in a one-man show throughout the country. He speaks with admiration\, humor\, and affection about his wife\, Abigail\, the “First Modern American Woman\,” describing how she defied the sexist conventions of her time\, that married women could not own property\, yet\, with her amazing financial skills and insights\, made the Adams family prosperous. She helped John found the new nation\, advised him in important political affairs\, and raised their son\, John Quincy Adams\, to be prepared to ultimately become Ambassador to Great Britain\, Secretary of State\, and finally President of the United States. It is a story about their romance\, challenges\, trials\, and accomplishments\, which is the story of ordinary people living in extraordinary times. \nGeorge Baker: \nGeorge Baker has portrayed the character of President John Adams in a one-man show throughout the country at national conventions and venues like Mystic Seaport\, the Presidential Libraries of Harry S Truman\, Dwight D. Eisenhower\, and George H. W. Bush\, and the New York Historical Society\, and was featured as John Adams on NPR‘s weekend program\, Studio 360. George is a graduate of Columbia College and Columbia Law School\, and practiced law in Connecticut from 1973-2024. \nRegistration is requested.  Register online\, or call (203) 762-6334.  \nRegistration will close on March 12\, 2026 at 5:00pm.
URL:https://goodmorningwilton.com/event/america-250-abigail-adams-americas-first-modern-woman-as-told-by-her-husband-john-adams/
LOCATION:Wilton Library\, 137 Old Ridgefield Rd.\, Wilton\, CT\, 06987
CATEGORIES:Educational,Free,Historic,Library,Performance,Women
ATTACH;FMTTYPE=image/jpeg:https://goodmorningwilton.com/wp-content/uploads/2026/03/GMW-Abigail-Adams.jpeg
END:VEVENT
BEGIN:VEVENT
DTSTART;TZID=America/New_York:20260319T180000
DTEND;TZID=America/New_York:20260319T203000
DTSTAMP:20260421T100919
CREATED:20260223T212728Z
LAST-MODIFIED:20260223T212728Z
UID:10023871-1773943200-1773952200@goodmorningwilton.com
SUMMARY:Ladies Night Out at Ambler Farm: Pysanky Ukrainian Egg Decorating
DESCRIPTION:Join Ambler Farm on Thursday\, March 19\, 6:00 p.m. – 8:30 p.m. for Ukrainian Egg Decorating! \nIn Ukraine\, egg decorating is an important art form that dates back centuries. Known as Pysanky\, eggs are decorated using the wax-resist (batik) method. Pysanky is a form of folk art that incorporates different symbols and shapes that are brightly and intricately colored. \nNow is your chance to learn this ancient craft and enjoy a night out with the gals! We’ll provide cheese\, crackers + accompaniments to nibble on\, and we invite you to bring your drink of choice. Registration is now open to members\, and opens to nonmembers February 26. \n$40 per member and $45 per nonmember
URL:https://goodmorningwilton.com/event/ladies-night-out-at-ambler-farm-pysanky-ukrainian-egg-decorating/
LOCATION:Ambler Farm\, 257 Hurlbutt Street\, Wilton\, CT\, 06897
CATEGORIES:Adults,craft,Women
ATTACH;FMTTYPE=image/jpeg:https://goodmorningwilton.com/wp-content/uploads/2026/02/GMW-Egg-Decorating.jpg
ORGANIZER;CN="Ambler Farm":MAILTO:info@amblerfarm.org
END:VEVENT
END:VCALENDAR