BEGIN:VCALENDAR
VERSION:2.0
PRODID:-//Good Morning Wilton - ECPv6.15.20//NONSGML v1.0//EN
CALSCALE:GREGORIAN
METHOD:PUBLISH
X-WR-CALNAME:Good Morning Wilton
X-ORIGINAL-URL:https://goodmorningwilton.com
X-WR-CALDESC:Events for Good Morning Wilton
REFRESH-INTERVAL;VALUE=DURATION:PT1H
X-Robots-Tag:noindex
X-PUBLISHED-TTL:PT1H
BEGIN:VTIMEZONE
TZID:America/New_York
BEGIN:DAYLIGHT
TZOFFSETFROM:-0500
TZOFFSETTO:-0400
TZNAME:EDT
DTSTART:20250309T070000
END:DAYLIGHT
BEGIN:STANDARD
TZOFFSETFROM:-0400
TZOFFSETTO:-0500
TZNAME:EST
DTSTART:20251102T060000
END:STANDARD
BEGIN:DAYLIGHT
TZOFFSETFROM:-0500
TZOFFSETTO:-0400
TZNAME:EDT
DTSTART:20260308T070000
END:DAYLIGHT
BEGIN:STANDARD
TZOFFSETFROM:-0400
TZOFFSETTO:-0500
TZNAME:EST
DTSTART:20261101T060000
END:STANDARD
BEGIN:DAYLIGHT
TZOFFSETFROM:-0500
TZOFFSETTO:-0400
TZNAME:EDT
DTSTART:20270314T070000
END:DAYLIGHT
BEGIN:STANDARD
TZOFFSETFROM:-0400
TZOFFSETTO:-0500
TZNAME:EST
DTSTART:20271107T060000
END:STANDARD
END:VTIMEZONE
BEGIN:VEVENT
DTSTART;TZID=America/New_York:20260429T080000
DTEND;TZID=America/New_York:20260429T100000
DTSTAMP:20260425T181523
CREATED:20260425T172809Z
LAST-MODIFIED:20260425T172809Z
UID:10024215-1777449600-1777456800@goodmorningwilton.com
SUMMARY:Spring Migration Birding at Allen's Meadow and its Community Gardens\, with Joe Bear
DESCRIPTION:Join the Norwalk River Watershed Association for this series of free spring migration bird walks led by expert birder\, conservationist\, master gardener\, and Wilton resident Joe Bear. Bear will lead everyone on a leisurely 2-hour walk from 8:00 a.m. to 10:00 a.m. through the diverse habitats this well-known birding hot spot has to offer – open fields\, woods\, woodland edges\, pond\, and swamp – to seek out returning summer residents\, those on their way to northern breeding grounds\, and maybe a vagrant or two. Previous spring walks have yielded a wide variety of species\, including both Orchard and Baltimore Orioles\, Bobolink\, Indigo Bunting\, Scarlet Tanager\, Eastern Kingbird\, Rose-breasted Grosbeak\, Flycatchers\, Vireos\, and a variety of colorful Warblers.  You’ll get a chance to see up close Eastern Bluebirds and Tree Swallows vying for one of the 12 nest boxes erected by Bear in and around the Little Bluestem meadow.  Bear will also talk about the new native pollinator meadow he’s been working on since 2021.\n\nPlease register using the attached link\, and park in front of the Field 6 sign at Allen’s Meadows\n\nThis event takes place:\nWed. April 29\nFri. May 8\nSat. May 16
URL:https://goodmorningwilton.com/event/spring-migration-birding-at-allens-meadow-and-its-community-gardens-with-joe-bear-2/2026-04-29/
LOCATION:Allen’s Meadows\, 423 Danbury Rd.\, Wilton\, CT\, 06897\, United States
CATEGORIES:Animals,Educational,Environmental,Free,In Person,Nature,Outdoor Event
ATTACH;FMTTYPE=image/jpeg:https://goodmorningwilton.com/wp-content/uploads/2026/04/Rose-breasted-Grosbeak-1.jpg
ORGANIZER;CN="Joe Bear":MAILTO:joebear.gator@gmail.com
END:VEVENT
BEGIN:VEVENT
DTSTART;TZID=America/New_York:20260508T080000
DTEND;TZID=America/New_York:20260508T100000
DTSTAMP:20260425T181523
CREATED:20260425T172809Z
LAST-MODIFIED:20260425T172809Z
UID:10024216-1778227200-1778234400@goodmorningwilton.com
SUMMARY:Spring Migration Birding at Allen's Meadow and its Community Gardens\, with Joe Bear
DESCRIPTION:Join the Norwalk River Watershed Association for this series of free spring migration bird walks led by expert birder\, conservationist\, master gardener\, and Wilton resident Joe Bear. Bear will lead everyone on a leisurely 2-hour walk from 8:00 a.m. to 10:00 a.m. through the diverse habitats this well-known birding hot spot has to offer – open fields\, woods\, woodland edges\, pond\, and swamp – to seek out returning summer residents\, those on their way to northern breeding grounds\, and maybe a vagrant or two. Previous spring walks have yielded a wide variety of species\, including both Orchard and Baltimore Orioles\, Bobolink\, Indigo Bunting\, Scarlet Tanager\, Eastern Kingbird\, Rose-breasted Grosbeak\, Flycatchers\, Vireos\, and a variety of colorful Warblers.  You’ll get a chance to see up close Eastern Bluebirds and Tree Swallows vying for one of the 12 nest boxes erected by Bear in and around the Little Bluestem meadow.  Bear will also talk about the new native pollinator meadow he’s been working on since 2021.\n\nPlease register using the attached link\, and park in front of the Field 6 sign at Allen’s Meadows\n\nThis event takes place:\nWed. April 29\nFri. May 8\nSat. May 16
URL:https://goodmorningwilton.com/event/spring-migration-birding-at-allens-meadow-and-its-community-gardens-with-joe-bear-2/2026-05-08/
LOCATION:Allen’s Meadows\, 423 Danbury Rd.\, Wilton\, CT\, 06897\, United States
CATEGORIES:Animals,Educational,Environmental,Free,In Person,Nature,Outdoor Event
ATTACH;FMTTYPE=image/jpeg:https://goodmorningwilton.com/wp-content/uploads/2026/04/Rose-breasted-Grosbeak-1.jpg
ORGANIZER;CN="Joe Bear":MAILTO:joebear.gator@gmail.com
END:VEVENT
BEGIN:VEVENT
DTSTART;TZID=America/New_York:20260516T080000
DTEND;TZID=America/New_York:20260516T100000
DTSTAMP:20260425T181523
CREATED:20260425T172809Z
LAST-MODIFIED:20260425T172809Z
UID:10024217-1778918400-1778925600@goodmorningwilton.com
SUMMARY:Spring Migration Birding at Allen's Meadow and its Community Gardens\, with Joe Bear
DESCRIPTION:Join the Norwalk River Watershed Association for this series of free spring migration bird walks led by expert birder\, conservationist\, master gardener\, and Wilton resident Joe Bear. Bear will lead everyone on a leisurely 2-hour walk from 8:00 a.m. to 10:00 a.m. through the diverse habitats this well-known birding hot spot has to offer – open fields\, woods\, woodland edges\, pond\, and swamp – to seek out returning summer residents\, those on their way to northern breeding grounds\, and maybe a vagrant or two. Previous spring walks have yielded a wide variety of species\, including both Orchard and Baltimore Orioles\, Bobolink\, Indigo Bunting\, Scarlet Tanager\, Eastern Kingbird\, Rose-breasted Grosbeak\, Flycatchers\, Vireos\, and a variety of colorful Warblers.  You’ll get a chance to see up close Eastern Bluebirds and Tree Swallows vying for one of the 12 nest boxes erected by Bear in and around the Little Bluestem meadow.  Bear will also talk about the new native pollinator meadow he’s been working on since 2021.\n\nPlease register using the attached link\, and park in front of the Field 6 sign at Allen’s Meadows\n\nThis event takes place:\nWed. April 29\nFri. May 8\nSat. May 16
URL:https://goodmorningwilton.com/event/spring-migration-birding-at-allens-meadow-and-its-community-gardens-with-joe-bear-2/2026-05-16/
LOCATION:Allen’s Meadows\, 423 Danbury Rd.\, Wilton\, CT\, 06897\, United States
CATEGORIES:Animals,Educational,Environmental,Free,In Person,Nature,Outdoor Event
ATTACH;FMTTYPE=image/jpeg:https://goodmorningwilton.com/wp-content/uploads/2026/04/Rose-breasted-Grosbeak-1.jpg
ORGANIZER;CN="Joe Bear":MAILTO:joebear.gator@gmail.com
END:VEVENT
END:VCALENDAR