BEGIN:VCALENDAR
VERSION:2.0
PRODID:-//Good Morning Wilton - ECPv6.15.20//NONSGML v1.0//EN
CALSCALE:GREGORIAN
METHOD:PUBLISH
X-ORIGINAL-URL:https://goodmorningwilton.com
X-WR-CALDESC:Events for Good Morning Wilton
REFRESH-INTERVAL;VALUE=DURATION:PT1H
X-Robots-Tag:noindex
X-PUBLISHED-TTL:PT1H
BEGIN:VTIMEZONE
TZID:America/New_York
BEGIN:DAYLIGHT
TZOFFSETFROM:-0500
TZOFFSETTO:-0400
TZNAME:EDT
DTSTART:20200308T070000
END:DAYLIGHT
BEGIN:STANDARD
TZOFFSETFROM:-0400
TZOFFSETTO:-0500
TZNAME:EST
DTSTART:20201101T060000
END:STANDARD
BEGIN:DAYLIGHT
TZOFFSETFROM:-0500
TZOFFSETTO:-0400
TZNAME:EDT
DTSTART:20210314T070000
END:DAYLIGHT
BEGIN:STANDARD
TZOFFSETFROM:-0400
TZOFFSETTO:-0500
TZNAME:EST
DTSTART:20211107T060000
END:STANDARD
BEGIN:DAYLIGHT
TZOFFSETFROM:-0500
TZOFFSETTO:-0400
TZNAME:EDT
DTSTART:20220313T070000
END:DAYLIGHT
BEGIN:STANDARD
TZOFFSETFROM:-0400
TZOFFSETTO:-0500
TZNAME:EST
DTSTART:20221106T060000
END:STANDARD
END:VTIMEZONE
BEGIN:VEVENT
DTSTART;TZID=America/New_York:20210127T100000
DTEND;TZID=America/New_York:20210127T110000
DTSTAMP:20260424T141506
CREATED:20210106T172259Z
LAST-MODIFIED:20210126T061831Z
UID:10009133-1611741600-1611745200@goodmorningwilton.com
SUMMARY:Healthy Connections:  An Inside Scoop on Adolescents and Addiction
DESCRIPTION:New experiences and relationships are essential for helping our tweens\, teens and young adults develop appropriately and reach their full potential. As parents\, we may be concerned that our kids are changing too quickly – or that their panoply of experiences will be harmful\, especially when they involve alcohol and drugs. \nIn this presentation and conversation\, Anthony Nave\, LCSW\, will explain: how our adolescents’ social\, emotional and brain development can increase their risk for substance abuse/use disorders; what signs of struggle to look out for; how to start a conversation about drugs and alcohol; and what resources are available\, if further help is needed. Nave will also discuss misconceptions surrounding addiction and the contemporary “medical model” of addiction. \nNave\, a licensed clinical social worker with master’s degrees in Educational Psychology and Clinical Social Work\, serves as Senior Manager\, Outpatient Services\, at Mountainside Treatment Center. He is advanced certified in Eye Movement Desensitization and Reprocessing (EMDR)\, is currently an EMDR Consultant-in-Training\, and is experienced in medication-assisted treatment\, co-occurring disorders\, and adolescent programming. Prior to joining Mountainside\, he taught in an alternative therapeutic school\, where he helped youth with mental health and cognitive disorders. At Mountainside\, Nave designs curricula for clinical programming and incorporates neurobiology and a trauma-responsive framework into one-on-one counseling\, group therapy\, family sessions\, and supervision. At home\, he enjoys pretending to be superheroes with his sons and rooting for the Red Sox and Patriots. \nRegister online.
URL:https://goodmorningwilton.com/event/healthy-connections-an-inside-scoop-on-adolescents-and-addiction/
LOCATION:ZOOM
CATEGORIES:discussion,Free,Health & Wellness,Parenting,Presentation,Webinar
ATTACH;FMTTYPE=image/jpeg:https://goodmorningwilton.com/wp-content/uploads/2021/01/Tony-Nave.jpg
END:VEVENT
END:VCALENDAR