BEGIN:VCALENDAR
VERSION:2.0
PRODID:-//Good Morning Wilton - ECPv6.15.20//NONSGML v1.0//EN
CALSCALE:GREGORIAN
METHOD:PUBLISH
X-WR-CALNAME:Good Morning Wilton
X-ORIGINAL-URL:https://goodmorningwilton.com
X-WR-CALDESC:Events for Good Morning Wilton
REFRESH-INTERVAL;VALUE=DURATION:PT1H
X-Robots-Tag:noindex
X-PUBLISHED-TTL:PT1H
BEGIN:VTIMEZONE
TZID:America/New_York
BEGIN:DAYLIGHT
TZOFFSETFROM:-0500
TZOFFSETTO:-0400
TZNAME:EDT
DTSTART:20220313T070000
END:DAYLIGHT
BEGIN:STANDARD
TZOFFSETFROM:-0400
TZOFFSETTO:-0500
TZNAME:EST
DTSTART:20221106T060000
END:STANDARD
BEGIN:DAYLIGHT
TZOFFSETFROM:-0500
TZOFFSETTO:-0400
TZNAME:EDT
DTSTART:20230312T070000
END:DAYLIGHT
BEGIN:STANDARD
TZOFFSETFROM:-0400
TZOFFSETTO:-0500
TZNAME:EST
DTSTART:20231105T060000
END:STANDARD
BEGIN:DAYLIGHT
TZOFFSETFROM:-0500
TZOFFSETTO:-0400
TZNAME:EDT
DTSTART:20240310T070000
END:DAYLIGHT
BEGIN:STANDARD
TZOFFSETFROM:-0400
TZOFFSETTO:-0500
TZNAME:EST
DTSTART:20241103T060000
END:STANDARD
BEGIN:DAYLIGHT
TZOFFSETFROM:-0500
TZOFFSETTO:-0400
TZNAME:EDT
DTSTART:20250309T070000
END:DAYLIGHT
BEGIN:STANDARD
TZOFFSETFROM:-0400
TZOFFSETTO:-0500
TZNAME:EST
DTSTART:20251102T060000
END:STANDARD
BEGIN:DAYLIGHT
TZOFFSETFROM:-0500
TZOFFSETTO:-0400
TZNAME:EDT
DTSTART:20260308T070000
END:DAYLIGHT
BEGIN:STANDARD
TZOFFSETFROM:-0400
TZOFFSETTO:-0500
TZNAME:EST
DTSTART:20261101T060000
END:STANDARD
BEGIN:DAYLIGHT
TZOFFSETFROM:-0500
TZOFFSETTO:-0400
TZNAME:EDT
DTSTART:20270314T070000
END:DAYLIGHT
BEGIN:STANDARD
TZOFFSETFROM:-0400
TZOFFSETTO:-0500
TZNAME:EST
DTSTART:20271107T060000
END:STANDARD
END:VTIMEZONE
BEGIN:VEVENT
DTSTART;TZID=America/New_York:20230306T183000
DTEND;TZID=America/New_York:20230306T200000
DTSTAMP:20260423T072025
CREATED:20230223T174301Z
LAST-MODIFIED:20230226T135235Z
UID:10010336-1678127400-1678132800@goodmorningwilton.com
SUMMARY:Creative Writing for Adults (Zoom)
DESCRIPTION:Challenge your imagination and be inspired to write a variety of short stories in this three-week session of Creative Writing for Adults via Zoom. Kim Kovach\, author and creative writing teacher\, will share fun\, fresh ideas to motivate participants to put pen to paper (or fingers to keyboard) each week. \nKovach teaches creative writing\, fiction writing and personal story writing classes for adults. She is the author of six fiction books\, writes a weekly newspaper column\, and articles for magazines. \nRegistration is required. Please register online or call 203.762.6334. For more information\, email Andrea Sato.
URL:https://goodmorningwilton.com/event/creative-writing-for-adults-zoom/2023-03-06/
LOCATION:ZOOM
CATEGORIES:Class,Create!,Free,Library,Not for profit,Online,Workshop,Zoom Call
ATTACH;FMTTYPE=image/png:https://goodmorningwilton.com/wp-content/uploads/2023/02/Writing.png
END:VEVENT
BEGIN:VEVENT
DTSTART;TZID=America/New_York:20230313T183000
DTEND;TZID=America/New_York:20230313T200000
DTSTAMP:20260423T072025
CREATED:20230223T174301Z
LAST-MODIFIED:20230226T135235Z
UID:10010337-1678732200-1678737600@goodmorningwilton.com
SUMMARY:Creative Writing for Adults (Zoom)
DESCRIPTION:Challenge your imagination and be inspired to write a variety of short stories in this three-week session of Creative Writing for Adults via Zoom. Kim Kovach\, author and creative writing teacher\, will share fun\, fresh ideas to motivate participants to put pen to paper (or fingers to keyboard) each week. \nKovach teaches creative writing\, fiction writing and personal story writing classes for adults. She is the author of six fiction books\, writes a weekly newspaper column\, and articles for magazines. \nRegistration is required. Please register online or call 203.762.6334. For more information\, email Andrea Sato.
URL:https://goodmorningwilton.com/event/creative-writing-for-adults-zoom/2023-03-13/
LOCATION:ZOOM
CATEGORIES:Class,Create!,Free,Library,Not for profit,Online,Workshop,Zoom Call
ATTACH;FMTTYPE=image/png:https://goodmorningwilton.com/wp-content/uploads/2023/02/Writing.png
END:VEVENT
BEGIN:VEVENT
DTSTART;TZID=America/New_York:20230320T183000
DTEND;TZID=America/New_York:20230320T200000
DTSTAMP:20260423T072025
CREATED:20230223T174301Z
LAST-MODIFIED:20230226T135235Z
UID:10010338-1679337000-1679342400@goodmorningwilton.com
SUMMARY:Creative Writing for Adults (Zoom)
DESCRIPTION:Challenge your imagination and be inspired to write a variety of short stories in this three-week session of Creative Writing for Adults via Zoom. Kim Kovach\, author and creative writing teacher\, will share fun\, fresh ideas to motivate participants to put pen to paper (or fingers to keyboard) each week. \nKovach teaches creative writing\, fiction writing and personal story writing classes for adults. She is the author of six fiction books\, writes a weekly newspaper column\, and articles for magazines. \nRegistration is required. Please register online or call 203.762.6334. For more information\, email Andrea Sato.
URL:https://goodmorningwilton.com/event/creative-writing-for-adults-zoom/2023-03-20/
LOCATION:ZOOM
CATEGORIES:Class,Create!,Free,Library,Not for profit,Online,Workshop,Zoom Call
ATTACH;FMTTYPE=image/png:https://goodmorningwilton.com/wp-content/uploads/2023/02/Writing.png
END:VEVENT
BEGIN:VEVENT
DTSTART;TZID=America/New_York:20230428T180000
DTEND;TZID=America/New_York:20230428T200000
DTSTAMP:20260423T072025
CREATED:20230412T093554Z
LAST-MODIFIED:20230412T093554Z
UID:10011786-1682704800-1682712000@goodmorningwilton.com
SUMMARY:Colonial Tavern Night
DESCRIPTION:Taverns and inns were an integral part of 18th century Wilton\, serving as restaurants\, bars\, rest stops for weary travelers\, and community centers. These businesses were so vital that for a time\, Connecticut colonial law required several towns to have at least one tavern open. On April 28\, from 6:00 p.m. to 8:00 p.m.\, the Wilton Historical Society will celebrate and acknowledge these important historic places by hosting its own tavern at the museum! \nJust like Wilton’s colonial residents\, guests can help themselves to delicious food and drink\, try their hand at some colonial tabletop games like Shut the Box and Nine Men’s Morris\, listen to traditional folk music\, and explore part of the Society’s c. 1772 Sloan-Raymond-Fitch House\, which operated as a tavern throughout the American Revolution and was nearly burned to the ground by the British 246 years to the day of this event. Guests can also participate in a themed tavern trivia contest and test their knowledge of the 1700’s with a chance to win some reproduction Colonial drinkware. \nTicket includes open bar of beer and wine with beer provided by Redding Beer Company and food courtesy of Jeff’s BBQ. Hard cider samples will be provided by Farah Masani and Shawn Frend of Wilton Cider House. \nThis event is for adults 21+ and is generously sponsored by WildBloom Skincare. Tickets are $45 for members and $55 for non-members.  To purchase tickets\, visit the Wilton Historical Society’s website. \n 
URL:https://goodmorningwilton.com/event/colonial-tavern-night/
LOCATION:Wilton Historical Society\, 224 Danbury Road\, Wilton\, CT
CATEGORIES:Dinner,Food,Game,Historic,Not for profit
ATTACH;FMTTYPE=image/png:https://goodmorningwilton.com/wp-content/uploads/2023/04/Tavern-Night-Logo-Icon.png
ORGANIZER;CN="Wilton Historical Society":MAILTO:info@wiltonhistorical.org
GEO:41.188207;-73.424639
X-APPLE-STRUCTURED-LOCATION;VALUE=URI;X-ADDRESS=Wilton Historical Society 224 Danbury Road Wilton CT;X-APPLE-RADIUS=500;X-TITLE=224 Danbury Road:geo:-73.424639,41.188207
END:VEVENT
BEGIN:VEVENT
DTSTART;TZID=America/New_York:20230603T130000
DTEND;TZID=America/New_York:20230603T143000
DTSTAMP:20260423T072025
CREATED:20230505T190937Z
LAST-MODIFIED:20230505T191027Z
UID:10011929-1685797200-1685802600@goodmorningwilton.com
SUMMARY:Candle Dipping Workshop for Adults
DESCRIPTION:On Saturday\, June 3\, from 1:00 p.m. to 2:30 p.m.\, the Wilton Historical Society will hold its very own beeswax candle making workshop for adults. \nMuseum Educator Catherine Lipper will discuss the history and techniques of crafting beeswax candles\, while participants make their own pair of candles for a keepsake or gift. In celebration of bees\, the program will include a tasting of a homemade honey cake. Don’t miss out on this delightful opportunity to gather and learn a Colonial craft with friends! \nSuggested for ages 18 and over. The fee is $15 for members and $20 for non-members. \nTo register\, visit the Wilton Historical Society website or contact via email.
URL:https://goodmorningwilton.com/event/candle-dipping-workshop-for-adults/
LOCATION:Wilton Historical Society\, 224 Danbury Road\, Wilton\, CT
CATEGORIES:craft,Create!,Historic,Not for profit,Workshop
ATTACH;FMTTYPE=image/jpeg:https://goodmorningwilton.com/wp-content/uploads/2023/05/betts-store-candles-710x568-1.jpg
ORGANIZER;CN="Wilton Historical Society":MAILTO:info@wiltonhistorical.org
GEO:41.188207;-73.424639
X-APPLE-STRUCTURED-LOCATION;VALUE=URI;X-ADDRESS=Wilton Historical Society 224 Danbury Road Wilton CT;X-APPLE-RADIUS=500;X-TITLE=224 Danbury Road:geo:-73.424639,41.188207
END:VEVENT
BEGIN:VEVENT
DTSTART;TZID=America/New_York:20230610T130000
DTEND;TZID=America/New_York:20230610T143000
DTSTAMP:20260423T072025
CREATED:20230523T102346Z
LAST-MODIFIED:20230523T102346Z
UID:10011928-1686402000-1686407400@goodmorningwilton.com
SUMMARY:Adult Needle Felting Workshop
DESCRIPTION:Felt is a type of non-woven fabric that has been fabricated since ancient times in countries around the world and is used to make rugs\, hats\, clothing\, wall art\, blankets\, insulation for boots\, and more. Needle felting uses animal fiber such as sheep wool and special tools to enable fibers to mat together to form a cloth. Crafters today have taken the ancient art of felt making for both artistic and functional purposes. \nOn Saturday\, June 10\, from 1:00 p.m. to 2:30 p.m.\, the Wilton Historical Society will hold its very own Needle Felting Workshop for Adults. Participants will learn needle felting technique to create flat and sculptural pieces that can be used to embellish hats\, scarves and articles of clothing. Program Educator Ellen Goldman will also talk about how this technique can be used to create jewelry\, decorative objects and whimsical figures. Each participant will complete one or more pieces to take home. \nSuggested for ages 18 and over. $15 for members and $20 for non-members. \nTo register\, please visit the Wilton Historical Society’s website or via email.
URL:https://goodmorningwilton.com/event/adult-needle-felting-workshop/
LOCATION:Wilton Historical Society\, 224 Danbury Road\, Wilton\, CT
CATEGORIES:Arts,craft,Create!,Educational,Historic,Not for profit,Workshop
ATTACH;FMTTYPE=image/jpeg:https://goodmorningwilton.com/wp-content/uploads/2023/05/Adult-Needle-Felting-Image-scaled.jpg
ORGANIZER;CN="Wilton Historical Society":MAILTO:info@wiltonhistorical.org
GEO:41.188207;-73.424639
X-APPLE-STRUCTURED-LOCATION;VALUE=URI;X-ADDRESS=Wilton Historical Society 224 Danbury Road Wilton CT;X-APPLE-RADIUS=500;X-TITLE=224 Danbury Road:geo:-73.424639,41.188207
END:VEVENT
BEGIN:VEVENT
DTSTART;TZID=America/New_York:20260114T183000
DTEND;TZID=America/New_York:20260114T200000
DTSTAMP:20260423T072025
CREATED:20260106T002458Z
LAST-MODIFIED:20260106T002458Z
UID:10021516-1768415400-1768420800@goodmorningwilton.com
SUMMARY:Wilton Youth Council Presents The Athlete Mindset: Supporting the Wellness of Student Athletes
DESCRIPTION:Student athletes today are growing up in an increasingly high-pressure sports culture\, where the drive to excel can sometimes outpace their physical and emotional readiness. This workshop explores the unique mental and emotional challenges young athletes face and offers practical\, evidence-based strategies to foster resilience\, balance\, and confidence- both on and off the field. Join Yale Child Study Center psychiatrist and former professional European basketball player\, Dr. Ayotunde Ayobello to: \n\nUnderstand the pressures\, stressors\, and emotional experiences of student-athletes\nLearn to identify when stress\, anxiety\, or perfectionism may be negatively impacting student-athletes\nDiscover practical ways to help student-athletes develop coping skills\, confidence\, and a growth mindset\nLearn how to encourage student-athletes to explore interests beyond sports and develop a well-rounded sense of self\n\nAyobello is an Assistant Professor of Child Psychiatry and provides outpatient psychiatric care at the Yale Child Study Center in Westport\, Connecticut. As a former elite athlete\, a power forward and center for the Crimea State Basketball Team from 2008 to 2014\, Ayobello brings first hand understanding of the psychological demands of competitive sports. His experience informs his work in fostering resilience and integrating mental health strategies into athletic performance.
URL:https://goodmorningwilton.com/event/wilton-youth-council-presents-the-athlete-mindset-supporting-the-wellness-of-student-athletes/
LOCATION:Wilton Library\, 137 Old Ridgefield Rd.\, Wilton\, CT\, 06987
CATEGORIES:discussion,Lecture,Library
ATTACH;FMTTYPE=image/jpeg:https://goodmorningwilton.com/wp-content/uploads/2026/01/GMW-Athlete-Mindset.jpg
ORGANIZER;CN="Wilton Youth Council":MAILTO:cring@wiltonyouth.org
END:VEVENT
BEGIN:VEVENT
DTSTART;TZID=America/New_York:20260120T110000
DTEND;TZID=America/New_York:20260120T160000
DTSTAMP:20260423T072025
CREATED:20260109T174233Z
LAST-MODIFIED:20260109T174233Z
UID:10021940-1768906800-1768924800@goodmorningwilton.com
SUMMARY:Wilton Library's American Red Cross Blood Drive
DESCRIPTION:The Wilton Library will be joining in hosting a blood drive with the American Red Cross. To donate blood\, go to the Wilton Library on Tuesday\, Jan. 20\, between 11 a.m. and 4 p.m. The Red Cross is low on donations\, and every pint helps. For more information\, visit the RED CROSS website \nAppointment Hours: 11 a.m. – 4 p.m. \nSign up here or go to www.redcrossblood.org and use sponsor code: WiltonLibrary. \nWalk-ins will be accommodated. Please note: Positive ID required at time of donation. \nRegister & See Details
URL:https://goodmorningwilton.com/event/wilton-librarys-american-red-cross-blood-drive/
LOCATION:Wilton Library Brubeck Room\, 137 Old Ridgefield Rd\, Wilton\, 06897\, United States
CATEGORIES:Donation/Collection,Health & Wellness,Library
ATTACH;FMTTYPE=image/png:https://goodmorningwilton.com/wp-content/uploads/2026/01/GMW-Red-Cross-e1768311815632.png
END:VEVENT
BEGIN:VEVENT
DTSTART;TZID=America/New_York:20260223T183000
DTEND;TZID=America/New_York:20260223T193000
DTSTAMP:20260423T072025
CREATED:20260126T144221Z
LAST-MODIFIED:20260126T144221Z
UID:10022033-1771871400-1771875000@goodmorningwilton.com
SUMMARY:Starting Out Strong: Financial Insights for Young Individuals and Families (Zoom)
DESCRIPTION:Join the Wilton Library on Monday\, February 23\, at 6:30 p.m. for a Zoom presentation that will discuss how to manage your money and create a strong financial foundation. Several topics will be covered\, including: understanding your cash flow; protecting your income\, family\, and assets; developing a savings and investment plan; and creating a game plan to manage your debt. The impact children have on your finances and how to best plan for your family’s future will also be discussed. \nKrystin Fischer has been representing Northwestern Mutual for twenty years and holds a Certified Planner™ professional certification. Specializing in risk management and retirement planning\, she creates and manages financial plans for families and individuals with a soulful touch. \nRegistration is required to receive the Zoom Link. \nRegister here \n 
URL:https://goodmorningwilton.com/event/starting-out-strong-financial-insights-for-young-individuals-and-families-zoom/
LOCATION:CT
CATEGORIES:Business,discussion,Library,Online,Zoom Call
ATTACH;FMTTYPE=image/jpeg:https://goodmorningwilton.com/wp-content/uploads/2026/01/GMW-Financial-.jpg
END:VEVENT
BEGIN:VEVENT
DTSTART;TZID=America/New_York:20260319T180000
DTEND;TZID=America/New_York:20260319T203000
DTSTAMP:20260423T072025
CREATED:20260223T212728Z
LAST-MODIFIED:20260223T212728Z
UID:10023871-1773943200-1773952200@goodmorningwilton.com
SUMMARY:Ladies Night Out at Ambler Farm: Pysanky Ukrainian Egg Decorating
DESCRIPTION:Join Ambler Farm on Thursday\, March 19\, 6:00 p.m. – 8:30 p.m. for Ukrainian Egg Decorating! \nIn Ukraine\, egg decorating is an important art form that dates back centuries. Known as Pysanky\, eggs are decorated using the wax-resist (batik) method. Pysanky is a form of folk art that incorporates different symbols and shapes that are brightly and intricately colored. \nNow is your chance to learn this ancient craft and enjoy a night out with the gals! We’ll provide cheese\, crackers + accompaniments to nibble on\, and we invite you to bring your drink of choice. Registration is now open to members\, and opens to nonmembers February 26. \n$40 per member and $45 per nonmember
URL:https://goodmorningwilton.com/event/ladies-night-out-at-ambler-farm-pysanky-ukrainian-egg-decorating/
LOCATION:Ambler Farm\, 257 Hurlbutt Street\, Wilton\, CT\, 06897
CATEGORIES:Adults,craft,Women
ATTACH;FMTTYPE=image/jpeg:https://goodmorningwilton.com/wp-content/uploads/2026/02/GMW-Egg-Decorating.jpg
ORGANIZER;CN="Ambler Farm":MAILTO:info@amblerfarm.org
END:VEVENT
END:VCALENDAR