BEGIN:VCALENDAR
VERSION:2.0
PRODID:-//Good Morning Wilton - ECPv6.15.20//NONSGML v1.0//EN
CALSCALE:GREGORIAN
METHOD:PUBLISH
X-ORIGINAL-URL:https://goodmorningwilton.com
X-WR-CALDESC:Events for Good Morning Wilton
REFRESH-INTERVAL;VALUE=DURATION:PT1H
X-Robots-Tag:noindex
X-PUBLISHED-TTL:PT1H
BEGIN:VTIMEZONE
TZID:America/New_York
BEGIN:DAYLIGHT
TZOFFSETFROM:-0500
TZOFFSETTO:-0400
TZNAME:EDT
DTSTART:20230312T070000
END:DAYLIGHT
BEGIN:STANDARD
TZOFFSETFROM:-0400
TZOFFSETTO:-0500
TZNAME:EST
DTSTART:20231105T060000
END:STANDARD
BEGIN:DAYLIGHT
TZOFFSETFROM:-0500
TZOFFSETTO:-0400
TZNAME:EDT
DTSTART:20240310T070000
END:DAYLIGHT
BEGIN:STANDARD
TZOFFSETFROM:-0400
TZOFFSETTO:-0500
TZNAME:EST
DTSTART:20241103T060000
END:STANDARD
BEGIN:DAYLIGHT
TZOFFSETFROM:-0500
TZOFFSETTO:-0400
TZNAME:EDT
DTSTART:20250309T070000
END:DAYLIGHT
BEGIN:STANDARD
TZOFFSETFROM:-0400
TZOFFSETTO:-0500
TZNAME:EST
DTSTART:20251102T060000
END:STANDARD
END:VTIMEZONE
BEGIN:VEVENT
DTSTART;TZID=America/New_York:20240417T100000
DTEND;TZID=America/New_York:20240417T120000
DTSTAMP:20260420T010945
CREATED:20240408T004452Z
LAST-MODIFIED:20240408T004452Z
UID:10015811-1713348000-1713355200@goodmorningwilton.com
SUMMARY:Wellness Walk
DESCRIPTION:The Wilton Land Trust and Stay at Home in Wilton have teamed up to bring the community a unique wellness experience in the heart of nature. Join for a guided walk through the serene and picturesque Schenck’s Island\, where you can take in the beauty of spring and breathe in the fresh air. \nSpring – Wellness Hike: \nTuesday\, April 16 — 10:30 a.m. \nRain date: April 24 — 10:30 a.m. \nAt the event:\nTake in the beauty of spring and breathe in the fresh air as David McCarthy\, Executive Director of the Wilton Land Trust\, points out the important native flora\, fauna\, and restoration work that the Wilton Land Trust has done on the island. \nRemember to bring a bagged lunch (optional)\, grab a water bottle\, supportive shoes\, tick and bug repellant\, and join for a morning of adventure\, exercise\, fresh air\, and learning. \nRegister online.
URL:https://goodmorningwilton.com/event/wellness-walk-2/
LOCATION:Schenck’s Island\, 202 Old Ridgefield Rd # 2\, wilton\, CT\, 06778\, United States
CATEGORIES:Exercise,Nature,Outdoor Event
ATTACH;FMTTYPE=image/png:https://goodmorningwilton.com/wp-content/uploads/2024/04/wellness-walk-spring-2024.png
GEO:41.2077334;-73.4415929
X-APPLE-STRUCTURED-LOCATION;VALUE=URI;X-ADDRESS=Schenck’s Island 202 Old Ridgefield Rd # 2 wilton CT 06778 United States;X-APPLE-RADIUS=500;X-TITLE=202 Old Ridgefield Rd # 2:geo:-73.4415929,41.2077334
END:VEVENT
END:VCALENDAR