BEGIN:VCALENDAR
VERSION:2.0
PRODID:-//Good Morning Wilton - ECPv6.15.20//NONSGML v1.0//EN
CALSCALE:GREGORIAN
METHOD:PUBLISH
X-WR-CALNAME:Good Morning Wilton
X-ORIGINAL-URL:https://goodmorningwilton.com
X-WR-CALDESC:Events for Good Morning Wilton
REFRESH-INTERVAL;VALUE=DURATION:PT1H
X-Robots-Tag:noindex
X-PUBLISHED-TTL:PT1H
BEGIN:VTIMEZONE
TZID:America/New_York
BEGIN:DAYLIGHT
TZOFFSETFROM:-0500
TZOFFSETTO:-0400
TZNAME:EDT
DTSTART:20230312T070000
END:DAYLIGHT
BEGIN:STANDARD
TZOFFSETFROM:-0400
TZOFFSETTO:-0500
TZNAME:EST
DTSTART:20231105T060000
END:STANDARD
BEGIN:DAYLIGHT
TZOFFSETFROM:-0500
TZOFFSETTO:-0400
TZNAME:EDT
DTSTART:20240310T070000
END:DAYLIGHT
BEGIN:STANDARD
TZOFFSETFROM:-0400
TZOFFSETTO:-0500
TZNAME:EST
DTSTART:20241103T060000
END:STANDARD
BEGIN:DAYLIGHT
TZOFFSETFROM:-0500
TZOFFSETTO:-0400
TZNAME:EDT
DTSTART:20250309T070000
END:DAYLIGHT
BEGIN:STANDARD
TZOFFSETFROM:-0400
TZOFFSETTO:-0500
TZNAME:EST
DTSTART:20251102T060000
END:STANDARD
END:VTIMEZONE
BEGIN:VEVENT
DTSTART;TZID=America/New_York:20240222T183000
DTEND;TZID=America/New_York:20240222T193000
DTSTAMP:20260424T033731
CREATED:20240208T001421Z
LAST-MODIFIED:20240208T001421Z
UID:10015027-1708626600-1708630200@goodmorningwilton.com
SUMMARY:CT Humane Society Animal Resource Center Info Session
DESCRIPTION:A fur-tastic animal resource center is coming to Wilton in 2024\, and they want community members to be part of the pack! \nJoin an informal info session on Thursday\, February 22\, from 6:30-7:30 p.m. at the Riverbrook Regional YMCA to get the inside scoop on this paws-itively heartwarming project. Get the dish on the pet food pantry\, low-cost vet clinic\, and more programs changing local pets’ lives and the families who love them. Even sneak a peek at the building plans and design — think spacious play areas\, comfy napping nooks\, and outdoor playscapes where pets can run\, play\, and live their best lives. \nLearn about the organization and volunteer opportunities\, or simply share a vision for a more humane community! Hand in paw with this animal resource center\, make a difference for pets in need. Mark your calendars and get ready to unleash your passion — this meet-up will be a total tail-wagger! \nRSVP to Kayleigh or call her at 860-594-4502 ext. 6307. Visit online for more information about the project. \nThere is no cost to attend and no one will be solicited. \nHosted by the Riverbrook Regional YMCA.
URL:https://goodmorningwilton.com/event/ct-humane-society-animal-resource-center-info-session/
LOCATION:Wilton YMCA\, 404 Danbury Rd.\, Wilton\, CT\, 06897\, United States
CATEGORIES:Animals,Community Events,Free,Not for profit,Pets,Presentation,Volunteer Opportunity,YMCA
ATTACH;FMTTYPE=image/png:https://goodmorningwilton.com/wp-content/uploads/2024/02/CHS-ARC-Info-Session-Wilton-YMCA-Online-Posting-1.png
ORGANIZER;CN="Connecticut Humane Society":MAILTO:kshettleworth@cthumane.org
GEO:41.2116373;-73.4291811
X-APPLE-STRUCTURED-LOCATION;VALUE=URI;X-ADDRESS=Wilton YMCA 404 Danbury Rd. Wilton CT 06897 United States;X-APPLE-RADIUS=500;X-TITLE=404 Danbury Rd.:geo:-73.4291811,41.2116373
END:VEVENT
END:VCALENDAR