BEGIN:VCALENDAR
VERSION:2.0
PRODID:-//Good Morning Wilton - ECPv6.15.20//NONSGML v1.0//EN
CALSCALE:GREGORIAN
METHOD:PUBLISH
X-WR-CALNAME:Good Morning Wilton
X-ORIGINAL-URL:https://goodmorningwilton.com
X-WR-CALDESC:Events for Good Morning Wilton
REFRESH-INTERVAL;VALUE=DURATION:PT1H
X-Robots-Tag:noindex
X-PUBLISHED-TTL:PT1H
BEGIN:VTIMEZONE
TZID:America/New_York
BEGIN:DAYLIGHT
TZOFFSETFROM:-0500
TZOFFSETTO:-0400
TZNAME:EDT
DTSTART:20170312T070000
END:DAYLIGHT
BEGIN:STANDARD
TZOFFSETFROM:-0400
TZOFFSETTO:-0500
TZNAME:EST
DTSTART:20171105T060000
END:STANDARD
BEGIN:DAYLIGHT
TZOFFSETFROM:-0500
TZOFFSETTO:-0400
TZNAME:EDT
DTSTART:20180311T070000
END:DAYLIGHT
BEGIN:STANDARD
TZOFFSETFROM:-0400
TZOFFSETTO:-0500
TZNAME:EST
DTSTART:20181104T060000
END:STANDARD
BEGIN:DAYLIGHT
TZOFFSETFROM:-0500
TZOFFSETTO:-0400
TZNAME:EDT
DTSTART:20190310T070000
END:DAYLIGHT
BEGIN:STANDARD
TZOFFSETFROM:-0400
TZOFFSETTO:-0500
TZNAME:EST
DTSTART:20191103T060000
END:STANDARD
BEGIN:DAYLIGHT
TZOFFSETFROM:-0500
TZOFFSETTO:-0400
TZNAME:EDT
DTSTART:20200308T070000
END:DAYLIGHT
BEGIN:STANDARD
TZOFFSETFROM:-0400
TZOFFSETTO:-0500
TZNAME:EST
DTSTART:20201101T060000
END:STANDARD
BEGIN:DAYLIGHT
TZOFFSETFROM:-0500
TZOFFSETTO:-0400
TZNAME:EDT
DTSTART:20210314T070000
END:DAYLIGHT
BEGIN:STANDARD
TZOFFSETFROM:-0400
TZOFFSETTO:-0500
TZNAME:EST
DTSTART:20211107T060000
END:STANDARD
BEGIN:DAYLIGHT
TZOFFSETFROM:-0500
TZOFFSETTO:-0400
TZNAME:EDT
DTSTART:20220313T070000
END:DAYLIGHT
BEGIN:STANDARD
TZOFFSETFROM:-0400
TZOFFSETTO:-0500
TZNAME:EST
DTSTART:20221106T060000
END:STANDARD
BEGIN:DAYLIGHT
TZOFFSETFROM:-0500
TZOFFSETTO:-0400
TZNAME:EDT
DTSTART:20230312T070000
END:DAYLIGHT
BEGIN:STANDARD
TZOFFSETFROM:-0400
TZOFFSETTO:-0500
TZNAME:EST
DTSTART:20231105T060000
END:STANDARD
BEGIN:DAYLIGHT
TZOFFSETFROM:-0500
TZOFFSETTO:-0400
TZNAME:EDT
DTSTART:20240310T070000
END:DAYLIGHT
BEGIN:STANDARD
TZOFFSETFROM:-0400
TZOFFSETTO:-0500
TZNAME:EST
DTSTART:20241103T060000
END:STANDARD
BEGIN:DAYLIGHT
TZOFFSETFROM:-0500
TZOFFSETTO:-0400
TZNAME:EDT
DTSTART:20250309T070000
END:DAYLIGHT
BEGIN:STANDARD
TZOFFSETFROM:-0400
TZOFFSETTO:-0500
TZNAME:EST
DTSTART:20251102T060000
END:STANDARD
BEGIN:DAYLIGHT
TZOFFSETFROM:-0500
TZOFFSETTO:-0400
TZNAME:EDT
DTSTART:20260308T070000
END:DAYLIGHT
BEGIN:STANDARD
TZOFFSETFROM:-0400
TZOFFSETTO:-0500
TZNAME:EST
DTSTART:20261101T060000
END:STANDARD
END:VTIMEZONE
BEGIN:VEVENT
DTSTART;TZID=America/New_York:20180904T100000
DTEND;TZID=America/New_York:20180904T120000
DTSTAMP:20260421T045904
CREATED:20180829T210220Z
LAST-MODIFIED:20180829T210808Z
UID:10008080-1536055200-1536062400@goodmorningwilton.com
SUMMARY:Boo-Hoo Woo-Hoo Brunch
DESCRIPTION:Some of us are crying\,\nTeary-eyed and blue.\nSome of us are cheering\,\n“I’m glad the summer’s through!”\nWhatever mood you’re feeling\,\nStop by and stay awhile.\nWe’ll be here to greet you\,\nWith coffee and a smile. \nWilton Newcomers & Neighbors is pleased to partner with the Wilton Library Association\, Realty Seven\, and GOOD Morning Wilton for its annual back-to-school Boo-Hoo Woo-Hoo Brunch. Traditionally a members-only event held at someone’s home on the first day of school\, this year’s event will be held in the Wilton Library’s Brubeck Room and is open to everyone. \nLight nibbles and mimosas will be served. Advanced registration is strongly encouraged on the Wilton Library’s website or by calling 203.762.6321. \n‘Whether you’re commiserating or celebrating the first day of school\, let’s do it together!’ \n 
URL:https://goodmorningwilton.com/event/boo-hoo-woo-hoo-brunch/
LOCATION:Wilton Library\, 137 Old Ridgefield Road\, Wilton\, CT\, 06897\, United States
CATEGORIES:Community Celebration,Community Events,Free,Open House
ATTACH;FMTTYPE=image/jpeg:https://goodmorningwilton.com/wp-content/uploads/2018/08/boo-hoo-woo-hoo.jpg
ORGANIZER;CN="Wilton Newcomers &amp%3B Neighbors":MAILTO:info@wiltonnewcomersclub.com
GEO:41.1925414;-73.4313726
X-APPLE-STRUCTURED-LOCATION;VALUE=URI;X-ADDRESS=Wilton Library 137 Old Ridgefield Road Wilton CT 06897 United States;X-APPLE-RADIUS=500;X-TITLE=137 Old Ridgefield Road:geo:-73.4313726,41.1925414
END:VEVENT
BEGIN:VEVENT
DTSTART;TZID=America/New_York:20210825T100000
DTEND;TZID=America/New_York:20210825T110000
DTSTAMP:20260421T045904
CREATED:20210811T154343Z
LAST-MODIFIED:20210812T022918Z
UID:10010850-1629885600-1629889200@goodmorningwilton.com
SUMMARY:SPED*NET Wilton's First Webinar of the School Year:  Strategies to Relieve Return to School Anxiety
DESCRIPTION:We’re all struggling to figure out our re-entry into society after the traumas of quarantine and distance learning. For students returning to schools and campuses\, reports confirm that 40-60% have mental health issues. How can we slow the dive into normalcy and let our kids with special needs know it’s okay to wade in slowly? \nIn this SPED*NET webinar\, Jane Thierfeld Brown\, EdD\, Director of College Autism Spectrum and former Assistant Clinical Professor at Yale Child Study\, will discuss the toll Covid-19 has taken on our kids and offer strategies to help lessen their anxiety\, boost their social-emotional wellbeing\, and make them feel more comfortable and confident as they venture back to their classrooms.
URL:https://goodmorningwilton.com/event/spednet-wiltons-first-webinar-of-the-school-year-strategies-to-relieve-return-to-school-anxiety/
LOCATION:Webinar Zoom Meeting
CATEGORIES:Educational,Free,Lecture,Meeting,Online,Parenting,Schools,Webinar,Zoom Call
ATTACH;FMTTYPE=image/png:https://goodmorningwilton.com/wp-content/uploads/2021/08/Screen-Shot-2021-08-11-at-11.32.13-AM.png
ORGANIZER;CN="SPED*NET Wilton":MAILTO:info@spednetwilton.org
END:VEVENT
BEGIN:VEVENT
DTSTART;TZID=America/New_York:20210909T100000
DTEND;TZID=America/New_York:20210909T113000
DTSTAMP:20260421T045904
CREATED:20210819T212550Z
LAST-MODIFIED:20210908T042509Z
UID:10009433-1631181600-1631187000@goodmorningwilton.com
SUMMARY:Coming Together: Responding to Unfinished Learning and Supporting Social-Emotional Health in the 2021-2022 School Year
DESCRIPTION:The 2020-2021 school year was unlike any in modern memory and has left many asking the question: Are kids prepared for the year ahead? While the pandemic has created much that is unprecedented\, unfinished learning is not new. Wilton’s educators are well-prepared to re-engage students in the concepts they’ll need to master in order to successfully navigate the upcoming year’s curriculum; as family members\, there is a great deal that can be done to support them in the process. \nPlease join a panel discussion led by Wilton Public Schools Assistant Superintendent\, Dr. Charles Smith Ed.D.\, that will address the district’s response to unfinished learning and plans for implementing a prioritized curriculum in the upcoming school year. In addition to WPS staff members\, Tracey Masella L.C.S.W.\, will join the panel to offer guidance on how families can support students and foster social-emotional well-being as kids make the transition back to full-time school. \nPanelists: \nCharles Smith\, Ed.D. — WPS Assistant Superintendent\, Curriculum and Instruction\nAndrea Leonardi — WPS Assistant Superintendent\, Special Services\nTrudy Denton — WPS Curriculum Coordinator – Math/Science\nKaren Brenneke — WPS Curriculum Coordinator – Humanities\nKim Zemo\, L.C.S.W — WPS\, Safe School Climate Coordinator\nTracey Masella\, L.C.S.W — Private Practice\, Silver Hill Hospital \nThis program is appropriate for parents of first-12th grade students. \nQuestions can be submitted to the panel in advance via email. \nSponsored by: Wilton Public Schools\, Wilton Youth Council\, Silver Hill Hospital\, SPED*NET Wilton\, and Wilton SEPTA
URL:https://goodmorningwilton.com/event/coming-together-responding-to-unfinished-learning-and-supporting-social-emotional-health-in-the-2021-2022-school-year/
LOCATION:Wilton High School Clune Center\, 395 Danbury Road\, Wilton\, CT\, 06897\, United States
CATEGORIES:discussion,Educational,Free,Parenting,Schools
ATTACH;FMTTYPE=image/jpeg:https://goodmorningwilton.com/wp-content/uploads/2021/08/Coming-Together-2.jpg
GEO:41.2106364;-73.4327956
X-APPLE-STRUCTURED-LOCATION;VALUE=URI;X-ADDRESS=Wilton High School Clune Center 395 Danbury Road Wilton CT 06897 United States;X-APPLE-RADIUS=500;X-TITLE=395 Danbury Road:geo:-73.4327956,41.2106364
END:VEVENT
BEGIN:VEVENT
DTSTART;TZID=America/New_York:20230824T183000
DTEND;TZID=America/New_York:20230824T213000
DTSTAMP:20260421T045904
CREATED:20230817T102002Z
LAST-MODIFIED:20230817T102002Z
UID:10012518-1692901800-1692912600@goodmorningwilton.com
SUMMARY:Back to school Social on Town Green
DESCRIPTION:Middlebrook PTA and Wilton Pride present a back to school social and movie night at Town Green. Open to all ages.\nBring a blanket and a picnic (support your local restaurants) and come be social for some community fun!\nSummer is almost over!\nResister for this event online.
URL:https://goodmorningwilton.com/event/back-to-school-social-on-town-green/
LOCATION:Town Center
CATEGORIES:Community Events,Family Event,Film,Kids,Schools,Teens
ATTACH;FMTTYPE=image/jpeg:https://goodmorningwilton.com/wp-content/uploads/2023/08/Outdoor-Movie-Night-Fundraising-Poster.jpeg
ORGANIZER;CN="wilton Pride":MAILTO:Info@wiltonpride.org
END:VEVENT
BEGIN:VEVENT
DTSTART;TZID=America/New_York:20240913T180000
DTEND;TZID=America/New_York:20240913T220000
DTSTAMP:20260421T045904
CREATED:20240831T170322Z
LAST-MODIFIED:20240831T170322Z
UID:10018039-1726250400-1726264800@goodmorningwilton.com
SUMMARY:The Rotary Club of Wilton Carnival
DESCRIPTION:Join the Rotary Club of Wilton together with the Knights of Columbus Bishop Fenwick Assembly 100 for their family carnival from Sept. 13-15. \nThe Carnival is a great family event and a wonderful Wilton tradition to kick off the autumn season and new school year for everyone. Find over a dozen different rides for all ages as well as multiple games and other activities for the whole family. Additionally\, enjoy a variety of food trucks and vendors throughout the weekend event. \nThe carnival takes place at the corner of School Road and Danbury Road/Route 7. \nAdmission and parking is free. Unlimited ride wristbands are $30 per wristband for each time slot and individual ride tickets are available as well. \nAll proceeds go to the community in support of Wilton projects as well as Rotary International global humanitarian projects. \nFriday Sept. 13\, 6-10 p.m. \nSaturday Sept. 14\, 12-10 p.m. \nSunday Sept. 15\, 12-5 p.m. \n 
URL:https://goodmorningwilton.com/event/the-rotary-club-of-wilton-carnival/2024-09-13/
LOCATION:395 Danbury Road Wilton\, CT 06897 – corner School Road and Route 7\, 395 Danbury Road\, Wilton\, CT\, 06897\, United States
CATEGORIES:Carnival,Community Celebration,Community Events,Donation/Collection,Family Event,Festival,Fundraiser,Kids,Outdoor Event
ATTACH;FMTTYPE=image/png:https://goodmorningwilton.com/wp-content/uploads/2024/08/The-Rotary-Club-Carnival-2024.png
ORGANIZER;CN="Rotary Club of Wilton":MAILTO:info@wiltonchamber.com
END:VEVENT
BEGIN:VEVENT
DTSTART;TZID=America/New_York:20240914T120000
DTEND;TZID=America/New_York:20240914T220000
DTSTAMP:20260421T045904
CREATED:20240831T170322Z
LAST-MODIFIED:20240831T170322Z
UID:10018040-1726315200-1726351200@goodmorningwilton.com
SUMMARY:The Rotary Club of Wilton Carnival
DESCRIPTION:Join the Rotary Club of Wilton together with the Knights of Columbus Bishop Fenwick Assembly 100 for their family carnival from Sept. 13-15. \nThe Carnival is a great family event and a wonderful Wilton tradition to kick off the autumn season and new school year for everyone. Find over a dozen different rides for all ages as well as multiple games and other activities for the whole family. Additionally\, enjoy a variety of food trucks and vendors throughout the weekend event. \nThe carnival takes place at the corner of School Road and Danbury Road/Route 7. \nAdmission and parking is free. Unlimited ride wristbands are $30 per wristband for each time slot and individual ride tickets are available as well. \nAll proceeds go to the community in support of Wilton projects as well as Rotary International global humanitarian projects. \nFriday Sept. 13\, 6-10 p.m. \nSaturday Sept. 14\, 12-10 p.m. \nSunday Sept. 15\, 12-5 p.m. \n 
URL:https://goodmorningwilton.com/event/the-rotary-club-of-wilton-carnival/2024-09-14/
LOCATION:395 Danbury Road Wilton\, CT 06897 – corner School Road and Route 7\, 395 Danbury Road\, Wilton\, CT\, 06897\, United States
CATEGORIES:Carnival,Community Celebration,Community Events,Donation/Collection,Family Event,Festival,Fundraiser,Kids,Outdoor Event
ATTACH;FMTTYPE=image/png:https://goodmorningwilton.com/wp-content/uploads/2024/08/The-Rotary-Club-Carnival-2024.png
ORGANIZER;CN="Rotary Club of Wilton":MAILTO:info@wiltonchamber.com
END:VEVENT
BEGIN:VEVENT
DTSTART;TZID=America/New_York:20240915T120000
DTEND;TZID=America/New_York:20240915T170000
DTSTAMP:20260421T045904
CREATED:20240831T170322Z
LAST-MODIFIED:20240831T170322Z
UID:10018041-1726401600-1726419600@goodmorningwilton.com
SUMMARY:The Rotary Club of Wilton Carnival
DESCRIPTION:Join the Rotary Club of Wilton together with the Knights of Columbus Bishop Fenwick Assembly 100 for their family carnival from Sept. 13-15. \nThe Carnival is a great family event and a wonderful Wilton tradition to kick off the autumn season and new school year for everyone. Find over a dozen different rides for all ages as well as multiple games and other activities for the whole family. Additionally\, enjoy a variety of food trucks and vendors throughout the weekend event. \nThe carnival takes place at the corner of School Road and Danbury Road/Route 7. \nAdmission and parking is free. Unlimited ride wristbands are $30 per wristband for each time slot and individual ride tickets are available as well. \nAll proceeds go to the community in support of Wilton projects as well as Rotary International global humanitarian projects. \nFriday Sept. 13\, 6-10 p.m. \nSaturday Sept. 14\, 12-10 p.m. \nSunday Sept. 15\, 12-5 p.m. \n 
URL:https://goodmorningwilton.com/event/the-rotary-club-of-wilton-carnival/2024-09-15/
LOCATION:395 Danbury Road Wilton\, CT 06897 – corner School Road and Route 7\, 395 Danbury Road\, Wilton\, CT\, 06897\, United States
CATEGORIES:Carnival,Community Celebration,Community Events,Donation/Collection,Family Event,Festival,Fundraiser,Kids,Outdoor Event
ATTACH;FMTTYPE=image/png:https://goodmorningwilton.com/wp-content/uploads/2024/08/The-Rotary-Club-Carnival-2024.png
ORGANIZER;CN="Rotary Club of Wilton":MAILTO:info@wiltonchamber.com
END:VEVENT
BEGIN:VEVENT
DTSTART;VALUE=DATE:20250825
DTEND;VALUE=DATE:20250826
DTSTAMP:20260421T045904
CREATED:20250819T093943Z
LAST-MODIFIED:20250819T093943Z
UID:10019828-1756080000-1756166399@goodmorningwilton.com
SUMMARY:Wilton Public Schools Students Return
DESCRIPTION:
URL:https://goodmorningwilton.com/event/wilton-public-schools-students-return/
LOCATION:Wilton Public Schools\, Wilton\, 06897\, United States
CATEGORIES:Educational,Kids,Schools,Teens
ATTACH;FMTTYPE=image/jpeg:https://goodmorningwilton.com/wp-content/uploads/2021/08/8-30-21-first-day-of-school-Wilton-High-School-WHS-1810.jpg
END:VEVENT
END:VCALENDAR