BEGIN:VCALENDAR
VERSION:2.0
PRODID:-//Good Morning Wilton - ECPv6.15.20//NONSGML v1.0//EN
CALSCALE:GREGORIAN
METHOD:PUBLISH
X-ORIGINAL-URL:https://goodmorningwilton.com
X-WR-CALDESC:Events for Good Morning Wilton
REFRESH-INTERVAL;VALUE=DURATION:PT1H
X-Robots-Tag:noindex
X-PUBLISHED-TTL:PT1H
BEGIN:VTIMEZONE
TZID:America/New_York
BEGIN:DAYLIGHT
TZOFFSETFROM:-0500
TZOFFSETTO:-0400
TZNAME:EDT
DTSTART:20230312T070000
END:DAYLIGHT
BEGIN:STANDARD
TZOFFSETFROM:-0400
TZOFFSETTO:-0500
TZNAME:EST
DTSTART:20231105T060000
END:STANDARD
BEGIN:DAYLIGHT
TZOFFSETFROM:-0500
TZOFFSETTO:-0400
TZNAME:EDT
DTSTART:20240310T070000
END:DAYLIGHT
BEGIN:STANDARD
TZOFFSETFROM:-0400
TZOFFSETTO:-0500
TZNAME:EST
DTSTART:20241103T060000
END:STANDARD
BEGIN:DAYLIGHT
TZOFFSETFROM:-0500
TZOFFSETTO:-0400
TZNAME:EDT
DTSTART:20250309T070000
END:DAYLIGHT
BEGIN:STANDARD
TZOFFSETFROM:-0400
TZOFFSETTO:-0500
TZNAME:EST
DTSTART:20251102T060000
END:STANDARD
END:VTIMEZONE
BEGIN:VEVENT
DTSTART;TZID=America/New_York:20240426T080000
DTEND;TZID=America/New_York:20240426T170000
DTSTAMP:20260424T041008
CREATED:20240408T000002Z
LAST-MODIFIED:20240408T000002Z
UID:10015804-1714118400-1714150800@goodmorningwilton.com
SUMMARY:Wilton Library's Spring Book Sale
DESCRIPTION:It’s time for Wilton Library’s popular Spring Book Sale fundraiser! The sale takes place Friday\, April 26 through Monday\, April 29. \nTake note: Sale starts on Friday\, April 26! \nApril 26: Early Buying 8 – 10 a.m. ($20 admission)\, 10 a.m. – 5 p.m. Free Admission\nApril 27: 10 a.m. – 5 p.m.\nApril 28: 1 – 5 p.m. — Half-Price Day\nApril 29: 10 a.m. – 5 p.m. — $5 Bag Day (bags supplied by the library) \nDon’t miss this opportunity to stock up on some great bargains and support Wilton Library!
URL:https://goodmorningwilton.com/event/wilton-librarys-spring-book-sale-5/2024-04-26/
LOCATION:Wilton Library\, 137 Old Ridgefield Rd.\, Wilton\, CT\, 06987
CATEGORIES:Fundraiser,Library,Not for profit,Sale
ATTACH;FMTTYPE=image/jpeg:https://goodmorningwilton.com/wp-content/uploads/2024/04/Spring-Book-Sale-April-2024.jpg
END:VEVENT
BEGIN:VEVENT
DTSTART;TZID=America/New_York:20240427T100000
DTEND;TZID=America/New_York:20240427T170000
DTSTAMP:20260424T041008
CREATED:20240408T000002Z
LAST-MODIFIED:20240408T000002Z
UID:10015805-1714212000-1714237200@goodmorningwilton.com
SUMMARY:Wilton Library's Spring Book Sale
DESCRIPTION:It’s time for Wilton Library’s popular Spring Book Sale fundraiser! The sale takes place Friday\, April 26 through Monday\, April 29. \nTake note: Sale starts on Friday\, April 26! \nApril 26: Early Buying 8 – 10 a.m. ($20 admission)\, 10 a.m. – 5 p.m. Free Admission\nApril 27: 10 a.m. – 5 p.m.\nApril 28: 1 – 5 p.m. — Half-Price Day\nApril 29: 10 a.m. – 5 p.m. — $5 Bag Day (bags supplied by the library) \nDon’t miss this opportunity to stock up on some great bargains and support Wilton Library!
URL:https://goodmorningwilton.com/event/wilton-librarys-spring-book-sale-5/2024-04-27/
LOCATION:Wilton Library\, 137 Old Ridgefield Rd.\, Wilton\, CT\, 06987
CATEGORIES:Fundraiser,Library,Not for profit,Sale
ATTACH;FMTTYPE=image/jpeg:https://goodmorningwilton.com/wp-content/uploads/2024/04/Spring-Book-Sale-April-2024.jpg
END:VEVENT
BEGIN:VEVENT
DTSTART;TZID=America/New_York:20240428T130000
DTEND;TZID=America/New_York:20240428T170000
DTSTAMP:20260424T041008
CREATED:20240408T000002Z
LAST-MODIFIED:20240408T000002Z
UID:10015806-1714309200-1714323600@goodmorningwilton.com
SUMMARY:Wilton Library's Spring Book Sale
DESCRIPTION:It’s time for Wilton Library’s popular Spring Book Sale fundraiser! The sale takes place Friday\, April 26 through Monday\, April 29. \nTake note: Sale starts on Friday\, April 26! \nApril 26: Early Buying 8 – 10 a.m. ($20 admission)\, 10 a.m. – 5 p.m. Free Admission\nApril 27: 10 a.m. – 5 p.m.\nApril 28: 1 – 5 p.m. — Half-Price Day\nApril 29: 10 a.m. – 5 p.m. — $5 Bag Day (bags supplied by the library) \nDon’t miss this opportunity to stock up on some great bargains and support Wilton Library!
URL:https://goodmorningwilton.com/event/wilton-librarys-spring-book-sale-5/2024-04-28/
LOCATION:Wilton Library\, 137 Old Ridgefield Rd.\, Wilton\, CT\, 06987
CATEGORIES:Fundraiser,Library,Not for profit,Sale
ATTACH;FMTTYPE=image/jpeg:https://goodmorningwilton.com/wp-content/uploads/2024/04/Spring-Book-Sale-April-2024.jpg
END:VEVENT
BEGIN:VEVENT
DTSTART;TZID=America/New_York:20240429T100000
DTEND;TZID=America/New_York:20240429T170000
DTSTAMP:20260424T041008
CREATED:20240408T000002Z
LAST-MODIFIED:20240408T000002Z
UID:10015807-1714384800-1714410000@goodmorningwilton.com
SUMMARY:Wilton Library's Spring Book Sale
DESCRIPTION:It’s time for Wilton Library’s popular Spring Book Sale fundraiser! The sale takes place Friday\, April 26 through Monday\, April 29. \nTake note: Sale starts on Friday\, April 26! \nApril 26: Early Buying 8 – 10 a.m. ($20 admission)\, 10 a.m. – 5 p.m. Free Admission\nApril 27: 10 a.m. – 5 p.m.\nApril 28: 1 – 5 p.m. — Half-Price Day\nApril 29: 10 a.m. – 5 p.m. — $5 Bag Day (bags supplied by the library) \nDon’t miss this opportunity to stock up on some great bargains and support Wilton Library!
URL:https://goodmorningwilton.com/event/wilton-librarys-spring-book-sale-5/2024-04-29/
LOCATION:Wilton Library\, 137 Old Ridgefield Rd.\, Wilton\, CT\, 06987
CATEGORIES:Fundraiser,Library,Not for profit,Sale
ATTACH;FMTTYPE=image/jpeg:https://goodmorningwilton.com/wp-content/uploads/2024/04/Spring-Book-Sale-April-2024.jpg
END:VEVENT
END:VCALENDAR