BEGIN:VCALENDAR
VERSION:2.0
PRODID:-//Good Morning Wilton - ECPv6.15.20//NONSGML v1.0//EN
CALSCALE:GREGORIAN
METHOD:PUBLISH
X-WR-CALNAME:Good Morning Wilton
X-ORIGINAL-URL:https://goodmorningwilton.com
X-WR-CALDESC:Events for Good Morning Wilton
REFRESH-INTERVAL;VALUE=DURATION:PT1H
X-Robots-Tag:noindex
X-PUBLISHED-TTL:PT1H
BEGIN:VTIMEZONE
TZID:America/New_York
BEGIN:DAYLIGHT
TZOFFSETFROM:-0500
TZOFFSETTO:-0400
TZNAME:EDT
DTSTART:20220313T070000
END:DAYLIGHT
BEGIN:STANDARD
TZOFFSETFROM:-0400
TZOFFSETTO:-0500
TZNAME:EST
DTSTART:20221106T060000
END:STANDARD
BEGIN:DAYLIGHT
TZOFFSETFROM:-0500
TZOFFSETTO:-0400
TZNAME:EDT
DTSTART:20230312T070000
END:DAYLIGHT
BEGIN:STANDARD
TZOFFSETFROM:-0400
TZOFFSETTO:-0500
TZNAME:EST
DTSTART:20231105T060000
END:STANDARD
BEGIN:DAYLIGHT
TZOFFSETFROM:-0500
TZOFFSETTO:-0400
TZNAME:EDT
DTSTART:20240310T070000
END:DAYLIGHT
BEGIN:STANDARD
TZOFFSETFROM:-0400
TZOFFSETTO:-0500
TZNAME:EST
DTSTART:20241103T060000
END:STANDARD
END:VTIMEZONE
BEGIN:VEVENT
DTSTART;TZID=America/New_York:20230513T173000
DTEND;TZID=America/New_York:20230513T193000
DTSTAMP:20260424T092118
CREATED:20230501T092958Z
LAST-MODIFIED:20230501T092958Z
UID:10010556-1683999000-1684006200@goodmorningwilton.com
SUMMARY:Wilton High School Boys Lacrosse Senior Night
DESCRIPTION:The Wilton High School boys lacrosse team invites the community to join in honoring its senior players on Saturday\, May 13 at 5:30 p.m. The Warriors will take on Fordham Prep. It will be a terrific night! \nPictured left to right (back):\nConnor Smith #12\, Spencer Liston* #14\, Will Soojian #5\, Connor Sweeney #33\, Luke Tottan #40\, Andrew Wiest* #44\, Tommy McKiernan #6\, Evan Blankenship #27\, Will Sullivan #15 & James Kane #13\nPictured left to right (front):\nGeorge Hahn #10\, Dave Sylvester #1\, Michael Wall #22\, Wilson Tansill #11\, Charlie Johnson* #4\, Caleb Rath #20\, Liam Pearsall #55\, Owen Rosen #9 & Charlie Rath* #21\n(*Captains)
URL:https://goodmorningwilton.com/event/wilton-high-school-boys-lacrosse-senior-night/
LOCATION:Memorial  Stadium\, 395 Danbury Road\, Wilton\, 06897\, United States
CATEGORIES:Community Events,Free,Outdoor Event,Schools,Sports
ATTACH;FMTTYPE=image/jpeg:https://goodmorningwilton.com/wp-content/uploads/2023/04/2023-WHS-B-SeniorsR31_8532-scaled.jpg
END:VEVENT
END:VCALENDAR