BEGIN:VCALENDAR
VERSION:2.0
PRODID:-//Good Morning Wilton - ECPv6.15.20//NONSGML v1.0//EN
CALSCALE:GREGORIAN
METHOD:PUBLISH
X-ORIGINAL-URL:https://goodmorningwilton.com
X-WR-CALDESC:Events for Good Morning Wilton
REFRESH-INTERVAL;VALUE=DURATION:PT1H
X-Robots-Tag:noindex
X-PUBLISHED-TTL:PT1H
BEGIN:VTIMEZONE
TZID:America/New_York
BEGIN:DAYLIGHT
TZOFFSETFROM:-0500
TZOFFSETTO:-0400
TZNAME:EDT
DTSTART:20170312T070000
END:DAYLIGHT
BEGIN:STANDARD
TZOFFSETFROM:-0400
TZOFFSETTO:-0500
TZNAME:EST
DTSTART:20171105T060000
END:STANDARD
BEGIN:DAYLIGHT
TZOFFSETFROM:-0500
TZOFFSETTO:-0400
TZNAME:EDT
DTSTART:20180311T070000
END:DAYLIGHT
BEGIN:STANDARD
TZOFFSETFROM:-0400
TZOFFSETTO:-0500
TZNAME:EST
DTSTART:20181104T060000
END:STANDARD
BEGIN:DAYLIGHT
TZOFFSETFROM:-0500
TZOFFSETTO:-0400
TZNAME:EDT
DTSTART:20190310T070000
END:DAYLIGHT
BEGIN:STANDARD
TZOFFSETFROM:-0400
TZOFFSETTO:-0500
TZNAME:EST
DTSTART:20191103T060000
END:STANDARD
BEGIN:DAYLIGHT
TZOFFSETFROM:-0500
TZOFFSETTO:-0400
TZNAME:EDT
DTSTART:20200308T070000
END:DAYLIGHT
BEGIN:STANDARD
TZOFFSETFROM:-0400
TZOFFSETTO:-0500
TZNAME:EST
DTSTART:20201101T060000
END:STANDARD
BEGIN:DAYLIGHT
TZOFFSETFROM:-0500
TZOFFSETTO:-0400
TZNAME:EDT
DTSTART:20210314T070000
END:DAYLIGHT
BEGIN:STANDARD
TZOFFSETFROM:-0400
TZOFFSETTO:-0500
TZNAME:EST
DTSTART:20211107T060000
END:STANDARD
BEGIN:DAYLIGHT
TZOFFSETFROM:-0500
TZOFFSETTO:-0400
TZNAME:EDT
DTSTART:20220313T070000
END:DAYLIGHT
BEGIN:STANDARD
TZOFFSETFROM:-0400
TZOFFSETTO:-0500
TZNAME:EST
DTSTART:20221106T060000
END:STANDARD
BEGIN:DAYLIGHT
TZOFFSETFROM:-0500
TZOFFSETTO:-0400
TZNAME:EDT
DTSTART:20230312T070000
END:DAYLIGHT
BEGIN:STANDARD
TZOFFSETFROM:-0400
TZOFFSETTO:-0500
TZNAME:EST
DTSTART:20231105T060000
END:STANDARD
BEGIN:DAYLIGHT
TZOFFSETFROM:-0500
TZOFFSETTO:-0400
TZNAME:EDT
DTSTART:20240310T070000
END:DAYLIGHT
BEGIN:STANDARD
TZOFFSETFROM:-0400
TZOFFSETTO:-0500
TZNAME:EST
DTSTART:20241103T060000
END:STANDARD
BEGIN:DAYLIGHT
TZOFFSETFROM:-0500
TZOFFSETTO:-0400
TZNAME:EDT
DTSTART:20250309T070000
END:DAYLIGHT
BEGIN:STANDARD
TZOFFSETFROM:-0400
TZOFFSETTO:-0500
TZNAME:EST
DTSTART:20251102T060000
END:STANDARD
BEGIN:DAYLIGHT
TZOFFSETFROM:-0500
TZOFFSETTO:-0400
TZNAME:EDT
DTSTART:20260308T070000
END:DAYLIGHT
BEGIN:STANDARD
TZOFFSETFROM:-0400
TZOFFSETTO:-0500
TZNAME:EST
DTSTART:20261101T060000
END:STANDARD
BEGIN:DAYLIGHT
TZOFFSETFROM:-0500
TZOFFSETTO:-0400
TZNAME:EDT
DTSTART:20270314T070000
END:DAYLIGHT
BEGIN:STANDARD
TZOFFSETFROM:-0400
TZOFFSETTO:-0500
TZNAME:EST
DTSTART:20271107T060000
END:STANDARD
END:VTIMEZONE
BEGIN:VEVENT
DTSTART;TZID=America/New_York:20181108T183000
DTEND;TZID=America/New_York:20181108T193000
DTSTAMP:20260422T190508
CREATED:20181014T232415Z
LAST-MODIFIED:20181014T232415Z
UID:10008102-1541701800-1541705400@goodmorningwilton.com
SUMMARY:Board of Education Community Budget Workshop
DESCRIPTION:An opportunity for community members to meet with Board of Education members and school administrators to share opinions and thoughts about the 2019-20 school operating budget\, which is currently being developed.
URL:https://goodmorningwilton.com/event/board-of-education-community-budget-workshop/
LOCATION:Wilton High School Library
CATEGORIES:Schools,Town/Government Meeting,Workshop
ATTACH;FMTTYPE=image/jpeg:https://goodmorningwilton.com/wp-content/uploads/2014/11/Board-of-Education-e1466718647591.jpg
END:VEVENT
BEGIN:VEVENT
DTSTART;TZID=America/New_York:20190621T080000
DTEND;TZID=America/New_York:20190621T090000
DTSTAMP:20260422T190509
CREATED:20190618T162838Z
LAST-MODIFIED:20190618T162838Z
UID:10008827-1561104000-1561107600@goodmorningwilton.com
SUMMARY:Coffee Hour at Orem's Diner with State Rep. Gail Lavielle and Tom O'Dea
DESCRIPTION:State Representatives Gail Lavielle (R-143) and Tom O’Dea (R-125) will hold a Constituent Coffee Hour at Orem’s Diner (167 Danbury Rd.) this Friday\, June 21 from 8-9 a.m to discuss major topics from the 2019 legislative session\, including the state budget\, minimum wage\, paid family and medical leave\, regionalization\, the opioid crisis\, tolls\, and more. \nThis event is free and open to the public.
URL:https://goodmorningwilton.com/event/coffee-hour-at-orems-diner-with-state-rep-gail-lavielle-and-tom-odea/
LOCATION:Orem’s Diner\, 167 Danbury Road\, Wilton\, Connecticut\, 06897\, United States
CATEGORIES:Coffee,discussion,Free,Government,Politics
ATTACH;FMTTYPE=image/jpeg:https://goodmorningwilton.com/wp-content/uploads/2019/06/gail-tom-coffee-hour-6.21.2019.jpg
END:VEVENT
BEGIN:VEVENT
DTSTART;TZID=America/New_York:20230321T190000
DTEND;TZID=America/New_York:20230321T210000
DTSTAMP:20260422T190509
CREATED:20230320T123812Z
LAST-MODIFIED:20230320T205550Z
UID:10011762-1679425200-1679432400@goodmorningwilton.com
SUMMARY:Board of Finance Public Hearing on Proposed FY'24 Bd. of Selectmen Town Budget
DESCRIPTION:The Board of Finance of the Town of Wilton will hold a public hearing on the Fiscal Year 2024 town budget requested by the Board of Selectmen on Tuesday\, March 21\, at 7 p.m. at Comstock Community Center Room 31 and via Zoom. \nAt the hearing\, all interested persons and taxpayers of the Town of Wilton are invited to comment on or inquire about the requested budget.
URL:https://goodmorningwilton.com/event/board-of-finance-public-hearing-on-proposed-fy24-bd-of-selectmen-town-budget/
LOCATION:Comstock Community Center\, 180 School Rd.\, Wilton\, CT\, 06897\, United States
CATEGORIES:Civic,Government,Public Hearing,Town/Government Meeting
ATTACH;FMTTYPE=image/jpeg:https://goodmorningwilton.com/wp-content/uploads/2022/04/Town-Hall-3.jpeg
GEO:41.2020422;-73.4335825
X-APPLE-STRUCTURED-LOCATION;VALUE=URI;X-ADDRESS=Comstock Community Center 180 School Rd. Wilton CT 06897 United States;X-APPLE-RADIUS=500;X-TITLE=180 School Rd.:geo:-73.4335825,41.2020422
END:VEVENT
BEGIN:VEVENT
DTSTART;TZID=America/New_York:20230502T190000
DTEND;TZID=America/New_York:20230502T200000
DTSTAMP:20260422T190509
CREATED:20230425T111707Z
LAST-MODIFIED:20230425T111707Z
UID:10011825-1683054000-1683057600@goodmorningwilton.com
SUMMARY:TOWN OF WILTON: ANNUAL TOWN MEETING [May 2\, 2023]
DESCRIPTION:TOWN OF WILTON \nLEGAL NOTICE OF ANNUAL TOWN MEETING [May 2\, 2023] \nAll electors of the Town of Wilton and all others entitled to vote at a meeting of the Town Meeting pursuant to the General Statutes are hereby notified that the ANNUAL TOWN MEETING of the Town of Wilton will be held in the Clune Center\, Wilton\, Connecticut on Tuesday\, May 2\, 2023\, at 7:00 p.m. to consider and act upon the following matters: \n\nThe Annual Budget and tax levy for the Town of Wilton set forth below and submitted by the Board of Finance for the fiscal year commencing July 1\, 2023\, and to make specific appropriations as are advisable and authorized by law.\n\nBOARD OF FINANCE\nTOWN OF WILTON \nUpon motions duly made and adopted it was resolved to: \n\nRecommend to the Annual Town Meeting the appropriation of a budget for expenditures amounting to $134\,951\,947 for Fiscal Year 2024.\nLevy a tax of 29.2608 mils on the estimated Net Taxable Grand List of October 1\, 2022\, that is payable one-half of July 1\, 2023 and one-half on January 1\, 2024\, except for bills of $100 or less for personal property or real estate which are payable in one installment July 1\, 2023. Taxes on automobiles shall be payable in one installment on July 1\, 2023.\n\nDated at Wilton\, Connecticut this 3rd day of April 2023\, \nMichael Kaelin\, Chairman\nStewart Koenigsberg\, Vice Chairman\nMatthew Raimondi\, Clerk\nSandra Arkell\nRichard Santosky\nChris Stroup \nIn accordance with Article VII: Sec. C-30 E (3) of the Wilton Charter\, the proposed budget is presented below in summary format. \nDetails are available on the town website and will also be presented at the Annual Town Meeting. \nFY 2023 BUDGET AS RECOMMENDED BY THE BOARD OF FINANCE\n(SUMMARY) \nEstimate Fund Balance – Beginning                                                    $15\,081\,180 \nAppropriations: \nBoard of Selectmen Operating                                                               $33\,412\,794 \nBoard of Selectmen Capital                                                                    $ 1\,060\,801 \nTotal Board of Selectman                                                                       $34\,473\,595 \nBoard of Education                                                                                  $89\,181\,692 \nDebt Service                                                                                              $9\,960\,502 \nCharter Authority                                                                                    $1\,336\,158  \nTotal Operating Requirements                                             $134\,951\,947 \nTotal Estimated Revenues                                                     $5\,666\,709  \nUse of Fund Balance                                                                          1\,585\,985 \nTax Levy                                                                                        $127\,699\,253 \nElderly and Disabled Tax Relief                                                    1\,110\,000 \nTax Relief for WVAC and Georgetown                                         20\,750 \nMill Rate Levy                                                                                    128\,830\,004 \nGrand List                                                                                          $4\,433\,859\,226 \nCollection Rate                                                                                  99.3% \nNet Grand List                                                                          $4\,402\,822\,211  \nRequired Mill Rate=Net Levy/ (Net Grand List/1000)          29.2608  \nEstimated Ending Fund Balance                                                  $13\,495\,195 \nBOARD OF SELECTMEN TOWN OF WILTON \nUpon motions duly made and adopted by unanimous vote\, on April 3rd and April 11th the following have been endorsed by the Board of Selectmen: \n\n“Resolution Appropriating $127\,000 For The Construction And Reconstruction Of Scribner Hill Road And Authorizing The Issuance Of $127\,000 Bonds Of The Town To Meet Said Appropriation And Pending The Issuance Thereof The Making Of Temporary Borrowings For Such Purpose”\n“Resolution Appropriating Not Exceeding $1\,935\,000 For The Planning\, Design\, Acquisition And Installation Of A Turf Field At Allen’s Meadow And Authorizing The Issuance Of Not Exceeding $1\,935\,000 Bonds Of The Town To Meet Said Appropriation And Pending The Issuance Thereof The Making Of Temporary Borrowings For Such Purpose”\n“Resolution Appropriating $950\,000 For The Acquisition Of A Replacement Fire Engine And Authorizing The Issuance Of $950\,000 Bonds Of The Town To Meet Said Appropriation And Pending The Issuance Thereof The Making Of Temporary Borrowings For Such Purpose”\n“Resolution Appropriating $780\,000 For The Construction And Installation Of School District Roof Replacements And Authorizing The Issuance Of $780\,000 Bonds Of The Town To Meet Said Appropriation And Pending The Issuance Thereof The Making Of Temporary Borrowings For Such Purpose”\n“Resolution Appropriating $275\,000 For The Acquisition\, Planning\, Design And Installation Of School District Elevator Replacements And Authorizing The Issuance Of $275\,000 Bonds Of The Town To Meet Said Appropriation And Pending The Issuance Thereof The Making Of Temporary Borrowings For Such Purpose”\n\nVoting will take place immediately following the Annual Town Meeting on May 2nd and will take place on Saturday\, May 6\, 2023\, from 8:00 a.m. to 6:00 p.m. in the Clune Center Lobby\, Wilton High School\, Wilton\, CT. Voting can also be by absentee ballots. Please visit the town website for further information. \nLynne A. Vanderslice\, First Selectwoman \nJoshua S. Cole\, Second Selectman \nKimberley Healy\, Selectwoman \nBasam Nabulsi\, Selectman \nRoss H. Tartell\, Selectman
URL:https://goodmorningwilton.com/event/town-of-wilton-annual-town-meeting-may-2-2023/
LOCATION:Clune Center
CATEGORIES:Community Events,Government,Meeting,Politics,Town/Government Meeting
ATTACH;FMTTYPE=image/png:https://goodmorningwilton.com/wp-content/uploads/2018/03/Wilton-Town-Hall.png
END:VEVENT
BEGIN:VEVENT
DTSTART;TZID=America/New_York:20240229T190000
DTEND;TZID=America/New_York:20240229T200000
DTSTAMP:20260422T190509
CREATED:20240219T163600Z
LAST-MODIFIED:20240219T164856Z
UID:10015057-1709233200-1709236800@goodmorningwilton.com
SUMMARY:Board of Education Special Meeting — Budget/Vote Approval
DESCRIPTION:Board of Education Regular Meetings take place in the WHS Professional Library beginning at 7:00 p.m. unless otherwise noted. \nZoom links for each meeting will be posted on BoardDocs.
URL:https://goodmorningwilton.com/event/board-of-education-special-meeting-budget-vote-approval/
LOCATION:Wilton High School\, 395 Danbury Rd.\, Wilton\, CT\, 06897\, United States
CATEGORIES:Educational,Schools,Town/Government Meeting,Zoom Call
ATTACH;FMTTYPE=image/jpeg:https://goodmorningwilton.com/wp-content/uploads/2014/11/Board-of-Education-e1466718647591.jpg
END:VEVENT
BEGIN:VEVENT
DTSTART;TZID=America/New_York:20240320T190000
DTEND;TZID=America/New_York:20240320T200000
DTSTAMP:20260422T190509
CREATED:20240219T164747Z
LAST-MODIFIED:20240219T164747Z
UID:10015058-1710961200-1710964800@goodmorningwilton.com
SUMMARY:Public Hearing — BOE Budget at Middlebrook
DESCRIPTION:Board of Education Public Hearing on the BOE budget. \nZoom links to meetings will be posted on BoardDocs.
URL:https://goodmorningwilton.com/event/public-hearing-boe-budget-at-middlebrook/
LOCATION:Middlebrook School
CATEGORIES:Educational,Meeting,Public Hearing,Town/Government Meeting,Zoom Call
ATTACH;FMTTYPE=image/jpeg:https://goodmorningwilton.com/wp-content/uploads/2014/11/Board-of-Education-e1466718647591.jpg
END:VEVENT
BEGIN:VEVENT
DTSTART;TZID=America/New_York:20250708T190000
DTEND;TZID=America/New_York:20250708T210000
DTSTAMP:20260422T190509
CREATED:20250819T090608Z
LAST-MODIFIED:20250819T090608Z
UID:10019521-1752001200-1752008400@goodmorningwilton.com
SUMMARY:Board of Finance Meeting
DESCRIPTION:The Board of Finance meets to discuss matters relating to the Town of Wilton’s finances\, including recommending a budget and a mill rate. The public can attend these open meetings in person or via Zoom.
URL:https://goodmorningwilton.com/event/board-of-finance-meeting-2/2025-07-08/
LOCATION:Comstock Community Center
CATEGORIES:Civic,discussion,Free,Government,In Person,Meeting,Online,Town/Government Meeting,Zoom Call
ATTACH;FMTTYPE=image/jpeg:https://goodmorningwilton.com/wp-content/uploads/2022/04/Town-Hall-3.jpeg
END:VEVENT
BEGIN:VEVENT
DTSTART;TZID=America/New_York:20250812T190000
DTEND;TZID=America/New_York:20250812T210000
DTSTAMP:20260422T190509
CREATED:20250819T090608Z
LAST-MODIFIED:20250819T090608Z
UID:10019522-1755025200-1755032400@goodmorningwilton.com
SUMMARY:Board of Finance Meeting
DESCRIPTION:The Board of Finance meets to discuss matters relating to the Town of Wilton’s finances\, including recommending a budget and a mill rate. The public can attend these open meetings in person or via Zoom.
URL:https://goodmorningwilton.com/event/board-of-finance-meeting-2/2025-08-12/
LOCATION:Comstock Community Center
CATEGORIES:Civic,discussion,Free,Government,In Person,Meeting,Online,Town/Government Meeting,Zoom Call
ATTACH;FMTTYPE=image/jpeg:https://goodmorningwilton.com/wp-content/uploads/2022/04/Town-Hall-3.jpeg
END:VEVENT
BEGIN:VEVENT
DTSTART;TZID=America/New_York:20250909T190000
DTEND;TZID=America/New_York:20250909T210000
DTSTAMP:20260422T190509
CREATED:20250819T090608Z
LAST-MODIFIED:20250819T090608Z
UID:10019523-1757444400-1757451600@goodmorningwilton.com
SUMMARY:Board of Finance Meeting
DESCRIPTION:The Board of Finance meets to discuss matters relating to the Town of Wilton’s finances\, including recommending a budget and a mill rate. The public can attend these open meetings in person or via Zoom.
URL:https://goodmorningwilton.com/event/board-of-finance-meeting-2/2025-09-09/
LOCATION:Comstock Community Center
CATEGORIES:Civic,discussion,Free,Government,In Person,Meeting,Online,Town/Government Meeting,Zoom Call
ATTACH;FMTTYPE=image/jpeg:https://goodmorningwilton.com/wp-content/uploads/2022/04/Town-Hall-3.jpeg
END:VEVENT
BEGIN:VEVENT
DTSTART;TZID=America/New_York:20251014T190000
DTEND;TZID=America/New_York:20251014T210000
DTSTAMP:20260422T190509
CREATED:20250819T090608Z
LAST-MODIFIED:20250819T090608Z
UID:10019524-1760468400-1760475600@goodmorningwilton.com
SUMMARY:Board of Finance Meeting
DESCRIPTION:The Board of Finance meets to discuss matters relating to the Town of Wilton’s finances\, including recommending a budget and a mill rate. The public can attend these open meetings in person or via Zoom.
URL:https://goodmorningwilton.com/event/board-of-finance-meeting-2/2025-10-14/
LOCATION:Comstock Community Center
CATEGORIES:Civic,discussion,Free,Government,In Person,Meeting,Online,Town/Government Meeting,Zoom Call
ATTACH;FMTTYPE=image/jpeg:https://goodmorningwilton.com/wp-content/uploads/2022/04/Town-Hall-3.jpeg
END:VEVENT
BEGIN:VEVENT
DTSTART;TZID=America/New_York:20251111T190000
DTEND;TZID=America/New_York:20251111T210000
DTSTAMP:20260422T190509
CREATED:20250819T090608Z
LAST-MODIFIED:20250819T090608Z
UID:10019525-1762887600-1762894800@goodmorningwilton.com
SUMMARY:Board of Finance Meeting
DESCRIPTION:The Board of Finance meets to discuss matters relating to the Town of Wilton’s finances\, including recommending a budget and a mill rate. The public can attend these open meetings in person or via Zoom.
URL:https://goodmorningwilton.com/event/board-of-finance-meeting-2/2025-11-11/
LOCATION:Comstock Community Center
CATEGORIES:Civic,discussion,Free,Government,In Person,Meeting,Online,Town/Government Meeting,Zoom Call
ATTACH;FMTTYPE=image/jpeg:https://goodmorningwilton.com/wp-content/uploads/2022/04/Town-Hall-3.jpeg
END:VEVENT
BEGIN:VEVENT
DTSTART;TZID=America/New_York:20251209T190000
DTEND;TZID=America/New_York:20251209T210000
DTSTAMP:20260422T190509
CREATED:20250819T090608Z
LAST-MODIFIED:20250819T090608Z
UID:10019526-1765306800-1765314000@goodmorningwilton.com
SUMMARY:Board of Finance Meeting
DESCRIPTION:The Board of Finance meets to discuss matters relating to the Town of Wilton’s finances\, including recommending a budget and a mill rate. The public can attend these open meetings in person or via Zoom.
URL:https://goodmorningwilton.com/event/board-of-finance-meeting-2/2025-12-09/
LOCATION:Comstock Community Center
CATEGORIES:Civic,discussion,Free,Government,In Person,Meeting,Online,Town/Government Meeting,Zoom Call
ATTACH;FMTTYPE=image/jpeg:https://goodmorningwilton.com/wp-content/uploads/2022/04/Town-Hall-3.jpeg
END:VEVENT
BEGIN:VEVENT
DTSTART;TZID=America/New_York:20260113T190000
DTEND;TZID=America/New_York:20260113T210000
DTSTAMP:20260422T190509
CREATED:20250819T090608Z
LAST-MODIFIED:20250819T090608Z
UID:10019527-1768330800-1768338000@goodmorningwilton.com
SUMMARY:Board of Finance Meeting
DESCRIPTION:The Board of Finance meets to discuss matters relating to the Town of Wilton’s finances\, including recommending a budget and a mill rate. The public can attend these open meetings in person or via Zoom.
URL:https://goodmorningwilton.com/event/board-of-finance-meeting-2/2026-01-13/
LOCATION:Comstock Community Center
CATEGORIES:Civic,discussion,Free,Government,In Person,Meeting,Online,Town/Government Meeting,Zoom Call
ATTACH;FMTTYPE=image/jpeg:https://goodmorningwilton.com/wp-content/uploads/2022/04/Town-Hall-3.jpeg
END:VEVENT
BEGIN:VEVENT
DTSTART;TZID=America/New_York:20260210T190000
DTEND;TZID=America/New_York:20260210T210000
DTSTAMP:20260422T190509
CREATED:20250819T090608Z
LAST-MODIFIED:20250819T090608Z
UID:10019528-1770750000-1770757200@goodmorningwilton.com
SUMMARY:Board of Finance Meeting
DESCRIPTION:The Board of Finance meets to discuss matters relating to the Town of Wilton’s finances\, including recommending a budget and a mill rate. The public can attend these open meetings in person or via Zoom.
URL:https://goodmorningwilton.com/event/board-of-finance-meeting-2/2026-02-10/
LOCATION:Comstock Community Center
CATEGORIES:Civic,discussion,Free,Government,In Person,Meeting,Online,Town/Government Meeting,Zoom Call
ATTACH;FMTTYPE=image/jpeg:https://goodmorningwilton.com/wp-content/uploads/2022/04/Town-Hall-3.jpeg
END:VEVENT
BEGIN:VEVENT
DTSTART;TZID=America/New_York:20260310T190000
DTEND;TZID=America/New_York:20260310T210000
DTSTAMP:20260422T190509
CREATED:20250819T090608Z
LAST-MODIFIED:20250819T090608Z
UID:10019529-1773169200-1773176400@goodmorningwilton.com
SUMMARY:Board of Finance Meeting
DESCRIPTION:The Board of Finance meets to discuss matters relating to the Town of Wilton’s finances\, including recommending a budget and a mill rate. The public can attend these open meetings in person or via Zoom.
URL:https://goodmorningwilton.com/event/board-of-finance-meeting-2/2026-03-10/
LOCATION:Comstock Community Center
CATEGORIES:Civic,discussion,Free,Government,In Person,Meeting,Online,Town/Government Meeting,Zoom Call
ATTACH;FMTTYPE=image/jpeg:https://goodmorningwilton.com/wp-content/uploads/2022/04/Town-Hall-3.jpeg
END:VEVENT
BEGIN:VEVENT
DTSTART;TZID=America/New_York:20260414T190000
DTEND;TZID=America/New_York:20260414T210000
DTSTAMP:20260422T190509
CREATED:20250819T090608Z
LAST-MODIFIED:20250819T090608Z
UID:10019530-1776193200-1776200400@goodmorningwilton.com
SUMMARY:Board of Finance Meeting
DESCRIPTION:The Board of Finance meets to discuss matters relating to the Town of Wilton’s finances\, including recommending a budget and a mill rate. The public can attend these open meetings in person or via Zoom.
URL:https://goodmorningwilton.com/event/board-of-finance-meeting-2/2026-04-14/
LOCATION:Comstock Community Center
CATEGORIES:Civic,discussion,Free,Government,In Person,Meeting,Online,Town/Government Meeting,Zoom Call
ATTACH;FMTTYPE=image/jpeg:https://goodmorningwilton.com/wp-content/uploads/2022/04/Town-Hall-3.jpeg
END:VEVENT
END:VCALENDAR