BEGIN:VCALENDAR
VERSION:2.0
PRODID:-//Good Morning Wilton - ECPv6.15.20//NONSGML v1.0//EN
CALSCALE:GREGORIAN
METHOD:PUBLISH
X-WR-CALNAME:Good Morning Wilton
X-ORIGINAL-URL:https://goodmorningwilton.com
X-WR-CALDESC:Events for Good Morning Wilton
REFRESH-INTERVAL;VALUE=DURATION:PT1H
X-Robots-Tag:noindex
X-PUBLISHED-TTL:PT1H
BEGIN:VTIMEZONE
TZID:America/New_York
BEGIN:DAYLIGHT
TZOFFSETFROM:-0500
TZOFFSETTO:-0400
TZNAME:EDT
DTSTART:20250309T070000
END:DAYLIGHT
BEGIN:STANDARD
TZOFFSETFROM:-0400
TZOFFSETTO:-0500
TZNAME:EST
DTSTART:20251102T060000
END:STANDARD
BEGIN:DAYLIGHT
TZOFFSETFROM:-0500
TZOFFSETTO:-0400
TZNAME:EDT
DTSTART:20260308T070000
END:DAYLIGHT
BEGIN:STANDARD
TZOFFSETFROM:-0400
TZOFFSETTO:-0500
TZNAME:EST
DTSTART:20261101T060000
END:STANDARD
BEGIN:DAYLIGHT
TZOFFSETFROM:-0500
TZOFFSETTO:-0400
TZNAME:EDT
DTSTART:20270314T070000
END:DAYLIGHT
BEGIN:STANDARD
TZOFFSETFROM:-0400
TZOFFSETTO:-0500
TZNAME:EST
DTSTART:20271107T060000
END:STANDARD
END:VTIMEZONE
BEGIN:VEVENT
DTSTART;TZID=America/New_York:20260221T120000
DTEND;TZID=America/New_York:20260221T140000
DTSTAMP:20260425T101749
CREATED:20260116T232203Z
LAST-MODIFIED:20260116T232203Z
UID:10021962-1771675200-1771682400@goodmorningwilton.com
SUMMARY:Winter Camp Day at the Wilton YMCA
DESCRIPTION:S’MORES\, SMILES\, AND SUMMER VIBES \nJoin the Wilton YMCA for a free family event\, sponsored by ASML\, on February 21\, 12 p.m. – 2 p.m  \nActivities Include:\nArts and Crafts\, Hot Dogs in honor of Hot Dog Day\, New Scooters and Bikes available to ride\, Fire Pit with S’mores\, Mini Golf\, Ropes Climbing\, Gaga in the gymnasium\, and Free Swim with the Inflatable. \nActivities are appropriate for children ages 3 – 14. \nFor more information\, please contact Camp Director Mike Kazlauskas at mkazlauskas@riverbrookymca.org
URL:https://goodmorningwilton.com/event/winter-camp-day-at-the-wilton-ymca/
LOCATION:Wilton YMCA\, 404 Danbury Rd.\, Wilton\, CT\, 06897\, United States
CATEGORIES:Family Event,Kids,YMCA
ATTACH;FMTTYPE=image/jpeg:https://goodmorningwilton.com/wp-content/uploads/2026/01/Winter-Camp-Day-scaled.jpg
ORGANIZER;CN="Riverbrook Regional YMCA":MAILTO:cfreedman@riverbrookymca.org
GEO:41.2116373;-73.4291811
X-APPLE-STRUCTURED-LOCATION;VALUE=URI;X-ADDRESS=Wilton YMCA 404 Danbury Rd. Wilton CT 06897 United States;X-APPLE-RADIUS=500;X-TITLE=404 Danbury Rd.:geo:-73.4291811,41.2116373
END:VEVENT
END:VCALENDAR