BEGIN:VCALENDAR
VERSION:2.0
PRODID:-//Good Morning Wilton - ECPv6.15.20//NONSGML v1.0//EN
CALSCALE:GREGORIAN
METHOD:PUBLISH
X-ORIGINAL-URL:https://goodmorningwilton.com
X-WR-CALDESC:Events for Good Morning Wilton
REFRESH-INTERVAL;VALUE=DURATION:PT1H
X-Robots-Tag:noindex
X-PUBLISHED-TTL:PT1H
BEGIN:VTIMEZONE
TZID:America/New_York
BEGIN:DAYLIGHT
TZOFFSETFROM:-0500
TZOFFSETTO:-0400
TZNAME:EDT
DTSTART:20210314T070000
END:DAYLIGHT
BEGIN:STANDARD
TZOFFSETFROM:-0400
TZOFFSETTO:-0500
TZNAME:EST
DTSTART:20211107T060000
END:STANDARD
BEGIN:DAYLIGHT
TZOFFSETFROM:-0500
TZOFFSETTO:-0400
TZNAME:EDT
DTSTART:20220313T070000
END:DAYLIGHT
BEGIN:STANDARD
TZOFFSETFROM:-0400
TZOFFSETTO:-0500
TZNAME:EST
DTSTART:20221106T060000
END:STANDARD
BEGIN:DAYLIGHT
TZOFFSETFROM:-0500
TZOFFSETTO:-0400
TZNAME:EDT
DTSTART:20230312T070000
END:DAYLIGHT
BEGIN:STANDARD
TZOFFSETFROM:-0400
TZOFFSETTO:-0500
TZNAME:EST
DTSTART:20231105T060000
END:STANDARD
BEGIN:DAYLIGHT
TZOFFSETFROM:-0500
TZOFFSETTO:-0400
TZNAME:EDT
DTSTART:20240310T070000
END:DAYLIGHT
BEGIN:STANDARD
TZOFFSETFROM:-0400
TZOFFSETTO:-0500
TZNAME:EST
DTSTART:20241103T060000
END:STANDARD
END:VTIMEZONE
BEGIN:VEVENT
DTSTART;TZID=America/New_York:20220501T090000
DTEND;TZID=America/New_York:20220501T110000
DTSTAMP:20260424T143433
CREATED:20220315T223149Z
LAST-MODIFIED:20220421T233735Z
UID:10011154-1651395600-1651402800@goodmorningwilton.com
SUMMARY:Circle of Care 5K
DESCRIPTION:Run or walk (or 5K-your-way) the Circle of Care‘s “CARE to Run 5K” benefitting families of children with cancer. The in-person run that local supporters know and love is back this year — with the option for supporters new and old\, and near and far\, to continue participating virtually. This one’s a hybrid event so you can run with us at Merwin Meadows in Wilton or opt to participate anywhere\, any way\, and at any pace you choose. \nOur virtual event allows you to participate however you want — whether you walk around your neighborhood\, run through your local park\, or get your miles in on a treadmill/stationary bike/elliptical\, it’s up to you. \nIf you choose to join us at Merwin Meadows\, you can enjoy music\, activities\, and snacks and refreshments at our After Race Tailgate!
URL:https://goodmorningwilton.com/event/circle-of-care-5k-3/
LOCATION:Merwin Meadows\, 52 Lovers Ln\, Wilton\, CT
CATEGORIES:5K,Charity Runs,Community Events
ATTACH;FMTTYPE=image/png:https://goodmorningwilton.com/wp-content/uploads/2022/03/5K-Co-branded-Logo.png
ORGANIZER;CN="Circle of Care":MAILTO:info@thecircleofcare.org
GEO:41.197245;-73.4354331
X-APPLE-STRUCTURED-LOCATION;VALUE=URI;X-ADDRESS=Merwin Meadows 52 Lovers Ln Wilton CT;X-APPLE-RADIUS=500;X-TITLE=52 Lovers Ln:geo:-73.4354331,41.197245
END:VEVENT
BEGIN:VEVENT
DTSTART;TZID=America/New_York:20221201T160000
DTEND;TZID=America/New_York:20221201T190000
DTSTAMP:20260424T143433
CREATED:20221127T185206Z
LAST-MODIFIED:20221128T020207Z
UID:10011559-1669910400-1669921200@goodmorningwilton.com
SUMMARY:Circle of Care Open House
DESCRIPTION:This holiday season stop by Circle of Care‘s home in Wilton’s historic barn for a cup of cheer and light bites! \nWe are a volunteer-driven\, Wilton based non-profit that has been providing practical\, emotional\, and financial support to Connecticut families with children in treatment for cancer since 2003. We would love for you to meet our staff\, so we can share with you what we do!
URL:https://goodmorningwilton.com/event/circle-of-care-open-house/
LOCATION:The Beatles: From Liverpool to Abbey Road (Zoom)
ATTACH;FMTTYPE=:
END:VEVENT
BEGIN:VEVENT
DTSTART;TZID=America/New_York:20230430T090000
DTEND;TZID=America/New_York:20230430T113000
DTSTAMP:20260424T143433
CREATED:20230326T100656Z
LAST-MODIFIED:20230326T100732Z
UID:10011760-1682845200-1682854200@goodmorningwilton.com
SUMMARY:Circle of Care 5K
DESCRIPTION:Support CT families of children with cancer on Sunday\, April 30\, at our 9th Annual 5K Run/Walk at Merwin Meadows. Enjoy a tailgate party with food and beverages\, a DJ\, lawn games\, and more! Join as an individual or as a team. If you can’t make it\, you can do the 5K virtually! \nProceeds from this event help provide critical support. With your help\, we can ensure no family has to face this journey alone. \nRegister online.
URL:https://goodmorningwilton.com/event/circle-of-care-5k-4/
LOCATION:Merwin Meadows\, 52 Lovers Ln\, Wilton\, CT
CATEGORIES:5K,Charity Runs,Exercise,Fitness,Fundraiser,Health & Wellness,Not for profit,Walk/Hike
ATTACH;FMTTYPE=image/jpeg:https://goodmorningwilton.com/wp-content/uploads/2023/03/CircleofCareGMWFlyer-copy1.jpg
ORGANIZER;CN="Circle of Care":MAILTO:info@thecircleofcare.org
GEO:41.197245;-73.4354331
X-APPLE-STRUCTURED-LOCATION;VALUE=URI;X-ADDRESS=Merwin Meadows 52 Lovers Ln Wilton CT;X-APPLE-RADIUS=500;X-TITLE=52 Lovers Ln:geo:-73.4354331,41.197245
END:VEVENT
END:VCALENDAR