BEGIN:VCALENDAR
VERSION:2.0
PRODID:-//Good Morning Wilton - ECPv6.15.20//NONSGML v1.0//EN
CALSCALE:GREGORIAN
METHOD:PUBLISH
X-WR-CALNAME:Good Morning Wilton
X-ORIGINAL-URL:https://goodmorningwilton.com
X-WR-CALDESC:Events for Good Morning Wilton
REFRESH-INTERVAL;VALUE=DURATION:PT1H
X-Robots-Tag:noindex
X-PUBLISHED-TTL:PT1H
BEGIN:VTIMEZONE
TZID:America/New_York
BEGIN:DAYLIGHT
TZOFFSETFROM:-0500
TZOFFSETTO:-0400
TZNAME:EDT
DTSTART:20230312T070000
END:DAYLIGHT
BEGIN:STANDARD
TZOFFSETFROM:-0400
TZOFFSETTO:-0500
TZNAME:EST
DTSTART:20231105T060000
END:STANDARD
BEGIN:DAYLIGHT
TZOFFSETFROM:-0500
TZOFFSETTO:-0400
TZNAME:EDT
DTSTART:20240310T070000
END:DAYLIGHT
BEGIN:STANDARD
TZOFFSETFROM:-0400
TZOFFSETTO:-0500
TZNAME:EST
DTSTART:20241103T060000
END:STANDARD
BEGIN:DAYLIGHT
TZOFFSETFROM:-0500
TZOFFSETTO:-0400
TZNAME:EDT
DTSTART:20250309T070000
END:DAYLIGHT
BEGIN:STANDARD
TZOFFSETFROM:-0400
TZOFFSETTO:-0500
TZNAME:EST
DTSTART:20251102T060000
END:STANDARD
END:VTIMEZONE
BEGIN:VEVENT
DTSTART;TZID=America/New_York:20240522T190000
DTEND;TZID=America/New_York:20240522T203000
DTSTAMP:20260421T200438
CREATED:20240502T232128Z
LAST-MODIFIED:20240502T232128Z
UID:10016744-1716404400-1716409800@goodmorningwilton.com
SUMMARY:Crash Course in Car Safety
DESCRIPTION:As teens get ready to be (or is already) behind the wheel\, Trackside Teen Center invites parents and their teens to an evening packed with important information to help them stay informed and safe. \nThe knowledgeable panel will cover all aspects of car care pertinent to new drivers. \nGuest Panelists include:\nMike from Wilton Auto – (Car care / mechanics)\nSteve from Fresh Green Light – (Driver’s Ed)\nKaren from Safe Rides – (Learn about this WHS Program)\nLibby from WVAC – (Safety)\nMark from Geico – (Insurance)\nWilton Police – (Safety) \nBrought to the community by Trackside in partnership with Wilton Youth Council/Class Project 2026 \nThis evening is for parents and teens\, best suited for current sophomore class\, but open to all. \nEvent is FREE.
URL:https://goodmorningwilton.com/event/crash-course-in-car-safety/
LOCATION:Trackside Teen Center\, 15 Station Road\, Wilton\, CT\, 06897\, United States
CATEGORIES:Class,discussion,Educational,Parenting,Teens
ATTACH;FMTTYPE=image/png:https://goodmorningwilton.com/wp-content/uploads/2024/05/IMG_5551-3.png
END:VEVENT
END:VCALENDAR