BEGIN:VCALENDAR
VERSION:2.0
PRODID:-//Good Morning Wilton - ECPv6.15.20//NONSGML v1.0//EN
CALSCALE:GREGORIAN
METHOD:PUBLISH
X-WR-CALNAME:Good Morning Wilton
X-ORIGINAL-URL:https://goodmorningwilton.com
X-WR-CALDESC:Events for Good Morning Wilton
REFRESH-INTERVAL;VALUE=DURATION:PT1H
X-Robots-Tag:noindex
X-PUBLISHED-TTL:PT1H
BEGIN:VTIMEZONE
TZID:America/New_York
BEGIN:DAYLIGHT
TZOFFSETFROM:-0500
TZOFFSETTO:-0400
TZNAME:EDT
DTSTART:20220313T070000
END:DAYLIGHT
BEGIN:STANDARD
TZOFFSETFROM:-0400
TZOFFSETTO:-0500
TZNAME:EST
DTSTART:20221106T060000
END:STANDARD
BEGIN:DAYLIGHT
TZOFFSETFROM:-0500
TZOFFSETTO:-0400
TZNAME:EDT
DTSTART:20230312T070000
END:DAYLIGHT
BEGIN:STANDARD
TZOFFSETFROM:-0400
TZOFFSETTO:-0500
TZNAME:EST
DTSTART:20231105T060000
END:STANDARD
BEGIN:DAYLIGHT
TZOFFSETFROM:-0500
TZOFFSETTO:-0400
TZNAME:EDT
DTSTART:20240310T070000
END:DAYLIGHT
BEGIN:STANDARD
TZOFFSETFROM:-0400
TZOFFSETTO:-0500
TZNAME:EST
DTSTART:20241103T060000
END:STANDARD
END:VTIMEZONE
BEGIN:VEVENT
DTSTART;TZID=America/New_York:20231104T183000
DTEND;TZID=America/New_York:20231104T223000
DTSTAMP:20260424T234519
CREATED:20231027T100826Z
LAST-MODIFIED:20231027T100826Z
UID:10013354-1699122600-1699137000@goodmorningwilton.com
SUMMARY:Wilton Library's Casino Night FUNdraiser
DESCRIPTION:Wilton Library is excited to announce the return of our Casino Night FUNdraiser! After the success of last year’s event\, we’re back for another spin of the wheel and roll of the dice. \nSaturday\, November 4\n6:30 p.m.-10:30 p.m. at the library \nJoin us for a fun Vegas-style party with real gaming tables and dealers. Enjoy gourmet food\, top-shelf open bar with signature cocktails\, chips for gaming\, prizes for top winners\, and much more. New this year: enter our Elvis contest\, a sports lounge\, and wine pull. \nTickets are $150 per person. To purchase tickets or learn more about sponsorship opportunities\, please go online or contact Ashley Goldman. \nAll attendees must be 21 years of age or older. All proceeds benefit Wilton Library programs and collections.
URL:https://goodmorningwilton.com/event/wilton-librarys-casino-night-fundraiser-2/
LOCATION:Wilton Library\, 137 Old Ridgefield Rd.\, Wilton\, CT\, 06987
CATEGORIES:Fundraiser,Library
ATTACH;FMTTYPE=image/jpeg:https://goodmorningwilton.com/wp-content/uploads/2023/10/Wilton-Library-Casino-Night-2022-IMG_5927resize.jpg
END:VEVENT
END:VCALENDAR