BEGIN:VCALENDAR
VERSION:2.0
PRODID:-//Good Morning Wilton - ECPv6.15.20//NONSGML v1.0//EN
CALSCALE:GREGORIAN
METHOD:PUBLISH
X-WR-CALNAME:Good Morning Wilton
X-ORIGINAL-URL:https://goodmorningwilton.com
X-WR-CALDESC:Events for Good Morning Wilton
REFRESH-INTERVAL;VALUE=DURATION:PT1H
X-Robots-Tag:noindex
X-PUBLISHED-TTL:PT1H
BEGIN:VTIMEZONE
TZID:America/New_York
BEGIN:DAYLIGHT
TZOFFSETFROM:-0500
TZOFFSETTO:-0400
TZNAME:EDT
DTSTART:20200308T070000
END:DAYLIGHT
BEGIN:STANDARD
TZOFFSETFROM:-0400
TZOFFSETTO:-0500
TZNAME:EST
DTSTART:20201101T060000
END:STANDARD
BEGIN:DAYLIGHT
TZOFFSETFROM:-0500
TZOFFSETTO:-0400
TZNAME:EDT
DTSTART:20210314T070000
END:DAYLIGHT
BEGIN:STANDARD
TZOFFSETFROM:-0400
TZOFFSETTO:-0500
TZNAME:EST
DTSTART:20211107T060000
END:STANDARD
BEGIN:DAYLIGHT
TZOFFSETFROM:-0500
TZOFFSETTO:-0400
TZNAME:EDT
DTSTART:20220313T070000
END:DAYLIGHT
BEGIN:STANDARD
TZOFFSETFROM:-0400
TZOFFSETTO:-0500
TZNAME:EST
DTSTART:20221106T060000
END:STANDARD
BEGIN:DAYLIGHT
TZOFFSETFROM:-0500
TZOFFSETTO:-0400
TZNAME:EDT
DTSTART:20230312T070000
END:DAYLIGHT
BEGIN:STANDARD
TZOFFSETFROM:-0400
TZOFFSETTO:-0500
TZNAME:EST
DTSTART:20231105T060000
END:STANDARD
BEGIN:DAYLIGHT
TZOFFSETFROM:-0500
TZOFFSETTO:-0400
TZNAME:EDT
DTSTART:20240310T070000
END:DAYLIGHT
BEGIN:STANDARD
TZOFFSETFROM:-0400
TZOFFSETTO:-0500
TZNAME:EST
DTSTART:20241103T060000
END:STANDARD
BEGIN:DAYLIGHT
TZOFFSETFROM:-0500
TZOFFSETTO:-0400
TZNAME:EDT
DTSTART:20250309T070000
END:DAYLIGHT
BEGIN:STANDARD
TZOFFSETFROM:-0400
TZOFFSETTO:-0500
TZNAME:EST
DTSTART:20251102T060000
END:STANDARD
END:VTIMEZONE
BEGIN:VEVENT
DTSTART;TZID=America/New_York:20210501T000000
DTEND;TZID=America/New_York:20210502T235900
DTSTAMP:20260422T213351
CREATED:20210318T173500Z
LAST-MODIFIED:20210325T182240Z
UID:10010584-1619827200-1619999940@goodmorningwilton.com
SUMMARY:Circle of Care's 7th Annual 5K
DESCRIPTION:Calling all runners/walkers/bikers/Wilton locals! Circle of Care for families of children with cancer is hosting its 7th annual\, 2nd virtual\, CARE to Run 5K. \nThis event takes place virtually over the weekend of Saturday\, May 1\, and Sunday\, May 2\, and you can participate in this 5K your way— run\, walk\, bike\, row (indoor or outdoor) your way to 3.1 miles for a great cause! All proceeds raised from this event go immediately toward supporting local families of children with cancer. Get out there and get active while doing good in our community! \nSign up here. 
URL:https://goodmorningwilton.com/event/circle-of-cares-7th-annual-5k/
LOCATION:VIRTUAL\, 137 Old Ridgefield Road\, Wilton\, CT\, 06897
CATEGORIES:5K,Charity Runs,Club,Community Events,Exercise,Family Event,Fitness,Fundraiser,Health & Wellness,Not for profit,Outdoor Event,Walk/Hike
ATTACH;FMTTYPE=image/png:https://goodmorningwilton.com/wp-content/uploads/2021/03/5K-Logo-2021.png
ORGANIZER;CN="Circle of Care":MAILTO:info@thecircleofcare.org
END:VEVENT
BEGIN:VEVENT
DTSTART;TZID=America/New_York:20220501T090000
DTEND;TZID=America/New_York:20220501T110000
DTSTAMP:20260422T213351
CREATED:20220315T223149Z
LAST-MODIFIED:20220421T233735Z
UID:10011154-1651395600-1651402800@goodmorningwilton.com
SUMMARY:Circle of Care 5K
DESCRIPTION:Run or walk (or 5K-your-way) the Circle of Care‘s “CARE to Run 5K” benefitting families of children with cancer. The in-person run that local supporters know and love is back this year — with the option for supporters new and old\, and near and far\, to continue participating virtually. This one’s a hybrid event so you can run with us at Merwin Meadows in Wilton or opt to participate anywhere\, any way\, and at any pace you choose. \nOur virtual event allows you to participate however you want — whether you walk around your neighborhood\, run through your local park\, or get your miles in on a treadmill/stationary bike/elliptical\, it’s up to you. \nIf you choose to join us at Merwin Meadows\, you can enjoy music\, activities\, and snacks and refreshments at our After Race Tailgate!
URL:https://goodmorningwilton.com/event/circle-of-care-5k-3/
LOCATION:Merwin Meadows\, 52 Lovers Ln\, Wilton\, CT
CATEGORIES:5K,Charity Runs,Community Events
ATTACH;FMTTYPE=image/png:https://goodmorningwilton.com/wp-content/uploads/2022/03/5K-Co-branded-Logo.png
ORGANIZER;CN="Circle of Care":MAILTO:info@thecircleofcare.org
GEO:41.197245;-73.4354331
X-APPLE-STRUCTURED-LOCATION;VALUE=URI;X-ADDRESS=Merwin Meadows 52 Lovers Ln Wilton CT;X-APPLE-RADIUS=500;X-TITLE=52 Lovers Ln:geo:-73.4354331,41.197245
END:VEVENT
BEGIN:VEVENT
DTSTART;TZID=America/New_York:20240505T090000
DTEND;TZID=America/New_York:20240505T120000
DTSTAMP:20260422T213351
CREATED:20240408T233306Z
LAST-MODIFIED:20240408T233324Z
UID:10015820-1714899600-1714910400@goodmorningwilton.com
SUMMARY:10th Annual 5K Walk/Run to Benefit Children with Cancer
DESCRIPTION:Join Wilton’s Circle of Care for a fun community event to support CT families of children with cancer. This Wilton-based non-profit provides financial\, practical and emotional support to meet the unique needs of this vulnerable group right here in CT. Proceeds from this event will provide critical support. \nThe 5K includes an after-race tailgate with music (DJ)\, food\, photo wall\, inspiration wall\, games and more! A great family event for a great cause. \nRegister and find more information here.
URL:https://goodmorningwilton.com/event/10th-annual-5k-walk-run-to-benefit-children-with-cancer/
LOCATION:Merwin Meadows\, 52 Lovers Ln\, Wilton\, CT
CATEGORIES:5K,Charity Runs,Community Events,Exercise,Family Event,Fitness,Health & Wellness,Not for profit,Outdoor Event
ATTACH;FMTTYPE=image/jpeg:https://goodmorningwilton.com/wp-content/uploads/2018/07/5k-logo-1.jpg
ORGANIZER;CN="Circle of Care":MAILTO:info@thecircleofcare.org
GEO:41.197245;-73.4354331
X-APPLE-STRUCTURED-LOCATION;VALUE=URI;X-ADDRESS=Merwin Meadows 52 Lovers Ln Wilton CT;X-APPLE-RADIUS=500;X-TITLE=52 Lovers Ln:geo:-73.4354331,41.197245
END:VEVENT
END:VCALENDAR