BEGIN:VCALENDAR
VERSION:2.0
PRODID:-//Good Morning Wilton - ECPv6.15.20//NONSGML v1.0//EN
CALSCALE:GREGORIAN
METHOD:PUBLISH
X-ORIGINAL-URL:https://goodmorningwilton.com
X-WR-CALDESC:Events for Good Morning Wilton
REFRESH-INTERVAL;VALUE=DURATION:PT1H
X-Robots-Tag:noindex
X-PUBLISHED-TTL:PT1H
BEGIN:VTIMEZONE
TZID:America/New_York
BEGIN:DAYLIGHT
TZOFFSETFROM:-0500
TZOFFSETTO:-0400
TZNAME:EDT
DTSTART:20250309T070000
END:DAYLIGHT
BEGIN:STANDARD
TZOFFSETFROM:-0400
TZOFFSETTO:-0500
TZNAME:EST
DTSTART:20251102T060000
END:STANDARD
BEGIN:DAYLIGHT
TZOFFSETFROM:-0500
TZOFFSETTO:-0400
TZNAME:EDT
DTSTART:20260308T070000
END:DAYLIGHT
BEGIN:STANDARD
TZOFFSETFROM:-0400
TZOFFSETTO:-0500
TZNAME:EST
DTSTART:20261101T060000
END:STANDARD
BEGIN:DAYLIGHT
TZOFFSETFROM:-0500
TZOFFSETTO:-0400
TZNAME:EDT
DTSTART:20270314T070000
END:DAYLIGHT
BEGIN:STANDARD
TZOFFSETFROM:-0400
TZOFFSETTO:-0500
TZNAME:EST
DTSTART:20271107T060000
END:STANDARD
END:VTIMEZONE
BEGIN:VEVENT
DTSTART;TZID=America/New_York:20260207T193000
DTEND;TZID=America/New_York:20260207T210000
DTSTAMP:20260421T095859
CREATED:20260126T151657Z
LAST-MODIFIED:20260126T151657Z
UID:10022031-1770492600-1770498000@goodmorningwilton.com
SUMMARY:Ridgefield Symphony Orchestra in Concert: RHAPSODY
DESCRIPTION:Ji Su Jung will join the Ridgefield Symphony Orchestra as guest soloist for their concert\, RHAPSODY. \nJung will perform Kevin Put’s Marimba Concerto with the orchestra at the Clune Auditorium on Saturday\, February 7\, at 7:30 p.m. \nAlthough Jung did not commission or premiere the Puts concerto\, which was written in 1997\, she has championed the piece in recent years and recorded it with the Baltimore Symphony Orchestra. “It wasn’t written for me\,” Jung says\, “but it feels like my own piece\, my own baby. This piece fulfills my romantic side. Every time I perform it\, and listen to the orchestra behind me\, I think it’s probably one of the most beautiful pieces I could play.” \nPurchase your tickets here
URL:https://goodmorningwilton.com/event/ridgefield-symphony-orchestra-in-concert-rhapsody/
LOCATION:Wilton High School David F. Clune Auditorium\, 395 Danbury Rd\, Wilton\, CT\, 06897\, United States
CATEGORIES:Concert,Live Music,Not for profit
ATTACH;FMTTYPE=image/jpeg:https://goodmorningwilton.com/wp-content/uploads/2026/01/TILES-2526-Season.jpg
ORGANIZER;CN="Ridgefield Symphony Orchestra":MAILTO:email@ridgefieldsymphony.org
END:VEVENT
END:VCALENDAR