BEGIN:VCALENDAR
VERSION:2.0
PRODID:-//Good Morning Wilton - ECPv6.15.20//NONSGML v1.0//EN
CALSCALE:GREGORIAN
METHOD:PUBLISH
X-ORIGINAL-URL:https://goodmorningwilton.com
X-WR-CALDESC:Events for Good Morning Wilton
REFRESH-INTERVAL;VALUE=DURATION:PT1H
X-Robots-Tag:noindex
X-PUBLISHED-TTL:PT1H
BEGIN:VTIMEZONE
TZID:America/New_York
BEGIN:DAYLIGHT
TZOFFSETFROM:-0500
TZOFFSETTO:-0400
TZNAME:EDT
DTSTART:20250309T070000
END:DAYLIGHT
BEGIN:STANDARD
TZOFFSETFROM:-0400
TZOFFSETTO:-0500
TZNAME:EST
DTSTART:20251102T060000
END:STANDARD
BEGIN:DAYLIGHT
TZOFFSETFROM:-0500
TZOFFSETTO:-0400
TZNAME:EDT
DTSTART:20260308T070000
END:DAYLIGHT
BEGIN:STANDARD
TZOFFSETFROM:-0400
TZOFFSETTO:-0500
TZNAME:EST
DTSTART:20261101T060000
END:STANDARD
BEGIN:DAYLIGHT
TZOFFSETFROM:-0500
TZOFFSETTO:-0400
TZNAME:EDT
DTSTART:20270314T070000
END:DAYLIGHT
BEGIN:STANDARD
TZOFFSETFROM:-0400
TZOFFSETTO:-0500
TZNAME:EST
DTSTART:20271107T060000
END:STANDARD
END:VTIMEZONE
BEGIN:VEVENT
DTSTART;TZID=America/New_York:20260505T190000
DTEND;TZID=America/New_York:20260505T210000
DTSTAMP:20260419T222402
CREATED:20260122T002930Z
LAST-MODIFIED:20260122T003203Z
UID:10022026-1778007600-1778014800@goodmorningwilton.com
SUMMARY:2026 Annual Town Meeting and Adjourned Vote
DESCRIPTION:The 2026 Annual Town Meeting and Adjourned Vote will take place on Tuesday\, May 5\, at 7 p.m. in the Clune Auditorium\, with voting to immediately follow. \nThe meeting is for the town to discuss and vote on the proposed budget for Fiscal Year 2027. The meeting is all about setting taxes for FY 2027 and allows residents and property owners to have a say in what they’ll pay
URL:https://goodmorningwilton.com/event/2026-annual-town-meeting-and-adjourned-vote/
LOCATION:Wilton High School David F. Clune Auditorium\, 395 Danbury Rd\, Wilton\, CT\, 06897\, United States
CATEGORIES:Community Events,Free,In Person,Meeting,Politics,Town/Government Meeting
ATTACH;FMTTYPE=image/png:https://goodmorningwilton.com/wp-content/uploads/2018/03/Wilton-Town-Hall.png
END:VEVENT
BEGIN:VEVENT
DTSTART;TZID=America/New_York:20260509T080000
DTEND;TZID=America/New_York:20260509T180000
DTSTAMP:20260419T222402
CREATED:20260122T004010Z
LAST-MODIFIED:20260122T004010Z
UID:10022027-1778313600-1778349600@goodmorningwilton.com
SUMMARY:2026 Adjourned Vote Continued
DESCRIPTION:The 2026 Adjourned Vote will begin again on Saturday\, May 9\, from 8 a.m. to 6 p.m. at the Clune Auditorium
URL:https://goodmorningwilton.com/event/2026-adjourned-vote-continued/
LOCATION:Wilton High School David F. Clune Auditorium\, 395 Danbury Rd\, Wilton\, CT\, 06897\, United States
CATEGORIES:Politics
ATTACH;FMTTYPE=image/jpeg:https://goodmorningwilton.com/wp-content/uploads/2024/11/vote-here-today-sign-outside-clune-center.jpeg
END:VEVENT
END:VCALENDAR