BEGIN:VCALENDAR
VERSION:2.0
PRODID:-//Good Morning Wilton - ECPv6.15.20//NONSGML v1.0//EN
CALSCALE:GREGORIAN
METHOD:PUBLISH
X-ORIGINAL-URL:https://goodmorningwilton.com
X-WR-CALDESC:Events for Good Morning Wilton
REFRESH-INTERVAL;VALUE=DURATION:PT1H
X-Robots-Tag:noindex
X-PUBLISHED-TTL:PT1H
BEGIN:VTIMEZONE
TZID:America/New_York
BEGIN:DAYLIGHT
TZOFFSETFROM:-0500
TZOFFSETTO:-0400
TZNAME:EDT
DTSTART:20200308T070000
END:DAYLIGHT
BEGIN:STANDARD
TZOFFSETFROM:-0400
TZOFFSETTO:-0500
TZNAME:EST
DTSTART:20201101T060000
END:STANDARD
BEGIN:DAYLIGHT
TZOFFSETFROM:-0500
TZOFFSETTO:-0400
TZNAME:EDT
DTSTART:20210314T070000
END:DAYLIGHT
BEGIN:STANDARD
TZOFFSETFROM:-0400
TZOFFSETTO:-0500
TZNAME:EST
DTSTART:20211107T060000
END:STANDARD
BEGIN:DAYLIGHT
TZOFFSETFROM:-0500
TZOFFSETTO:-0400
TZNAME:EDT
DTSTART:20220313T070000
END:DAYLIGHT
BEGIN:STANDARD
TZOFFSETFROM:-0400
TZOFFSETTO:-0500
TZNAME:EST
DTSTART:20221106T060000
END:STANDARD
END:VTIMEZONE
BEGIN:VEVENT
DTSTART;TZID=America/New_York:20210712T160000
DTEND;TZID=America/New_York:20210712T164500
DTSTAMP:20260420T112602
CREATED:20210702T211352Z
LAST-MODIFIED:20210706T161550Z
UID:10009386-1626105600-1626108300@goodmorningwilton.com
SUMMARY:Wilton Library: Virtual Crafternoon
DESCRIPTION:Children ages 4 and up are invited to a Zoom Crafternoon. Each week\, children will make a new craft based on our Summer Reading Program Theme: Tails and Tales. Craft kits will be available to registrants at the drive-thru window/circulation desk. Zoom links will be emailed on the day of the program. Online registration for each child is required. Email with any questions.
URL:https://goodmorningwilton.com/event/wilton-library-virtual-crafternoon/2021-07-12/
LOCATION:ZOOM
CATEGORIES:Arts,craft,Create!
ATTACH;FMTTYPE=image/jpeg:https://goodmorningwilton.com/wp-content/uploads/2021/07/craft.jpeg
ORGANIZER;CN="Wilton Library":MAILTO:publicity@wiltonlibrary.org
END:VEVENT
BEGIN:VEVENT
DTSTART;TZID=America/New_York:20210719T160000
DTEND;TZID=America/New_York:20210719T164500
DTSTAMP:20260420T112602
CREATED:20210702T211352Z
LAST-MODIFIED:20210706T161550Z
UID:10009387-1626710400-1626713100@goodmorningwilton.com
SUMMARY:Wilton Library: Virtual Crafternoon
DESCRIPTION:Children ages 4 and up are invited to a Zoom Crafternoon. Each week\, children will make a new craft based on our Summer Reading Program Theme: Tails and Tales. Craft kits will be available to registrants at the drive-thru window/circulation desk. Zoom links will be emailed on the day of the program. Online registration for each child is required. Email with any questions.
URL:https://goodmorningwilton.com/event/wilton-library-virtual-crafternoon/2021-07-19/
LOCATION:ZOOM
CATEGORIES:Arts,craft,Create!
ATTACH;FMTTYPE=image/jpeg:https://goodmorningwilton.com/wp-content/uploads/2021/07/craft.jpeg
ORGANIZER;CN="Wilton Library":MAILTO:publicity@wiltonlibrary.org
END:VEVENT
BEGIN:VEVENT
DTSTART;TZID=America/New_York:20210726T160000
DTEND;TZID=America/New_York:20210726T164500
DTSTAMP:20260420T112602
CREATED:20210702T211352Z
LAST-MODIFIED:20210706T161550Z
UID:10009388-1627315200-1627317900@goodmorningwilton.com
SUMMARY:Wilton Library: Virtual Crafternoon
DESCRIPTION:Children ages 4 and up are invited to a Zoom Crafternoon. Each week\, children will make a new craft based on our Summer Reading Program Theme: Tails and Tales. Craft kits will be available to registrants at the drive-thru window/circulation desk. Zoom links will be emailed on the day of the program. Online registration for each child is required. Email with any questions.
URL:https://goodmorningwilton.com/event/wilton-library-virtual-crafternoon/2021-07-26/
LOCATION:ZOOM
CATEGORIES:Arts,craft,Create!
ATTACH;FMTTYPE=image/jpeg:https://goodmorningwilton.com/wp-content/uploads/2021/07/craft.jpeg
ORGANIZER;CN="Wilton Library":MAILTO:publicity@wiltonlibrary.org
END:VEVENT
BEGIN:VEVENT
DTSTART;TZID=America/New_York:20210802T160000
DTEND;TZID=America/New_York:20210802T164500
DTSTAMP:20260420T112602
CREATED:20210702T211352Z
LAST-MODIFIED:20210706T161550Z
UID:10009389-1627920000-1627922700@goodmorningwilton.com
SUMMARY:Wilton Library: Virtual Crafternoon
DESCRIPTION:Children ages 4 and up are invited to a Zoom Crafternoon. Each week\, children will make a new craft based on our Summer Reading Program Theme: Tails and Tales. Craft kits will be available to registrants at the drive-thru window/circulation desk. Zoom links will be emailed on the day of the program. Online registration for each child is required. Email with any questions.
URL:https://goodmorningwilton.com/event/wilton-library-virtual-crafternoon/2021-08-02/
LOCATION:ZOOM
CATEGORIES:Arts,craft,Create!
ATTACH;FMTTYPE=image/jpeg:https://goodmorningwilton.com/wp-content/uploads/2021/07/craft.jpeg
ORGANIZER;CN="Wilton Library":MAILTO:publicity@wiltonlibrary.org
END:VEVENT
BEGIN:VEVENT
DTSTART;TZID=America/New_York:20210809T160000
DTEND;TZID=America/New_York:20210809T164500
DTSTAMP:20260420T112602
CREATED:20210702T211352Z
LAST-MODIFIED:20210706T161550Z
UID:10009390-1628524800-1628527500@goodmorningwilton.com
SUMMARY:Wilton Library: Virtual Crafternoon
DESCRIPTION:Children ages 4 and up are invited to a Zoom Crafternoon. Each week\, children will make a new craft based on our Summer Reading Program Theme: Tails and Tales. Craft kits will be available to registrants at the drive-thru window/circulation desk. Zoom links will be emailed on the day of the program. Online registration for each child is required. Email with any questions.
URL:https://goodmorningwilton.com/event/wilton-library-virtual-crafternoon/2021-08-09/
LOCATION:ZOOM
CATEGORIES:Arts,craft,Create!
ATTACH;FMTTYPE=image/jpeg:https://goodmorningwilton.com/wp-content/uploads/2021/07/craft.jpeg
ORGANIZER;CN="Wilton Library":MAILTO:publicity@wiltonlibrary.org
END:VEVENT
END:VCALENDAR