BEGIN:VCALENDAR
VERSION:2.0
PRODID:-//Good Morning Wilton - ECPv6.15.20//NONSGML v1.0//EN
CALSCALE:GREGORIAN
METHOD:PUBLISH
X-WR-CALNAME:Good Morning Wilton
X-ORIGINAL-URL:https://goodmorningwilton.com
X-WR-CALDESC:Events for Good Morning Wilton
REFRESH-INTERVAL;VALUE=DURATION:PT1H
X-Robots-Tag:noindex
X-PUBLISHED-TTL:PT1H
BEGIN:VTIMEZONE
TZID:America/New_York
BEGIN:DAYLIGHT
TZOFFSETFROM:-0500
TZOFFSETTO:-0400
TZNAME:EDT
DTSTART:20220313T070000
END:DAYLIGHT
BEGIN:STANDARD
TZOFFSETFROM:-0400
TZOFFSETTO:-0500
TZNAME:EST
DTSTART:20221106T060000
END:STANDARD
BEGIN:DAYLIGHT
TZOFFSETFROM:-0500
TZOFFSETTO:-0400
TZNAME:EDT
DTSTART:20230312T070000
END:DAYLIGHT
BEGIN:STANDARD
TZOFFSETFROM:-0400
TZOFFSETTO:-0500
TZNAME:EST
DTSTART:20231105T060000
END:STANDARD
BEGIN:DAYLIGHT
TZOFFSETFROM:-0500
TZOFFSETTO:-0400
TZNAME:EDT
DTSTART:20240310T070000
END:DAYLIGHT
BEGIN:STANDARD
TZOFFSETFROM:-0400
TZOFFSETTO:-0500
TZNAME:EST
DTSTART:20241103T060000
END:STANDARD
BEGIN:DAYLIGHT
TZOFFSETFROM:-0500
TZOFFSETTO:-0400
TZNAME:EDT
DTSTART:20250309T070000
END:DAYLIGHT
BEGIN:STANDARD
TZOFFSETFROM:-0400
TZOFFSETTO:-0500
TZNAME:EST
DTSTART:20251102T060000
END:STANDARD
END:VTIMEZONE
BEGIN:VEVENT
DTSTART;TZID=America/New_York:20230306T183000
DTEND;TZID=America/New_York:20230306T200000
DTSTAMP:20260423T115909
CREATED:20230223T174301Z
LAST-MODIFIED:20230226T135235Z
UID:10010336-1678127400-1678132800@goodmorningwilton.com
SUMMARY:Creative Writing for Adults (Zoom)
DESCRIPTION:Challenge your imagination and be inspired to write a variety of short stories in this three-week session of Creative Writing for Adults via Zoom. Kim Kovach\, author and creative writing teacher\, will share fun\, fresh ideas to motivate participants to put pen to paper (or fingers to keyboard) each week. \nKovach teaches creative writing\, fiction writing and personal story writing classes for adults. She is the author of six fiction books\, writes a weekly newspaper column\, and articles for magazines. \nRegistration is required. Please register online or call 203.762.6334. For more information\, email Andrea Sato.
URL:https://goodmorningwilton.com/event/creative-writing-for-adults-zoom/2023-03-06/
LOCATION:ZOOM
CATEGORIES:Class,Create!,Free,Library,Not for profit,Online,Workshop,Zoom Call
ATTACH;FMTTYPE=image/png:https://goodmorningwilton.com/wp-content/uploads/2023/02/Writing.png
END:VEVENT
BEGIN:VEVENT
DTSTART;TZID=America/New_York:20230313T183000
DTEND;TZID=America/New_York:20230313T200000
DTSTAMP:20260423T115909
CREATED:20230223T174301Z
LAST-MODIFIED:20230226T135235Z
UID:10010337-1678732200-1678737600@goodmorningwilton.com
SUMMARY:Creative Writing for Adults (Zoom)
DESCRIPTION:Challenge your imagination and be inspired to write a variety of short stories in this three-week session of Creative Writing for Adults via Zoom. Kim Kovach\, author and creative writing teacher\, will share fun\, fresh ideas to motivate participants to put pen to paper (or fingers to keyboard) each week. \nKovach teaches creative writing\, fiction writing and personal story writing classes for adults. She is the author of six fiction books\, writes a weekly newspaper column\, and articles for magazines. \nRegistration is required. Please register online or call 203.762.6334. For more information\, email Andrea Sato.
URL:https://goodmorningwilton.com/event/creative-writing-for-adults-zoom/2023-03-13/
LOCATION:ZOOM
CATEGORIES:Class,Create!,Free,Library,Not for profit,Online,Workshop,Zoom Call
ATTACH;FMTTYPE=image/png:https://goodmorningwilton.com/wp-content/uploads/2023/02/Writing.png
END:VEVENT
BEGIN:VEVENT
DTSTART;TZID=America/New_York:20230320T183000
DTEND;TZID=America/New_York:20230320T200000
DTSTAMP:20260423T115909
CREATED:20230223T174301Z
LAST-MODIFIED:20230226T135235Z
UID:10010338-1679337000-1679342400@goodmorningwilton.com
SUMMARY:Creative Writing for Adults (Zoom)
DESCRIPTION:Challenge your imagination and be inspired to write a variety of short stories in this three-week session of Creative Writing for Adults via Zoom. Kim Kovach\, author and creative writing teacher\, will share fun\, fresh ideas to motivate participants to put pen to paper (or fingers to keyboard) each week. \nKovach teaches creative writing\, fiction writing and personal story writing classes for adults. She is the author of six fiction books\, writes a weekly newspaper column\, and articles for magazines. \nRegistration is required. Please register online or call 203.762.6334. For more information\, email Andrea Sato.
URL:https://goodmorningwilton.com/event/creative-writing-for-adults-zoom/2023-03-20/
LOCATION:ZOOM
CATEGORIES:Class,Create!,Free,Library,Not for profit,Online,Workshop,Zoom Call
ATTACH;FMTTYPE=image/png:https://goodmorningwilton.com/wp-content/uploads/2023/02/Writing.png
END:VEVENT
BEGIN:VEVENT
DTSTART;TZID=America/New_York:20231018T190000
DTEND;TZID=America/New_York:20231018T203000
DTSTAMP:20260423T115909
CREATED:20231008T094112Z
LAST-MODIFIED:20231008T094132Z
UID:10013237-1697655600-1697661000@goodmorningwilton.com
SUMMARY:From Thought to Thread: Costume Designing for TV and Film
DESCRIPTION:Please join Wilton Library for a unique opportunity for an insider’s look at costume designing for television and film. Learn about Judith Gellman’s career—how she got there from an early start in the fashion industry in NY to Chicago\, Toronto and eventually L.A.—and then about how a costume designer works with producers\, directors and actors\, as well as others behind the scenes. Gellman uses her own experiences to talk about what goes into being a successful costume designer in films and TV. \nJudith Gellman is a Costume Designer in the entertainment industry who has worked on over 100 hours of television and film. She has designed for stars including Carol Burnett\, Elizabeth Taylor\, Peter O’Toole\, Bill Murray\, Mary Tyler Moore\, and Lily Tomlin among many others. Judith received her first of four submissions for an Emmy Award for her period design work on a Children’s After School Special for ABC. Some of the theatrical films she designed were Meatballs\, Head Office\, Adventures in Babysitting\, Getting Away with Murder\, Firehouse Dog and Ideal Home. She designed for TV series including Super Fun Night starring Rebel Wilson\, Bad Judge starring Kate Walsh and American Woman with Alicia Silverstone. \nRegistration is suggested. Please register on the Wilton Library website or call 203.7626334.
URL:https://goodmorningwilton.com/event/from-thought-to-thread-costume-designing-for-tv-film/
LOCATION:Wilton Library\, 137 Old Ridgefield Rd.\, Wilton\, CT\, 06987
CATEGORIES:Arts,Create!,discussion,Educational,Free,Library,Not for profit,Presentation,Theater
ATTACH;FMTTYPE=image/jpeg:https://goodmorningwilton.com/wp-content/uploads/2023/10/ThoughttoThreadIMAGE_FOR_DEMCO2_61875032.jpg
END:VEVENT
BEGIN:VEVENT
DTSTART;TZID=America/New_York:20231104T103000
DTEND;TZID=America/New_York:20231104T123000
DTSTAMP:20260423T115909
CREATED:20231027T100436Z
LAST-MODIFIED:20231027T100436Z
UID:10013358-1699093800-1699101000@goodmorningwilton.com
SUMMARY:Make Your Own Autumn Lanterns
DESCRIPTION:The whole family is welcome to drop by our Craft Room in the Children’s Library at Wilton Library between 10:30 a.m. – 12:30 p.m. for a community event centered around the end of daylight savings time and transition of the seasons. We’ll use leaves\, tissue paper and glue to turn ordinary jars into lanterns that can light up the darkness of the evening\, help us learn to embrace change\, and connect us to the cycles and rhythm of nature. \nNo registration is required.
URL:https://goodmorningwilton.com/event/make-your-own-autumn-lanterns/
LOCATION:Wilton Library\, 137 Old Ridgefield Rd.\, Wilton\, CT\, 06987
CATEGORIES:Community Events,craft,Create!,Family Event,Kids,Library,Nature
ATTACH;FMTTYPE=image/jpeg:https://goodmorningwilton.com/wp-content/uploads/2023/10/AUTUMNLANTERN_93C20C30.jpg
END:VEVENT
BEGIN:VEVENT
DTSTART;TZID=America/New_York:20231216T140000
DTEND;TZID=America/New_York:20231216T160000
DTSTAMP:20260423T115909
CREATED:20231210T161538Z
LAST-MODIFIED:20231210T161538Z
UID:10014909-1702735200-1702742400@goodmorningwilton.com
SUMMARY:CT Poetry Society Workshop
DESCRIPTION:Please join Wilton Library for the next CT Poetry Society Workshop. All that is required is the willingness to share some poetry that you have written by reading it aloud to the group. \nPoets should email a copy of their poems to Ray Rauth. He will distribute the poems to the group shortly before the session. To facilitate discussion\, space is strictly limited to just 15 attendees. \nRegistration is required. Register on the Wilton Library website.
URL:https://goodmorningwilton.com/event/ct-poetry-society-workshop-12/
LOCATION:Wilton Library\, 137 Old Ridgefield Rd.\, Wilton\, CT\, 06987
CATEGORIES:discussion,Educational,Free,Library,STEM,Teens,Workshop
ATTACH;FMTTYPE=image/jpeg:https://goodmorningwilton.com/wp-content/uploads/2023/12/POETS_2020_71844500.jpg
END:VEVENT
BEGIN:VEVENT
DTSTART;TZID=America/New_York:20240221T143000
DTEND;TZID=America/New_York:20240221T153000
DTSTAMP:20260423T115909
CREATED:20240209T235707Z
LAST-MODIFIED:20240209T235707Z
UID:10015038-1708525800-1708529400@goodmorningwilton.com
SUMMARY:Draw Impossible Animals with Rick Stromoski
DESCRIPTION:Rick Stromoski\, an award-winning illustrator and nationally syndicated cartoonist\, conducts a fun and interactive cartooning workshop at Wilton Library for grades 3-7. Can you draw a kangorillapig or a platykittycat? How about a koalabird or a flamingorilla? Learn to draw wild and wonderful animal combinations. Create impossibly silly creatures while learning cartooning skills. \nRegistration is required online. Drop-ins welcome if space allows.
URL:https://goodmorningwilton.com/event/draw-impossible-animals-with-rick-stromoski/
LOCATION:Wilton Library\, 137 Old Ridgefield Rd.\, Wilton\, CT\, 06987
CATEGORIES:Arts,craft,Create!,Kids,Library,Workshop
ATTACH;FMTTYPE=image/png:https://goodmorningwilton.com/wp-content/uploads/2024/02/IMPOSSIBLE_ANIMALS_20979AA1.png
END:VEVENT
BEGIN:VEVENT
DTSTART;TZID=America/New_York:20240325T153000
DTEND;TZID=America/New_York:20240325T170000
DTSTAMP:20260423T115909
CREATED:20240307T000648Z
LAST-MODIFIED:20240307T000648Z
UID:10015672-1711380600-1711386000@goodmorningwilton.com
SUMMARY:Zentangle Art Workshop: Zooming with Amy (Zoom)
DESCRIPTION:Join Amy\, Wilton Library’s certified Zentangle teacher (CZT)\, as she guides everyone through a fun and relaxing Zentangle session on Zoom. This meditative art form uses simple steps to teach practitioners how to create beautiful patterns. It’s suitable for anyone who doesn’t believe they can draw\, as well as experienced artists. \nThe program is for adults and teens\, ages 13 and up. \nRegistration is required online and space is limited. The Zoom link will be sent no later than the morning of the program. Visit Wilton Library’s website to see short video tutorials and find suggestions for supplies needed.
URL:https://goodmorningwilton.com/event/zentangle-art-workshop-zooming-with-amy-zoom-6/
LOCATION:ZOOM
CATEGORIES:Arts,craft,Create!,Library,Online,Zoom Call
ATTACH;FMTTYPE=image/jpeg:https://goodmorningwilton.com/wp-content/uploads/2024/03/sentangle.jpg
END:VEVENT
BEGIN:VEVENT
DTSTART;TZID=America/New_York:20240328T183000
DTEND;TZID=America/New_York:20240328T200000
DTSTAMP:20260423T115909
CREATED:20240307T010259Z
LAST-MODIFIED:20240307T010259Z
UID:10015677-1711650600-1711656000@goodmorningwilton.com
SUMMARY:Story-Sharing Circle
DESCRIPTION:Calling all storytellers and story-listeners! Join Wilton Library for an informal evening celebrating the oral storytelling tradition. Bring a prepared story to tell or just come to listen. All are welcome\, experienced storytellers and newbies alike. \nRegistration is suggested online.
URL:https://goodmorningwilton.com/event/story-sharing-circle-3/
LOCATION:Wilton Library\, 137 Old Ridgefield Rd.\, Wilton\, CT\, 06987
CATEGORIES:Club,discussion,Library,Workshop
ATTACH;FMTTYPE=image/png:https://goodmorningwilton.com/wp-content/uploads/2024/03/StorytellingSPED_JAN_2020_885854E6.png
END:VEVENT
BEGIN:VEVENT
DTSTART;TZID=America/New_York:20240509T183000
DTEND;TZID=America/New_York:20240509T203000
DTSTAMP:20260423T115909
CREATED:20240504T022141Z
LAST-MODIFIED:20240504T022141Z
UID:10016750-1715279400-1715286600@goodmorningwilton.com
SUMMARY:iPhone Photography: Use Your iPhone Camera to its Full Potential
DESCRIPTION:Take better photos and get the best results from your iPhone camera by knowing the basics plus hidden settings and features with Wilton Library. \nImprove your photography by knowing how to use and control your iPhone camera. For all skill levels. More suitable for iPhone models X (10) and later. \nDeborah Tual worked as a marketing professional before starting a portrait photography studio in Stamford with her husband. She has been very active in the Connecticut Professional Photographers Association and she earned distinction as a certified professional photographer\, photographic craftsman\, and approved business instructor. Tual has spent over 25 years photographing families and business professionals in Fairfield County. \nRegistration is required. Attendance is limited to 25. Register online or call 203.762.6334.
URL:https://goodmorningwilton.com/event/iphone-photography-use-your-iphone-camera-to-its-full-potential-2/
LOCATION:Wilton Library\, 137 Old Ridgefield Rd.\, Wilton\, CT\, 06987
CATEGORIES:Class,Create!,Educational,Free,Library,Workshop
ATTACH;FMTTYPE=image/jpeg:https://goodmorningwilton.com/wp-content/uploads/2024/05/IPHONE_PHOTOGRAPHY_JUMPING_BOY_C3AD5EAA.jpg
END:VEVENT
BEGIN:VEVENT
DTSTART;TZID=America/New_York:20240513T153000
DTEND;TZID=America/New_York:20240513T170000
DTSTAMP:20260423T115909
CREATED:20240510T021817Z
LAST-MODIFIED:20240510T021817Z
UID:10016880-1715614200-1715619600@goodmorningwilton.com
SUMMARY:Zentangle Art Workshop
DESCRIPTION:Join Amy\, Wilton Library’s certified Zentangle instructor\, as she guides participants through a fun and relaxing Zentangle art session at the library. This meditative art form uses simple steps to teach practitioners how to create beautiful patterns. Suitable for anyone who doesn’t believe they can draw\, as well as experienced artists. \nThis program is for adults and teens\, ages 13 and up.\nAll supplies provided. \nSpace is limited; registration is required. To register\, visit online.
URL:https://goodmorningwilton.com/event/zentangle-art-workshop-6/
LOCATION:Wilton Library\, 137 Old Ridgefield Rd.\, Wilton\, CT\, 06987
CATEGORIES:Arts,craft,Create!,Library
ATTACH;FMTTYPE=image/jpeg:https://goodmorningwilton.com/wp-content/uploads/2024/05/TANGLE_4A066D33-1.jpg
END:VEVENT
BEGIN:VEVENT
DTSTART;TZID=America/New_York:20240518T140000
DTEND;TZID=America/New_York:20240518T160000
DTSTAMP:20260423T115909
CREATED:20240510T035250Z
LAST-MODIFIED:20240510T035250Z
UID:10016889-1716040800-1716048000@goodmorningwilton.com
SUMMARY:CT Poetry Society Workshop
DESCRIPTION:Join in for the next CT Poetry Society workshop at Wilton Library. All that is required is the willingness to share some original poetry by reading it aloud to the group. Poets should email a copy of their poems to Ed Ahern. He will distribute the poems to the group shortly before the session. To facilitate discussion\, space is strictly limited to just 15 attendees. \nOnline registration is required. Register online or call 203.762.6334.
URL:https://goodmorningwilton.com/event/ct-poetry-society-workshop-14/
LOCATION:Wilton Library\, 137 Old Ridgefield Rd.\, Wilton\, CT\, 06987
CATEGORIES:Club,discussion,Free,Library,Workshop
ATTACH;FMTTYPE=image/jpeg:https://goodmorningwilton.com/wp-content/uploads/2024/05/POETS_2020_71844500.jpeg
END:VEVENT
BEGIN:VEVENT
DTSTART;TZID=America/New_York:20240615T140000
DTEND;TZID=America/New_York:20240615T160000
DTSTAMP:20260423T115909
CREATED:20240601T004027Z
LAST-MODIFIED:20240601T004027Z
UID:10017025-1718460000-1718467200@goodmorningwilton.com
SUMMARY:CT Poetry Society Workshop
DESCRIPTION:Join in for the next CT Poetry Society workshop at Wilton Library. All that is required is the willingness to share some original poetry by reading it aloud to the group. Poets should email a copy of their poems to Ed Ahern. He will distribute the poems to the group shortly before the session. To facilitate discussion\, space is strictly limited to just 15 attendees. \nOnline registration is required. There is no charge. Register online or call 203.762.6334.
URL:https://goodmorningwilton.com/event/ct-poetry-society-workshop-15/
LOCATION:Wilton Library\, 137 Old Ridgefield Rd.\, Wilton\, CT\, 06987
CATEGORIES:Club,discussion,Free,Library,Workshop
ATTACH;FMTTYPE=image/jpeg:https://goodmorningwilton.com/wp-content/uploads/2024/05/POETS_2020_71844500.jpg
END:VEVENT
END:VCALENDAR