BEGIN:VCALENDAR
VERSION:2.0
PRODID:-//Good Morning Wilton - ECPv6.15.20//NONSGML v1.0//EN
CALSCALE:GREGORIAN
METHOD:PUBLISH
X-ORIGINAL-URL:https://goodmorningwilton.com
X-WR-CALDESC:Events for Good Morning Wilton
REFRESH-INTERVAL;VALUE=DURATION:PT1H
X-Robots-Tag:noindex
X-PUBLISHED-TTL:PT1H
BEGIN:VTIMEZONE
TZID:America/New_York
BEGIN:DAYLIGHT
TZOFFSETFROM:-0500
TZOFFSETTO:-0400
TZNAME:EDT
DTSTART:20230312T070000
END:DAYLIGHT
BEGIN:STANDARD
TZOFFSETFROM:-0400
TZOFFSETTO:-0500
TZNAME:EST
DTSTART:20231105T060000
END:STANDARD
BEGIN:DAYLIGHT
TZOFFSETFROM:-0500
TZOFFSETTO:-0400
TZNAME:EDT
DTSTART:20240310T070000
END:DAYLIGHT
BEGIN:STANDARD
TZOFFSETFROM:-0400
TZOFFSETTO:-0500
TZNAME:EST
DTSTART:20241103T060000
END:STANDARD
BEGIN:DAYLIGHT
TZOFFSETFROM:-0500
TZOFFSETTO:-0400
TZNAME:EDT
DTSTART:20250309T070000
END:DAYLIGHT
BEGIN:STANDARD
TZOFFSETFROM:-0400
TZOFFSETTO:-0500
TZNAME:EST
DTSTART:20251102T060000
END:STANDARD
END:VTIMEZONE
BEGIN:VEVENT
DTSTART;TZID=America/New_York:20240224T110000
DTEND;TZID=America/New_York:20240224T120000
DTSTAMP:20260424T225113
CREATED:20240210T002826Z
LAST-MODIFIED:20240210T002826Z
UID:10015041-1708772400-1708776000@goodmorningwilton.com
SUMMARY:Tales to Tails
DESCRIPTION:Children who can read independently are invited to read to a Ridgefield Operation Animal Rescue (ROAR) therapy dog at Wilton Library. Trained therapy dogs in reading programs can encourage better reading habits. Children feel more comfortable reading out loud\, read more often\, attempt more difficult books\, and actually look forward to reading. As they improve their literacy skills\, they also learn to love books! \nRegistration is required online. Drop-ins welcome if space allows.
URL:https://goodmorningwilton.com/event/tales-to-tails-10/
LOCATION:Wilton Library\, 137 Old Ridgefield Rd.\, Wilton\, CT\, 06987
CATEGORIES:Animals,Kids,Library
ATTACH;FMTTYPE=image/jpeg:https://goodmorningwilton.com/wp-content/uploads/2024/02/TalestoTailsresizeIMG_2863.jpg
END:VEVENT
BEGIN:VEVENT
DTSTART;TZID=America/New_York:20240323T110000
DTEND;TZID=America/New_York:20240323T120000
DTSTAMP:20260424T225113
CREATED:20240301T195625Z
LAST-MODIFIED:20240301T195625Z
UID:10015665-1711191600-1711195200@goodmorningwilton.com
SUMMARY:Tales to Tails
DESCRIPTION:Children who can read independently are invited to read to a Ridgefield Operation Animal Rescue (ROAR) therapy dog at Wilton Library. Trained therapy dogs in reading programs can encourage better reading habits. Children feel more comfortable reading out loud\, read more often\, attempt more difficult books\, and actually look forward to reading. As they improve their literacy skills\, they also learn to love books! \nRegistration is required online. Drop-ins welcome if space allows.
URL:https://goodmorningwilton.com/event/tales-to-tails-11/
LOCATION:Wilton Library\, 137 Old Ridgefield Rd.\, Wilton\, CT\, 06987
CATEGORIES:Animals,Kids,Library
ATTACH;FMTTYPE=image/jpeg:https://goodmorningwilton.com/wp-content/uploads/2024/02/talestotails092218resizecropped.jpg
END:VEVENT
BEGIN:VEVENT
DTSTART;TZID=America/New_York:20240427T110000
DTEND;TZID=America/New_York:20240427T120000
DTSTAMP:20260424T225113
CREATED:20240408T000800Z
LAST-MODIFIED:20240408T000800Z
UID:10015808-1714215600-1714219200@goodmorningwilton.com
SUMMARY:Tales to Tails
DESCRIPTION:Children who can read independently are invited to read to a Ridgefield Operation Animal Rescue (ROAR) therapy dog at Wilton Library. Trained therapy dogs in reading programs can encourage better reading habits. Children feel more comfortable reading out loud\, read more often\, attempt more difficult books\, and actually look forward to reading. As they improve their literacy skills\, they also learn to love books! \nRegistration is required online. Drop-ins welcome if space allows.
URL:https://goodmorningwilton.com/event/tales-to-tails-12/
LOCATION:Wilton Library\, 137 Old Ridgefield Rd.\, Wilton\, CT\, 06987
CATEGORIES:Animals,Kids,Library
ATTACH;FMTTYPE=image/jpeg:https://goodmorningwilton.com/wp-content/uploads/2024/04/talestotails092218resizecropped.jpg
END:VEVENT
END:VCALENDAR