BEGIN:VCALENDAR
VERSION:2.0
PRODID:-//Good Morning Wilton - ECPv6.15.20//NONSGML v1.0//EN
CALSCALE:GREGORIAN
METHOD:PUBLISH
X-WR-CALNAME:Good Morning Wilton
X-ORIGINAL-URL:https://goodmorningwilton.com
X-WR-CALDESC:Events for Good Morning Wilton
REFRESH-INTERVAL;VALUE=DURATION:PT1H
X-Robots-Tag:noindex
X-PUBLISHED-TTL:PT1H
BEGIN:VTIMEZONE
TZID:America/New_York
BEGIN:DAYLIGHT
TZOFFSETFROM:-0500
TZOFFSETTO:-0400
TZNAME:EDT
DTSTART:20240310T070000
END:DAYLIGHT
BEGIN:STANDARD
TZOFFSETFROM:-0400
TZOFFSETTO:-0500
TZNAME:EST
DTSTART:20241103T060000
END:STANDARD
BEGIN:DAYLIGHT
TZOFFSETFROM:-0500
TZOFFSETTO:-0400
TZNAME:EDT
DTSTART:20250309T070000
END:DAYLIGHT
BEGIN:STANDARD
TZOFFSETFROM:-0400
TZOFFSETTO:-0500
TZNAME:EST
DTSTART:20251102T060000
END:STANDARD
BEGIN:DAYLIGHT
TZOFFSETFROM:-0500
TZOFFSETTO:-0400
TZNAME:EDT
DTSTART:20260308T070000
END:DAYLIGHT
BEGIN:STANDARD
TZOFFSETFROM:-0400
TZOFFSETTO:-0500
TZNAME:EST
DTSTART:20261101T060000
END:STANDARD
BEGIN:DAYLIGHT
TZOFFSETFROM:-0500
TZOFFSETTO:-0400
TZNAME:EDT
DTSTART:20270314T070000
END:DAYLIGHT
BEGIN:STANDARD
TZOFFSETFROM:-0400
TZOFFSETTO:-0500
TZNAME:EST
DTSTART:20271107T060000
END:STANDARD
END:VTIMEZONE
BEGIN:VEVENT
DTSTART;TZID=America/New_York:20251119T191500
DTEND;TZID=America/New_York:20251119T211500
DTSTAMP:20260420T223709
CREATED:20251028T175104Z
LAST-MODIFIED:20251028T175104Z
UID:10019586-1763579700-1763586900@goodmorningwilton.com
SUMMARY:Economic Development Commission Meeting
DESCRIPTION:The Economic Development Commission meets to discuss matters related to Wilton’s businesses and economic growth. The public can attend these open meetings in person or via Zoom.
URL:https://goodmorningwilton.com/event/economic-development-commission-meeting-2/2025-11-19/
LOCATION:Comstock Community Center
CATEGORIES:Business,Civic,Government,In Person,Meeting,Politics,Town/Government Meeting,Zoom Call
ATTACH;FMTTYPE=image/jpeg:https://goodmorningwilton.com/wp-content/uploads/2022/04/Town-Hall-3.jpeg
END:VEVENT
BEGIN:VEVENT
DTSTART;TZID=America/New_York:20251217T191500
DTEND;TZID=America/New_York:20251217T211500
DTSTAMP:20260420T223709
CREATED:20251028T175104Z
LAST-MODIFIED:20251028T175104Z
UID:10020034-1765998900-1766006100@goodmorningwilton.com
SUMMARY:Economic Development Commission Meeting
DESCRIPTION:The Economic Development Commission meets to discuss matters related to Wilton’s businesses and economic growth. The public can attend these open meetings in person or via Zoom.
URL:https://goodmorningwilton.com/event/economic-development-commission-meeting-2/2025-12-17/
LOCATION:Comstock Community Center
CATEGORIES:Business,Civic,Government,In Person,Meeting,Politics,Town/Government Meeting,Zoom Call
ATTACH;FMTTYPE=image/jpeg:https://goodmorningwilton.com/wp-content/uploads/2022/04/Town-Hall-3.jpeg
END:VEVENT
BEGIN:VEVENT
DTSTART;TZID=America/New_York:20260121T191500
DTEND;TZID=America/New_York:20260121T211500
DTSTAMP:20260420T223709
CREATED:20251028T175104Z
LAST-MODIFIED:20251028T175104Z
UID:10020035-1769022900-1769030100@goodmorningwilton.com
SUMMARY:Economic Development Commission Meeting
DESCRIPTION:The Economic Development Commission meets to discuss matters related to Wilton’s businesses and economic growth. The public can attend these open meetings in person or via Zoom.
URL:https://goodmorningwilton.com/event/economic-development-commission-meeting-2/2026-01-21/
LOCATION:Comstock Community Center
CATEGORIES:Business,Civic,Government,In Person,Meeting,Politics,Town/Government Meeting,Zoom Call
ATTACH;FMTTYPE=image/jpeg:https://goodmorningwilton.com/wp-content/uploads/2022/04/Town-Hall-3.jpeg
END:VEVENT
BEGIN:VEVENT
DTSTART;TZID=America/New_York:20260218T191500
DTEND;TZID=America/New_York:20260218T211500
DTSTAMP:20260420T223709
CREATED:20251028T175104Z
LAST-MODIFIED:20251028T175104Z
UID:10020036-1771442100-1771449300@goodmorningwilton.com
SUMMARY:Economic Development Commission Meeting
DESCRIPTION:The Economic Development Commission meets to discuss matters related to Wilton’s businesses and economic growth. The public can attend these open meetings in person or via Zoom.
URL:https://goodmorningwilton.com/event/economic-development-commission-meeting-2/2026-02-18/
LOCATION:Comstock Community Center
CATEGORIES:Business,Civic,Government,In Person,Meeting,Politics,Town/Government Meeting,Zoom Call
ATTACH;FMTTYPE=image/jpeg:https://goodmorningwilton.com/wp-content/uploads/2022/04/Town-Hall-3.jpeg
END:VEVENT
BEGIN:VEVENT
DTSTART;TZID=America/New_York:20260318T191500
DTEND;TZID=America/New_York:20260318T211500
DTSTAMP:20260420T223709
CREATED:20251028T175104Z
LAST-MODIFIED:20251028T175104Z
UID:10020037-1773861300-1773868500@goodmorningwilton.com
SUMMARY:Economic Development Commission Meeting
DESCRIPTION:The Economic Development Commission meets to discuss matters related to Wilton’s businesses and economic growth. The public can attend these open meetings in person or via Zoom.
URL:https://goodmorningwilton.com/event/economic-development-commission-meeting-2/2026-03-18/
LOCATION:Comstock Community Center
CATEGORIES:Business,Civic,Government,In Person,Meeting,Politics,Town/Government Meeting,Zoom Call
ATTACH;FMTTYPE=image/jpeg:https://goodmorningwilton.com/wp-content/uploads/2022/04/Town-Hall-3.jpeg
END:VEVENT
BEGIN:VEVENT
DTSTART;TZID=America/New_York:20260415T191500
DTEND;TZID=America/New_York:20260415T211500
DTSTAMP:20260420T223709
CREATED:20251028T175104Z
LAST-MODIFIED:20251028T175104Z
UID:10020038-1776280500-1776287700@goodmorningwilton.com
SUMMARY:Economic Development Commission Meeting
DESCRIPTION:The Economic Development Commission meets to discuss matters related to Wilton’s businesses and economic growth. The public can attend these open meetings in person or via Zoom.
URL:https://goodmorningwilton.com/event/economic-development-commission-meeting-2/2026-04-15/
LOCATION:Comstock Community Center
CATEGORIES:Business,Civic,Government,In Person,Meeting,Politics,Town/Government Meeting,Zoom Call
ATTACH;FMTTYPE=image/jpeg:https://goodmorningwilton.com/wp-content/uploads/2022/04/Town-Hall-3.jpeg
END:VEVENT
END:VCALENDAR