BEGIN:VCALENDAR
VERSION:2.0
PRODID:-//Good Morning Wilton - ECPv6.15.20//NONSGML v1.0//EN
CALSCALE:GREGORIAN
METHOD:PUBLISH
X-ORIGINAL-URL:https://goodmorningwilton.com
X-WR-CALDESC:Events for Good Morning Wilton
REFRESH-INTERVAL;VALUE=DURATION:PT1H
X-Robots-Tag:noindex
X-PUBLISHED-TTL:PT1H
BEGIN:VTIMEZONE
TZID:America/New_York
BEGIN:DAYLIGHT
TZOFFSETFROM:-0500
TZOFFSETTO:-0400
TZNAME:EDT
DTSTART:20200308T070000
END:DAYLIGHT
BEGIN:STANDARD
TZOFFSETFROM:-0400
TZOFFSETTO:-0500
TZNAME:EST
DTSTART:20201101T060000
END:STANDARD
BEGIN:DAYLIGHT
TZOFFSETFROM:-0500
TZOFFSETTO:-0400
TZNAME:EDT
DTSTART:20210314T070000
END:DAYLIGHT
BEGIN:STANDARD
TZOFFSETFROM:-0400
TZOFFSETTO:-0500
TZNAME:EST
DTSTART:20211107T060000
END:STANDARD
BEGIN:DAYLIGHT
TZOFFSETFROM:-0500
TZOFFSETTO:-0400
TZNAME:EDT
DTSTART:20220313T070000
END:DAYLIGHT
BEGIN:STANDARD
TZOFFSETFROM:-0400
TZOFFSETTO:-0500
TZNAME:EST
DTSTART:20221106T060000
END:STANDARD
END:VTIMEZONE
BEGIN:VEVENT
DTSTART;TZID=America/New_York:20211003T120000
DTEND;TZID=America/New_York:20211003T130000
DTSTAMP:20260423T065508
CREATED:20210915T154514Z
LAST-MODIFIED:20210919T201233Z
UID:10010899-1633262400-1633266000@goodmorningwilton.com
SUMMARY:Wilton Democrats: Campaign Rally & Canvassing Kickoff
DESCRIPTION:Meet the Democratic Candidates! Gather for a rally to hear from the highly qualified candidates for Wilton boards and commissions. Join us afterward for a quick refresher on canvassing and then head out to meet up with Democrats in Wilton.
URL:https://goodmorningwilton.com/event/wilton-democrats-campaign-rally-canvassing-kickoff/
LOCATION:Cannon Grange Hall\, 25 Cannon Road\, Wilton\, CT\, 06897
CATEGORIES:Outdoor Event,Politics,Volunteer Opportunity
ATTACH;FMTTYPE=image/png:https://goodmorningwilton.com/wp-content/uploads/2021/09/All_Candidates_GMW.png
END:VEVENT
END:VCALENDAR