BEGIN:VCALENDAR
VERSION:2.0
PRODID:-//Good Morning Wilton - ECPv6.15.20//NONSGML v1.0//EN
CALSCALE:GREGORIAN
METHOD:PUBLISH
X-ORIGINAL-URL:https://goodmorningwilton.com
X-WR-CALDESC:Events for Good Morning Wilton
REFRESH-INTERVAL;VALUE=DURATION:PT1H
X-Robots-Tag:noindex
X-PUBLISHED-TTL:PT1H
BEGIN:VTIMEZONE
TZID:America/New_York
BEGIN:DAYLIGHT
TZOFFSETFROM:-0500
TZOFFSETTO:-0400
TZNAME:EDT
DTSTART:20230312T070000
END:DAYLIGHT
BEGIN:STANDARD
TZOFFSETFROM:-0400
TZOFFSETTO:-0500
TZNAME:EST
DTSTART:20231105T060000
END:STANDARD
BEGIN:DAYLIGHT
TZOFFSETFROM:-0500
TZOFFSETTO:-0400
TZNAME:EDT
DTSTART:20240310T070000
END:DAYLIGHT
BEGIN:STANDARD
TZOFFSETFROM:-0400
TZOFFSETTO:-0500
TZNAME:EST
DTSTART:20241103T060000
END:STANDARD
BEGIN:DAYLIGHT
TZOFFSETFROM:-0500
TZOFFSETTO:-0400
TZNAME:EDT
DTSTART:20250309T070000
END:DAYLIGHT
BEGIN:STANDARD
TZOFFSETFROM:-0400
TZOFFSETTO:-0500
TZNAME:EST
DTSTART:20251102T060000
END:STANDARD
END:VTIMEZONE
BEGIN:VEVENT
DTSTART;TZID=America/New_York:20240924T103000
DTEND;TZID=America/New_York:20240924T123000
DTSTAMP:20260420T202311
CREATED:20240916T142832Z
LAST-MODIFIED:20240916T142832Z
UID:10018070-1727173800-1727181000@goodmorningwilton.com
SUMMARY:A Parent’s Guide to Executive Functioning
DESCRIPTION:Is your child struggling with daily routines and tasks? Do simple tasks take them an excessive amount of time or often go unfinished? Are you frequently asking them to focus\, calm down\, or hurry up? \nIf so\, your child may be having difficulties with executive functions — the mental processes that enable planning\, memory\, task initiation\, completion\, and emotional regulation. These skills are crucial for independent success both in and out of school\, yet they’re often overlooked in child development. \nAt this program hosted by SPED*NET\, Jeffrey Ruggiero\, an educator with over 30 years of teaching and administrative experience in special education\, will provide valuable insights and tools to help your child thrive\, including an in-depth understanding of executive functions\, practical strategies to support your child’s development\, and hands-on activities to reinforce learning. He currently serves as associate head at the Southport School. \nFor parents of children K-8th grade. Register online.
URL:https://goodmorningwilton.com/event/a-parents-guide-to-executive-functioning/
LOCATION:Wilton Library\, 137 Old Ridgefield Rd.\, Wilton\, CT\, 06987
CATEGORIES:Educational,Library,Parenting
ATTACH;FMTTYPE=image/jpeg:https://goodmorningwilton.com/wp-content/uploads/2024/09/Ruggiero_Jeffrey.jpg
ORGANIZER;CN="SPED*NET":MAILTO:info@spednet.org
END:VEVENT
END:VCALENDAR