BEGIN:VCALENDAR
VERSION:2.0
PRODID:-//Good Morning Wilton - ECPv6.15.20//NONSGML v1.0//EN
CALSCALE:GREGORIAN
METHOD:PUBLISH
X-WR-CALNAME:Good Morning Wilton
X-ORIGINAL-URL:https://goodmorningwilton.com
X-WR-CALDESC:Events for Good Morning Wilton
REFRESH-INTERVAL;VALUE=DURATION:PT1H
X-Robots-Tag:noindex
X-PUBLISHED-TTL:PT1H
BEGIN:VTIMEZONE
TZID:America/New_York
BEGIN:DAYLIGHT
TZOFFSETFROM:-0500
TZOFFSETTO:-0400
TZNAME:EDT
DTSTART:20200308T070000
END:DAYLIGHT
BEGIN:STANDARD
TZOFFSETFROM:-0400
TZOFFSETTO:-0500
TZNAME:EST
DTSTART:20201101T060000
END:STANDARD
BEGIN:DAYLIGHT
TZOFFSETFROM:-0500
TZOFFSETTO:-0400
TZNAME:EDT
DTSTART:20210314T070000
END:DAYLIGHT
BEGIN:STANDARD
TZOFFSETFROM:-0400
TZOFFSETTO:-0500
TZNAME:EST
DTSTART:20211107T060000
END:STANDARD
BEGIN:DAYLIGHT
TZOFFSETFROM:-0500
TZOFFSETTO:-0400
TZNAME:EDT
DTSTART:20220313T070000
END:DAYLIGHT
BEGIN:STANDARD
TZOFFSETFROM:-0400
TZOFFSETTO:-0500
TZNAME:EST
DTSTART:20221106T060000
END:STANDARD
BEGIN:DAYLIGHT
TZOFFSETFROM:-0500
TZOFFSETTO:-0400
TZNAME:EDT
DTSTART:20230312T070000
END:DAYLIGHT
BEGIN:STANDARD
TZOFFSETFROM:-0400
TZOFFSETTO:-0500
TZNAME:EST
DTSTART:20231105T060000
END:STANDARD
BEGIN:DAYLIGHT
TZOFFSETFROM:-0500
TZOFFSETTO:-0400
TZNAME:EDT
DTSTART:20240310T070000
END:DAYLIGHT
BEGIN:STANDARD
TZOFFSETFROM:-0400
TZOFFSETTO:-0500
TZNAME:EST
DTSTART:20241103T060000
END:STANDARD
BEGIN:DAYLIGHT
TZOFFSETFROM:-0500
TZOFFSETTO:-0400
TZNAME:EDT
DTSTART:20250309T070000
END:DAYLIGHT
BEGIN:STANDARD
TZOFFSETFROM:-0400
TZOFFSETTO:-0500
TZNAME:EST
DTSTART:20251102T060000
END:STANDARD
BEGIN:DAYLIGHT
TZOFFSETFROM:-0500
TZOFFSETTO:-0400
TZNAME:EDT
DTSTART:20260308T070000
END:DAYLIGHT
BEGIN:STANDARD
TZOFFSETFROM:-0400
TZOFFSETTO:-0500
TZNAME:EST
DTSTART:20261101T060000
END:STANDARD
BEGIN:DAYLIGHT
TZOFFSETFROM:-0500
TZOFFSETTO:-0400
TZNAME:EDT
DTSTART:20270314T070000
END:DAYLIGHT
BEGIN:STANDARD
TZOFFSETFROM:-0400
TZOFFSETTO:-0500
TZNAME:EST
DTSTART:20271107T060000
END:STANDARD
END:VTIMEZONE
BEGIN:VEVENT
DTSTART;TZID=America/New_York:20210302T100000
DTEND;TZID=America/New_York:20210302T110000
DTSTAMP:20260424T145142
CREATED:20210218T192650Z
LAST-MODIFIED:20210220T232800Z
UID:10009198-1614679200-1614682800@goodmorningwilton.com
SUMMARY:Wilton Reads: Book Giveaway
DESCRIPTION:Memorial Drive: A Daughter’s Memoir by Natasha Trethewey is Wilton Library‘s Wilton Reads 2021 pick. Free copies of the book will be distributed thanks to Fairfield County Bank. \nOne complimentary copy per person may be picked up at the Drive-Thru Window on Godfrey Place\, Tuesday\, March 2 from 10:00- 11:00 AM/5:00-6:00 PM while supplies last. \nThe media sponsor of Wilton Reads is GOOD Morning Wilton. For more information visit the Wilton Library website\, or contact the Wilton Library’s reference librarians by calling 203.762.6350 or emailing.
URL:https://goodmorningwilton.com/event/wilton-reads-book-giveaway/2021-03-02/1/
LOCATION:Wilton Library
CATEGORIES:Free,Library,Not for profit
ATTACH;FMTTYPE=image/png:https://goodmorningwilton.com/wp-content/uploads/2021/02/WR_2021_book_icon-sm-PNG011421.png
ORGANIZER;CN="Wilton Library":MAILTO:publicity@wiltonlibrary.org
END:VEVENT
BEGIN:VEVENT
DTSTART;TZID=America/New_York:20210302T170000
DTEND;TZID=America/New_York:20210302T180000
DTSTAMP:20260424T145142
CREATED:20210218T192650Z
LAST-MODIFIED:20210220T232800Z
UID:10009199-1614704400-1614708000@goodmorningwilton.com
SUMMARY:Wilton Reads: Book Giveaway
DESCRIPTION:Memorial Drive: A Daughter’s Memoir by Natasha Trethewey is Wilton Library‘s Wilton Reads 2021 pick. Free copies of the book will be distributed thanks to Fairfield County Bank. \nOne complimentary copy per person may be picked up at the Drive-Thru Window on Godfrey Place\, Tuesday\, March 2 from 10:00- 11:00 AM/5:00-6:00 PM while supplies last. \nThe media sponsor of Wilton Reads is GOOD Morning Wilton. For more information visit the Wilton Library website\, or contact the Wilton Library’s reference librarians by calling 203.762.6350 or emailing.
URL:https://goodmorningwilton.com/event/wilton-reads-book-giveaway/2021-03-02/2/
LOCATION:Wilton Library
CATEGORIES:Free,Library,Not for profit
ATTACH;FMTTYPE=image/png:https://goodmorningwilton.com/wp-content/uploads/2021/02/WR_2021_book_icon-sm-PNG011421.png
ORGANIZER;CN="Wilton Library":MAILTO:publicity@wiltonlibrary.org
END:VEVENT
BEGIN:VEVENT
DTSTART;TZID=America/New_York:20210508T093000
DTEND;TZID=America/New_York:20210508T113000
DTSTAMP:20260424T145142
CREATED:20210430T163528Z
LAST-MODIFIED:20210430T164214Z
UID:10010768-1620466200-1620473400@goodmorningwilton.com
SUMMARY:Fairfield County Bank Annual Shred Day
DESCRIPTION:Avoid identity theft and protect your privacy. Join Fairfield County Bank for its annual Shred Day on Saturday\, May 8\, from 9:30-11:30 a.m. at its Wilton branch. \nShred old tax returns\, medical records\, confidential documents\, credit card statements\, payroll information\, and any other documents containing personal information. \nMasks will be required.
URL:https://goodmorningwilton.com/event/fairfield-county-bank-annual-shred-day/
LOCATION:Fairfield Couny Bank\, 190 Old Ridgefield Rd.\, Wilton\, CT\, 06897\, United States
CATEGORIES:Business,Free,Outdoor Event
ATTACH;FMTTYPE=image/jpeg:https://goodmorningwilton.com/wp-content/uploads/2016/10/shred-shredding-shredded-paper.jpg
END:VEVENT
BEGIN:VEVENT
DTSTART;TZID=America/New_York:20211003T083000
DTEND;TZID=America/New_York:20211003T103000
DTSTAMP:20260424T145142
CREATED:20210903T140505Z
LAST-MODIFIED:20210930T130048Z
UID:10009461-1633249800-1633257000@goodmorningwilton.com
SUMMARY:Woodcock Nature Center: Where the Wild Things Run 5K and Kids Fun Run
DESCRIPTION:Woodcock Nature Center welcomes runners\, hikers\, and walkers of all ages at its annual Where the Wild Things Run 5K and Kids Fun Run on Sunday\, Oct. 3 at 8:30 am. For several decades\, this event has highlighted Woodcock’s nearly 5 miles of publicly accessible trails and raised money for the center’s educational programs. \nThe popular 5K\, which kicks off at 9 am is 90% trail with a mix of groomed trails\, rugged trails\, and narrow bridges/boardwalks. Walkers are also welcome. The terrain of the 5k will highlight the diversity and beauty of the Woodcock property. \nA shorter 1K Kids Fun Run geared towards ages 6 and up kicks off at 8:30 am and is guided by a Woodcock team member. Parents are also welcome to accompany their children. \nAfter the Kids Fun Run\, families are invited to stick around for some unique post-race festivities on the nature center grounds including snacks\, music\, games\, playground fun\, nature crafts\, and the annual live turtle race at 9:15 am.  \nWoodcock welcomes interested businesses to inquire about sponsorship opportunities which can include inclusion on the race t-shirt\, cross-promotions\, and a table at the race finish. Special thanks to current sponsors Fairfield County Bank\, Outdoor Sports Center\, and Ridgefield Running Company. \nOrganizers are expecting 150 participants\, so runners are encouraged to register in advance online. Race fees are $35 for the 5K and $20 for the Kids Fun Run. Race t-shirts will only be guaranteed to participants registered by Wednesday\, Sept. 15. Prizes will be awarded to top adult finishers.
URL:https://goodmorningwilton.com/event/woodcock-nature-center-where-the-wild-things-run-5k-and-kids-fun-run/
LOCATION:Woodcock Nature Center\, 56 Deer Run Rd\, Wilton\, CT\, 06897\, United States
CATEGORIES:5K,Exercise,Family Event,Nature,Outdoor Event,Walk/Hike
ATTACH;FMTTYPE=image/jpeg:https://goodmorningwilton.com/wp-content/uploads/2014/04/Woodcock-5k-runners-starting-at-front-gate.jpg
GEO:41.2467853;-73.4737154
X-APPLE-STRUCTURED-LOCATION;VALUE=URI;X-ADDRESS=Woodcock Nature Center 56 Deer Run Rd Wilton CT 06897 United States;X-APPLE-RADIUS=500;X-TITLE=56 Deer Run Rd:geo:-73.4737154,41.2467853
END:VEVENT
BEGIN:VEVENT
DTSTART;TZID=America/New_York:20230410T100000
DTEND;TZID=America/New_York:20230410T110000
DTSTAMP:20260424T145142
CREATED:20230323T094918Z
LAST-MODIFIED:20230323T094918Z
UID:10011778-1681120800-1681124400@goodmorningwilton.com
SUMMARY:Wilton Reads: Vigil Harbor Book Giveaway
DESCRIPTION:Wilton Library invites all community members to join together to read\, discuss\, and reflect upon this year’s book selection\, Vigil Harbor by Julia Glass. For many years\, Wilton Reads has provided the opportunity to sharpen our view of ourselves and the world around us. This year\, the focus is climate change and the meaning of community through insightful programming. This is the 17th season of Wilton Reads \nTo encourage readership and to kick things off\, a limited number of paperback copies of Vigil Harbor will be distributed to members of the community free of charge\, courtesy of Fairfield County Bank. Books will be available on a first-come\, first-served basis\, one per person\, in the main lobby\, while supplies last.
URL:https://goodmorningwilton.com/event/wilton-reads-vigil-harbor-book-giveaway/2023-04-10/1/
LOCATION:Wilton Library\, 137 Old Ridgefield Rd.\, Wilton\, CT\, 06987
CATEGORIES:Community Events,Educational,Free,Library,Not for profit
ATTACH;FMTTYPE=image/png:https://goodmorningwilton.com/wp-content/uploads/2023/03/Vigil-Harbor-Book-Icon.png
END:VEVENT
BEGIN:VEVENT
DTSTART;TZID=America/New_York:20230410T173000
DTEND;TZID=America/New_York:20230410T183000
DTSTAMP:20260424T145142
CREATED:20230323T094918Z
LAST-MODIFIED:20230323T094918Z
UID:10011779-1681147800-1681151400@goodmorningwilton.com
SUMMARY:Wilton Reads: Vigil Harbor Book Giveaway
DESCRIPTION:Wilton Library invites all community members to join together to read\, discuss\, and reflect upon this year’s book selection\, Vigil Harbor by Julia Glass. For many years\, Wilton Reads has provided the opportunity to sharpen our view of ourselves and the world around us. This year\, the focus is climate change and the meaning of community through insightful programming. This is the 17th season of Wilton Reads \nTo encourage readership and to kick things off\, a limited number of paperback copies of Vigil Harbor will be distributed to members of the community free of charge\, courtesy of Fairfield County Bank. Books will be available on a first-come\, first-served basis\, one per person\, in the main lobby\, while supplies last.
URL:https://goodmorningwilton.com/event/wilton-reads-vigil-harbor-book-giveaway/2023-04-10/2/
LOCATION:Wilton Library\, 137 Old Ridgefield Rd.\, Wilton\, CT\, 06987
CATEGORIES:Community Events,Educational,Free,Library,Not for profit
ATTACH;FMTTYPE=image/png:https://goodmorningwilton.com/wp-content/uploads/2023/03/Vigil-Harbor-Book-Icon.png
END:VEVENT
BEGIN:VEVENT
DTSTART;TZID=America/New_York:20240403T100000
DTEND;TZID=America/New_York:20240403T110000
DTSTAMP:20260424T145142
CREATED:20240323T000034Z
LAST-MODIFIED:20240323T000034Z
UID:10015705-1712138400-1712142000@goodmorningwilton.com
SUMMARY:Wilton Reads: Book Giveaway
DESCRIPTION:All community members are welcome to join Wilton Library this spring to come together and read\, discuss and reflect upon The Great Divide by Cristina Henriquez for the eighteenth Wilton Reads event. For many years\, Wilton Reads has given the community an opportunity to sharpen views of themselves and the world around them. This year the focus is on the meaning of community and the collective history from diverse perspectives through insightful programming. \nTo encourage readership and to kick things off\, a limited number of hardcover copies of The Great Divide will be distributed to members of the community free of charge courtesy of Fairfield County Bank. Books will be available on a first-come\, first-served basis\, one per person\, in the Library lobby on Wednesday\, April 3 from 10 – 11 a.m. and from 5:30 – 6:30 p.m.\, while supplies last.
URL:https://goodmorningwilton.com/event/wilton-reads-book-giveaway-2/2024-04-03/1/
LOCATION:Wilton Library\, 137 Old Ridgefield Rd.\, Wilton\, CT\, 06987
CATEGORIES:Community Events,Educational,Free,Library
ATTACH;FMTTYPE=image/jpeg:https://goodmorningwilton.com/wp-content/uploads/2024/03/WiltonReads2024BookDisplayIMG_7716-scaled.jpg
END:VEVENT
BEGIN:VEVENT
DTSTART;TZID=America/New_York:20240403T173000
DTEND;TZID=America/New_York:20240403T183000
DTSTAMP:20260424T145142
CREATED:20240323T000034Z
LAST-MODIFIED:20240323T000034Z
UID:10015706-1712165400-1712169000@goodmorningwilton.com
SUMMARY:Wilton Reads: Book Giveaway
DESCRIPTION:All community members are welcome to join Wilton Library this spring to come together and read\, discuss and reflect upon The Great Divide by Cristina Henriquez for the eighteenth Wilton Reads event. For many years\, Wilton Reads has given the community an opportunity to sharpen views of themselves and the world around them. This year the focus is on the meaning of community and the collective history from diverse perspectives through insightful programming. \nTo encourage readership and to kick things off\, a limited number of hardcover copies of The Great Divide will be distributed to members of the community free of charge courtesy of Fairfield County Bank. Books will be available on a first-come\, first-served basis\, one per person\, in the Library lobby on Wednesday\, April 3 from 10 – 11 a.m. and from 5:30 – 6:30 p.m.\, while supplies last.
URL:https://goodmorningwilton.com/event/wilton-reads-book-giveaway-2/2024-04-03/2/
LOCATION:Wilton Library\, 137 Old Ridgefield Rd.\, Wilton\, CT\, 06987
CATEGORIES:Community Events,Educational,Free,Library
ATTACH;FMTTYPE=image/jpeg:https://goodmorningwilton.com/wp-content/uploads/2024/03/WiltonReads2024BookDisplayIMG_7716-scaled.jpg
END:VEVENT
BEGIN:VEVENT
DTSTART;TZID=America/New_York:20240518T090000
DTEND;TZID=America/New_York:20240518T120000
DTSTAMP:20260424T145142
CREATED:20240319T005513Z
LAST-MODIFIED:20240319T005513Z
UID:10015690-1716022800-1716033600@goodmorningwilton.com
SUMMARY:Community Shred Day
DESCRIPTION:Wilton Go Green and Circle of Care are co-hosting the 2nd Annual Community Shred Day. Residents can bring up to 5 boxes of paper to be placed in the Shred-It Truck. \nNow that tax season is almost over\, start gathering sensitive documents and bring them down to the shredding event. A secure shred truck will be on site for the event. Attendees will park and bring their items over to the shred truck also learn more about Circle of Care and Wilton Go Green. Enter a raffle as well! Volunteers will be on hand for anyone who needs assistance. \nSuggested donation of $20 per bag/box to support the work of Circle of Care and Wilton Go Green \nFairfield County Bank generously hosts and John Schiaroli of William Pitt Sotheby’s sponsors the Shred Truck. \nCircle of Care is a non-profit organization dedicated to supporting childhood cancer patients and their families for their entire experience\, from day of diagnosis to wherever the journey leads. It vows to continue until no parent has to hear the words\, “your child has cancer.” To learn more about Circle of Care\, visit the organization’s website. \nWilton Go Green is a non-profit organization dedicated to engaging\, educating and inspiring green living. Learn more online.
URL:https://goodmorningwilton.com/event/community-shred-day-2/
LOCATION:Fairfield Couny Bank\, 190 Old Ridgefield Rd.\, Wilton\, CT\, 06897\, United States
CATEGORIES:Community Events,Environmental
ATTACH;FMTTYPE=image/png:https://goodmorningwilton.com/wp-content/uploads/2024/03/2024-Community-Shred-Day-8.5-x-11-in-Instagram-Post-2.png
ORGANIZER;CN="Wilton Go Green":MAILTO:info@wiltongogreen.org
END:VEVENT
BEGIN:VEVENT
DTSTART;TZID=America/New_York:20260201T120000
DTEND;TZID=America/New_York:20260201T150000
DTSTAMP:20260424T145142
CREATED:20260116T230909Z
LAST-MODIFIED:20260116T231005Z
UID:10021967-1769947200-1769958000@goodmorningwilton.com
SUMMARY:Wilton's Winter Carnival: "Fire and Ice"
DESCRIPTION:Mark your calendars for Sunday\, February 1st\, from 12-3 p.m.\, for the return of “Fire and Ice” Winter Carnival – proudly sponsored by Fairfield County Bank. This year’s event continues the annual tradition with a unique twist\, merging the warmth of fire and the chill of ice into a dazzling celebration for our community. \nPrepare to be wowed by mesmerizing ice sculpting and wood carving demonstrations on the Town Green. Watch as artists transform raw materials into exquisite masterpieces right before your eyes! \nEmbark on an exhilarating scavenger hunt around Wilton Center\, where finding hidden treasures could earn you gift cards to local businesses! As you explore\, let the inviting warmth of bonfires draw you in for s’mores and cozy conversations\, courtesy of the Wilton Rotary Club\, and satisfy your taste buds with an array of hot\, spicy\, and cool culinary delights from various food trucks. \nMeanwhile\, children will be entertained with face painting\, inflatable games\, character meet and greets\, and other fun activities sprinkled throughout the Town Green\, while the daring fire dancers ignite excitement for teens and adults with their thrilling performances. \nThis lively celebration is more than just a festival—it’s an opportunity to strengthen community ties\, support local businesses\, and showcase your Wilton pride. So\, rally your friends and family\, and join us for a day filled with fun\, excitement\, and community spirit while making a positive impact on the businesses that makes Wilton so special! \nFor vendors interested in participating in the event\, download application form here: WINTER CARNIVAL VENDOR FORM or contact Camille Carriero at info@wiltonchamber.com or call 203-762-0567. \nThis event is proudly presented by event sponsor\, Fairfield County Bank and in partnership with Gregory and Adams\, P.C. \, Riverbrook Regional YMCA\, Wilton Library\, and the Wilton Rotary Club. This event is rain\, snow\, or shine.
URL:https://goodmorningwilton.com/event/wiltons-winter-carnival-fire-and-ice/
LOCATION:Wilton Town Green\, 101 Ridgefield Road\, Wilton\, CT\, 06897\, United States
CATEGORIES:Carnival,Family Event,Festival,Free,Kids,Outdoor Event,Teens
ATTACH;FMTTYPE=image/png:https://goodmorningwilton.com/wp-content/uploads/2026/01/GMW-Winter-Carnival.png
ORGANIZER;CN="Wilton Chamber of Commerce":MAILTO:info@wiltonchamber.com
END:VEVENT
END:VCALENDAR