BEGIN:VCALENDAR
VERSION:2.0
PRODID:-//Good Morning Wilton - ECPv6.15.20//NONSGML v1.0//EN
CALSCALE:GREGORIAN
METHOD:PUBLISH
X-ORIGINAL-URL:https://goodmorningwilton.com
X-WR-CALDESC:Events for Good Morning Wilton
REFRESH-INTERVAL;VALUE=DURATION:PT1H
X-Robots-Tag:noindex
X-PUBLISHED-TTL:PT1H
BEGIN:VTIMEZONE
TZID:America/New_York
BEGIN:DAYLIGHT
TZOFFSETFROM:-0500
TZOFFSETTO:-0400
TZNAME:EDT
DTSTART:20240310T070000
END:DAYLIGHT
BEGIN:STANDARD
TZOFFSETFROM:-0400
TZOFFSETTO:-0500
TZNAME:EST
DTSTART:20241103T060000
END:STANDARD
BEGIN:DAYLIGHT
TZOFFSETFROM:-0500
TZOFFSETTO:-0400
TZNAME:EDT
DTSTART:20250309T070000
END:DAYLIGHT
BEGIN:STANDARD
TZOFFSETFROM:-0400
TZOFFSETTO:-0500
TZNAME:EST
DTSTART:20251102T060000
END:STANDARD
BEGIN:DAYLIGHT
TZOFFSETFROM:-0500
TZOFFSETTO:-0400
TZNAME:EDT
DTSTART:20260308T070000
END:DAYLIGHT
BEGIN:STANDARD
TZOFFSETFROM:-0400
TZOFFSETTO:-0500
TZNAME:EST
DTSTART:20261101T060000
END:STANDARD
END:VTIMEZONE
BEGIN:VEVENT
DTSTART;TZID=America/New_York:20250412T100000
DTEND;TZID=America/New_York:20250412T170000
DTSTAMP:20260425T094854
CREATED:20250317T174919Z
LAST-MODIFIED:20250317T174919Z
UID:10018861-1744452000-1744477200@goodmorningwilton.com
SUMMARY:Spring Family Portrait Fundraiser with WEF and Justin Baiad
DESCRIPTION:Wilton Education Foundation (WEF) will host a new fundraiser this Spring with local portrait photographer Justin Baiad. Wilton families are invited to schedule a mini photo session at Ambler Farm on Saturday\, Apr. 12. Enjoy special package pricing and professional touch up with your photo gallery. Sign up online. \nPhotos will be ready in time for Mother’s Day and suggested now is a perfect time to get ahead of the busy summer and pricier fall season for holiday pictures. Each mini session will take 20-25 minutes and includes a digital gallery of about 15-20 images with professional retouching service. The special rate for the fundraiser is $450 (plus CT sales tax) with 25% of proceeds benefitting WEF\, which will support various grants in Wilton Public Schools. A rain date is scheduled for Sunday\, April 13.
URL:https://goodmorningwilton.com/event/spring-family-portrait-fundraiser-with-wef-and-justin-baiad/
LOCATION:Ambler Farm\, 257 Hurlbutt Street\, Wilton\, CT\, 06897
CATEGORIES:Family Event,Fundraiser,Outdoor Event,Schools
ATTACH;FMTTYPE=image/png:https://goodmorningwilton.com/wp-content/uploads/2025/03/WEF-25-Spring-Portrait-1.png
END:VEVENT
END:VCALENDAR