BEGIN:VCALENDAR
VERSION:2.0
PRODID:-//Good Morning Wilton - ECPv6.15.20//NONSGML v1.0//EN
CALSCALE:GREGORIAN
METHOD:PUBLISH
X-ORIGINAL-URL:https://goodmorningwilton.com
X-WR-CALDESC:Events for Good Morning Wilton
REFRESH-INTERVAL;VALUE=DURATION:PT1H
X-Robots-Tag:noindex
X-PUBLISHED-TTL:PT1H
BEGIN:VTIMEZONE
TZID:America/New_York
BEGIN:DAYLIGHT
TZOFFSETFROM:-0500
TZOFFSETTO:-0400
TZNAME:EDT
DTSTART:20240310T070000
END:DAYLIGHT
BEGIN:STANDARD
TZOFFSETFROM:-0400
TZOFFSETTO:-0500
TZNAME:EST
DTSTART:20241103T060000
END:STANDARD
BEGIN:DAYLIGHT
TZOFFSETFROM:-0500
TZOFFSETTO:-0400
TZNAME:EDT
DTSTART:20250309T070000
END:DAYLIGHT
BEGIN:STANDARD
TZOFFSETFROM:-0400
TZOFFSETTO:-0500
TZNAME:EST
DTSTART:20251102T060000
END:STANDARD
BEGIN:DAYLIGHT
TZOFFSETFROM:-0500
TZOFFSETTO:-0400
TZNAME:EDT
DTSTART:20260308T070000
END:DAYLIGHT
BEGIN:STANDARD
TZOFFSETFROM:-0400
TZOFFSETTO:-0500
TZNAME:EST
DTSTART:20261101T060000
END:STANDARD
END:VTIMEZONE
BEGIN:VEVENT
DTSTART;TZID=America/New_York:20250601T170000
DTEND;TZID=America/New_York:20250601T190000
DTSTAMP:20260425T215019
CREATED:20250530T180135Z
LAST-MODIFIED:20250530T180135Z
UID:10019330-1748797200-1748804400@goodmorningwilton.com
SUMMARY:Wilton High School Music Groups to Perform at Merwin Meadow Park
DESCRIPTION:Wilton High School‘s Fine and Performing Arts program will be hosting a concert at Merwin Meadows Park this Sunday\, June 1. There will be performances by Jazz groups\, an A Capella group\, as well as the orchestra. Performances begin at 5 p.m. and there is no cost to attend (park passes are not required for the concert).
URL:https://goodmorningwilton.com/event/wilton-high-school-music-groups-to-perform-at-merwin-meadow-park/
LOCATION:Merwin Meadows\, 52 Lovers Ln\, Wilton\, CT
CATEGORIES:Concert,Free,Live Music,Musical,Outdoor Event,Performance,Schools
ATTACH;FMTTYPE=image/png:https://goodmorningwilton.com/wp-content/uploads/2025/05/Merwin-Meadow-flyer.png
ORGANIZER;CN="Wilton Parks and Recreation":MAILTO:parksandrec@wiltonct.org
GEO:41.197245;-73.4354331
X-APPLE-STRUCTURED-LOCATION;VALUE=URI;X-ADDRESS=Merwin Meadows 52 Lovers Ln Wilton CT;X-APPLE-RADIUS=500;X-TITLE=52 Lovers Ln:geo:-73.4354331,41.197245
END:VEVENT
END:VCALENDAR