BEGIN:VCALENDAR
VERSION:2.0
PRODID:-//Good Morning Wilton - ECPv6.15.20//NONSGML v1.0//EN
CALSCALE:GREGORIAN
METHOD:PUBLISH
X-WR-CALNAME:Good Morning Wilton
X-ORIGINAL-URL:https://goodmorningwilton.com
X-WR-CALDESC:Events for Good Morning Wilton
REFRESH-INTERVAL;VALUE=DURATION:PT1H
X-Robots-Tag:noindex
X-PUBLISHED-TTL:PT1H
BEGIN:VTIMEZONE
TZID:America/New_York
BEGIN:DAYLIGHT
TZOFFSETFROM:-0500
TZOFFSETTO:-0400
TZNAME:EDT
DTSTART:20230312T070000
END:DAYLIGHT
BEGIN:STANDARD
TZOFFSETFROM:-0400
TZOFFSETTO:-0500
TZNAME:EST
DTSTART:20231105T060000
END:STANDARD
BEGIN:DAYLIGHT
TZOFFSETFROM:-0500
TZOFFSETTO:-0400
TZNAME:EDT
DTSTART:20240310T070000
END:DAYLIGHT
BEGIN:STANDARD
TZOFFSETFROM:-0400
TZOFFSETTO:-0500
TZNAME:EST
DTSTART:20241103T060000
END:STANDARD
BEGIN:DAYLIGHT
TZOFFSETFROM:-0500
TZOFFSETTO:-0400
TZNAME:EDT
DTSTART:20250309T070000
END:DAYLIGHT
BEGIN:STANDARD
TZOFFSETFROM:-0400
TZOFFSETTO:-0500
TZNAME:EST
DTSTART:20251102T060000
END:STANDARD
END:VTIMEZONE
BEGIN:VEVENT
DTSTART;TZID=America/New_York:20240418T143000
DTEND;TZID=America/New_York:20240418T153000
DTSTAMP:20260422T012915
CREATED:20240407T222632Z
LAST-MODIFIED:20240407T222632Z
UID:10015793-1713450600-1713454200@goodmorningwilton.com
SUMMARY:Wilton Reads: Rainforest Experience for Elementary Kids
DESCRIPTION:Kids ages 4-9 can join Wilton Library for this year’s rainforest focused Wilton Reads program geared just for them. They will read Zonia’s Rain Forest by Juana Martinez-Neal and do a rainforest-based craft. The day of the program\, each family will receive a copy of the book to keep. \nRegistration is required. Drop-ins welcome if space allows. To register\, visit online.
URL:https://goodmorningwilton.com/event/wilton-reads-rainforest-experience-for-elementary-kids/
LOCATION:Wilton Library\, 137 Old Ridgefield Rd.\, Wilton\, CT\, 06987
CATEGORIES:Family Event,Kids,Library
ATTACH;FMTTYPE=image/jpeg:https://goodmorningwilton.com/wp-content/uploads/2024/04/ZONIAS_RAIN_FOREST_F729B007.jpg
END:VEVENT
BEGIN:VEVENT
DTSTART;TZID=America/New_York:20240504T080000
DTEND;TZID=America/New_York:20240504T110000
DTSTAMP:20260422T012915
CREATED:20240403T234122Z
LAST-MODIFIED:20240403T234122Z
UID:10015770-1714809600-1714820400@goodmorningwilton.com
SUMMARY:Woodcock Birding Brunch
DESCRIPTION:Can’t tell your wrens from your warblers? Get hooked on the beauty and excitement of birdwatching with Woodcock Nature Center. \nJoin Woodcock’s own birdwatcher\, photographer\, and educator Tommy McCarthy out on the trails of Woodcock to explore and discover the peaceful excitement of birdwatching. Settle in after your hike and enjoy a light brunch in the picturesque pavilion while you practice your newly acquired birdwatching skills! \n$30 per person. All ages welcome. Proceeds support community outreach programs. \nRegistration is required.
URL:https://goodmorningwilton.com/event/woodcock-birding-brunch/
LOCATION:Woodcock Nature Center\, 56 Deer Run Rd\, Wilton\, CT\, 06897\, United States
CATEGORIES:Environmental,Nature,Outdoor Event
ATTACH;FMTTYPE=image/jpeg:https://goodmorningwilton.com/wp-content/uploads/2024/04/D72_7867-1.jpeg
GEO:41.2467853;-73.4737154
X-APPLE-STRUCTURED-LOCATION;VALUE=URI;X-ADDRESS=Woodcock Nature Center 56 Deer Run Rd Wilton CT 06897 United States;X-APPLE-RADIUS=500;X-TITLE=56 Deer Run Rd:geo:-73.4737154,41.2467853
END:VEVENT
BEGIN:VEVENT
DTSTART;TZID=America/New_York:20240704T160000
DTEND;TZID=America/New_York:20240704T230000
DTSTAMP:20260422T012915
CREATED:20240702T180723Z
LAST-MODIFIED:20240702T180723Z
UID:10017570-1720108800-1720134000@goodmorningwilton.com
SUMMARY:College Bound Rickshaw rides at the Wilton 4th of July Fireworks Event
DESCRIPTION:During Wilton’s 4th of July festivities\, College Bound Rickshaw will be onsite at the town fireworks event offering free rides. Their goal is to help patrons get from their cars to the field with ease and added safety. In partnership with Parks and Recreation\, they have secured a prime parking spot next to the George DiRocco bench for easy access. \nAdditionally\, a percentage of tips collected during the evening will benefit several local non-profit groups.
URL:https://goodmorningwilton.com/event/college-bound-rickshaw-rides-at-the-wilton-4th-of-july-fireworks-event/
LOCATION:Wilton High School Complex\, 395 Danbury Road\, Wilton\, CT\, 06897\, United States
CATEGORIES:Community Celebration,Community Events,Family Event,Free,Live Music,Outdoor Event
ATTACH;FMTTYPE=image/jpeg:https://goodmorningwilton.com/wp-content/uploads/2022/06/Colin-Gilmore-college-bound-rickshaws-2.jpeg
END:VEVENT
BEGIN:VEVENT
DTSTART;TZID=America/New_York:20240705T173000
DTEND;TZID=America/New_York:20240705T203000
DTSTAMP:20260422T012915
CREATED:20240624T144723Z
LAST-MODIFIED:20240624T144723Z
UID:10017494-1720200600-1720211400@goodmorningwilton.com
SUMMARY:Annual Wilton Classic and Custom Car Show
DESCRIPTION:The Wilton Kiwanis Club presents their 23rd Annual Classic and Custom Car Show at the Piersall Building. All cool cars\, trucks and motorcycles are invited\, and there’s no charge to display your pride and joy! \nCheck out the coolest cars and trucks in the area with your friends and neighbors. Fun for all ages\, and as always the Kiwanis Club will be selling grilled hot dogs\, hamburgers\, and bottled water. The event will run from 5:30 to 8:30 p.m. on Friday\, July 5 at the Piersall Building parking lot in the Wilton Center. \nGo online for weather-related cancellation updates.
URL:https://goodmorningwilton.com/event/annual-wilton-classic-and-custom-car-show/
LOCATION:Piersall Building parking lot Wilton CT\, 44 Old Ridgefield Rd.\, Wilton\, CT\, 06897
CATEGORIES:Club,Family Event,Free,Outdoor Event
ATTACH;FMTTYPE=image/jpeg:https://goodmorningwilton.com/wp-content/uploads/2023/07/Kiwanis-Club-2023-Car-Cruise-Show-791-scaled.jpg
END:VEVENT
BEGIN:VEVENT
DTSTART;TZID=America/New_York:20240920T100000
DTEND;TZID=America/New_York:20240920T170000
DTSTAMP:20260422T012915
CREATED:20240904T143617Z
LAST-MODIFIED:20240904T143617Z
UID:10018033-1726826400-1726851600@goodmorningwilton.com
SUMMARY:Books & A Blanket
DESCRIPTION:Wilton Go Green with Wilton Land Trust and Wilton Library are back with their Fall Books & A Blanket events. \n\n\nBring your blanket and enjoy a relaxing story\, some arts and crafts\, and a hands-on environmental learning experience. \nJoin in on Friday\, September 20 at 10 a.m.\nRain date – Sept. 27\nTheme: Pumpkins \nWalter Preserve: \n688 Ridgefield Road\, Wilton\, CT 06897. The parking lot is just past the preserve on the right when heading north on R33. \nRegister here.
URL:https://goodmorningwilton.com/event/books-a-blanket-2/
LOCATION:Walter Preserve\, 688 Ridgefield Rd.\, Wilton\, CT\, 06897\, United States
CATEGORIES:Family Event,Kids,Nature,Outdoor Event
ATTACH;FMTTYPE=image/png:https://goodmorningwilton.com/wp-content/uploads/2024/08/BooksaBlanket9.2024.png
ORGANIZER;CN="Wilton Go Green":MAILTO:info@wiltongogreen.org
END:VEVENT
END:VCALENDAR