BEGIN:VCALENDAR
VERSION:2.0
PRODID:-//Good Morning Wilton - ECPv6.15.20//NONSGML v1.0//EN
CALSCALE:GREGORIAN
METHOD:PUBLISH
X-WR-CALNAME:Good Morning Wilton
X-ORIGINAL-URL:https://goodmorningwilton.com
X-WR-CALDESC:Events for Good Morning Wilton
REFRESH-INTERVAL;VALUE=DURATION:PT1H
X-Robots-Tag:noindex
X-PUBLISHED-TTL:PT1H
BEGIN:VTIMEZONE
TZID:America/New_York
BEGIN:DAYLIGHT
TZOFFSETFROM:-0500
TZOFFSETTO:-0400
TZNAME:EDT
DTSTART:20240310T070000
END:DAYLIGHT
BEGIN:STANDARD
TZOFFSETFROM:-0400
TZOFFSETTO:-0500
TZNAME:EST
DTSTART:20241103T060000
END:STANDARD
BEGIN:DAYLIGHT
TZOFFSETFROM:-0500
TZOFFSETTO:-0400
TZNAME:EDT
DTSTART:20250309T070000
END:DAYLIGHT
BEGIN:STANDARD
TZOFFSETFROM:-0400
TZOFFSETTO:-0500
TZNAME:EST
DTSTART:20251102T060000
END:STANDARD
BEGIN:DAYLIGHT
TZOFFSETFROM:-0500
TZOFFSETTO:-0400
TZNAME:EDT
DTSTART:20260308T070000
END:DAYLIGHT
BEGIN:STANDARD
TZOFFSETFROM:-0400
TZOFFSETTO:-0500
TZNAME:EST
DTSTART:20261101T060000
END:STANDARD
END:VTIMEZONE
BEGIN:VEVENT
DTSTART;TZID=America/New_York:20251031T170000
DTEND;TZID=America/New_York:20251031T190000
DTSTAMP:20260425T181623
CREATED:20251023T121315Z
LAST-MODIFIED:20251023T121315Z
UID:10020016-1761930000-1761937200@goodmorningwilton.com
SUMMARY:Trunk or Treat
DESCRIPTION:Hope Church annual Trunk or Treat event. Come dressed for goodies and fun. Visit all the theme decorated cars on Friday\, Oct. 31 from 5-7 p.m. You won’t want to miss this safe\, family-friendly evening. \n 
URL:https://goodmorningwilton.com/event/trunk-or-treat-4/
LOCATION:Hope Church\, 240 Wolfpit Rd\, Wilton\, United States
CATEGORIES:Churches,Family Event,Free,Kids,Outdoor Event
ATTACH;FMTTYPE=image/jpeg:https://goodmorningwilton.com/wp-content/uploads/2025/10/IMG_9649.jpeg
ORGANIZER;CN="Hope Church":MAILTO:Office@myhopect.org
END:VEVENT
END:VCALENDAR