BEGIN:VCALENDAR
VERSION:2.0
PRODID:-//Good Morning Wilton - ECPv6.15.20//NONSGML v1.0//EN
CALSCALE:GREGORIAN
METHOD:PUBLISH
X-WR-CALNAME:Good Morning Wilton
X-ORIGINAL-URL:https://goodmorningwilton.com
X-WR-CALDESC:Events for Good Morning Wilton
REFRESH-INTERVAL;VALUE=DURATION:PT1H
X-Robots-Tag:noindex
X-PUBLISHED-TTL:PT1H
BEGIN:VTIMEZONE
TZID:America/New_York
BEGIN:DAYLIGHT
TZOFFSETFROM:-0500
TZOFFSETTO:-0400
TZNAME:EDT
DTSTART:20230312T070000
END:DAYLIGHT
BEGIN:STANDARD
TZOFFSETFROM:-0400
TZOFFSETTO:-0500
TZNAME:EST
DTSTART:20231105T060000
END:STANDARD
BEGIN:DAYLIGHT
TZOFFSETFROM:-0500
TZOFFSETTO:-0400
TZNAME:EDT
DTSTART:20240310T070000
END:DAYLIGHT
BEGIN:STANDARD
TZOFFSETFROM:-0400
TZOFFSETTO:-0500
TZNAME:EST
DTSTART:20241103T060000
END:STANDARD
BEGIN:DAYLIGHT
TZOFFSETFROM:-0500
TZOFFSETTO:-0400
TZNAME:EDT
DTSTART:20250309T070000
END:DAYLIGHT
BEGIN:STANDARD
TZOFFSETFROM:-0400
TZOFFSETTO:-0500
TZNAME:EST
DTSTART:20251102T060000
END:STANDARD
BEGIN:DAYLIGHT
TZOFFSETFROM:-0500
TZOFFSETTO:-0400
TZNAME:EDT
DTSTART:20260308T070000
END:DAYLIGHT
BEGIN:STANDARD
TZOFFSETFROM:-0400
TZOFFSETTO:-0500
TZNAME:EST
DTSTART:20261101T060000
END:STANDARD
END:VTIMEZONE
BEGIN:VEVENT
DTSTART;TZID=America/New_York:20241027T160000
DTEND;TZID=America/New_York:20241027T180000
DTSTAMP:20260420T182443
CREATED:20240919T000656Z
LAST-MODIFIED:20240919T000656Z
UID:10018081-1730044800-1730052000@goodmorningwilton.com
SUMMARY:Harlem Wizards vs. WPS Teachers & Staff Game Day (in support of Wilton Education Foundation)
DESCRIPTION:The Wilton Education Foundation hosts the world-famous Harlem Wizards\, visiting Wilton High School Zeoli Fieldhouse on Sunday Oct. 27. Join in for an evening of great fun and fundraising. The Wizards will play a game against a team of Wilton Public School (WPS) teachers and staff. The event is a fundraiser for Wilton Education Foundation (WEF).  \nWEF’s sponsored programs fill the gap that the school budget is unable to provide\, helping to make a difference in the lives of our students and the future of our community. They are committed to supporting a strong connection between the Wilton community and their schools through imaginative and inspiring fundraising events and programs. Likewise\, the Harlem Wizards deliver world-class family-friendly entertainment while raising money for great causes. \nTo purchase tickets\, and for more information\, visit WEF or Harlem Wizards.
URL:https://goodmorningwilton.com/event/harlem-wizards-vs-wps-teachers-staff-game-day-in-support-of-wilton-education-foundation/
LOCATION:Wilton High School Fieldhouse\, 395 Danbury Rd\, Wilton\, 06897\, United States
CATEGORIES:Educational,Family Event,Fundraiser
ATTACH;FMTTYPE=image/png:https://goodmorningwilton.com/wp-content/uploads/2024/09/Screen-Shot-2024-09-18-at-8.03.01-PM.png
END:VEVENT
BEGIN:VEVENT
DTSTART;TZID=America/New_York:20251102T160000
DTEND;TZID=America/New_York:20251102T180000
DTSTAMP:20260420T182444
CREATED:20251023T123504Z
LAST-MODIFIED:20251023T123504Z
UID:10020019-1762099200-1762106400@goodmorningwilton.com
SUMMARY:2nd Annual Harlem Wizards vs. Wilton Warriors All-Stars Game
DESCRIPTION:World-renowned Harlem Wizards return to Wilton High School’s Zeoli Fieldhouse on Sunday\, Nov. 2\, for an evening of basketball wizardry\, friendly competition\, and fundraising to support pre-K-12 programming and initiatives.  \nThe Wizards will play against the Wilton Warrior All-Stars\, a team of Wilton Public School teachers and staff\, bringing the Wilton community together for an unforgettable afternoon of excitement\, laughter and awe-inspiring tricks. The event is a fundraiser for Wilton Education Foundation.  Tickets range from $30 to $75 and are available online.
URL:https://goodmorningwilton.com/event/2nd-annual-harlem-wizards-vs-wilton-warriors-all-stars-game/
LOCATION:Wilton High School Fieldhouse\, 395 Danbury Rd\, Wilton\, 06897\, United States
CATEGORIES:Family Event,Fundraiser,Game,Kids,Schools,Sports
ATTACH;FMTTYPE=image/png:https://goodmorningwilton.com/wp-content/uploads/2025/10/2025-Wizards-Return-to-Wilton-scaled.png
END:VEVENT
END:VCALENDAR