BEGIN:VCALENDAR
VERSION:2.0
PRODID:-//Good Morning Wilton - ECPv6.15.20//NONSGML v1.0//EN
CALSCALE:GREGORIAN
METHOD:PUBLISH
X-ORIGINAL-URL:https://goodmorningwilton.com
X-WR-CALDESC:Events for Good Morning Wilton
REFRESH-INTERVAL;VALUE=DURATION:PT1H
X-Robots-Tag:noindex
X-PUBLISHED-TTL:PT1H
BEGIN:VTIMEZONE
TZID:America/New_York
BEGIN:DAYLIGHT
TZOFFSETFROM:-0500
TZOFFSETTO:-0400
TZNAME:EDT
DTSTART:20220313T070000
END:DAYLIGHT
BEGIN:STANDARD
TZOFFSETFROM:-0400
TZOFFSETTO:-0500
TZNAME:EST
DTSTART:20221106T060000
END:STANDARD
BEGIN:DAYLIGHT
TZOFFSETFROM:-0500
TZOFFSETTO:-0400
TZNAME:EDT
DTSTART:20230312T070000
END:DAYLIGHT
BEGIN:STANDARD
TZOFFSETFROM:-0400
TZOFFSETTO:-0500
TZNAME:EST
DTSTART:20231105T060000
END:STANDARD
BEGIN:DAYLIGHT
TZOFFSETFROM:-0500
TZOFFSETTO:-0400
TZNAME:EDT
DTSTART:20240310T070000
END:DAYLIGHT
BEGIN:STANDARD
TZOFFSETFROM:-0400
TZOFFSETTO:-0500
TZNAME:EST
DTSTART:20241103T060000
END:STANDARD
END:VTIMEZONE
BEGIN:VEVENT
DTSTART;TZID=America/New_York:20230523T170000
DTEND;TZID=America/New_York:20230523T200000
DTSTAMP:20260422T201003
CREATED:20230502T094942Z
LAST-MODIFIED:20230502T094942Z
UID:10010568-1684861200-1684872000@goodmorningwilton.com
SUMMARY:Health & Wellness Fair
DESCRIPTION:The number of students with mental health concerns has continued to rise over the last few years. This reached its pinnacle in October 2020 when the American Academy of Pediatrics\, the American Academy of Child and Adolescent Psychiatry\, and the Children’s Hospital Association jointly urged The White House to issue a National State of Emergency in child and adolescent mental health. \nAs a community we must also do our part. This is why Wilton High School has decided to host its very first Health & Wellness Fair during Mental Health Awareness Month. The event is sponsored by the Hope Squad\, a new club at Wilton High School. \nThe Hope Squad is a national organization with clubs at thousands of high schools across the country. The Hope Squad’s mission is to reduce youth suicide through education\, training\, and peer intervention. During the fair\, students and parents will have access to a variety of different resources. There will be booths promoting mental health\, nutrition\, exercise\, and more. \nThe Health & Wellness Fair will be held on Tuesday\, May 23 in the Zellner Gallery at Wilton High School.
URL:https://goodmorningwilton.com/event/health-wellness-fair/
LOCATION:Wilton High School Clune Center\, 395 Danbury Road\, Wilton\, CT\, 06897\, United States
CATEGORIES:Community Events,Free,Health & Wellness,Schools
ATTACH;FMTTYPE=image/jpeg:https://goodmorningwilton.com/wp-content/uploads/2016/11/wilton-high-school-reflection-window.jpg
GEO:41.2106364;-73.4327956
X-APPLE-STRUCTURED-LOCATION;VALUE=URI;X-ADDRESS=Wilton High School Clune Center 395 Danbury Road Wilton CT 06897 United States;X-APPLE-RADIUS=500;X-TITLE=395 Danbury Road:geo:-73.4327956,41.2106364
END:VEVENT
END:VCALENDAR