BEGIN:VCALENDAR
VERSION:2.0
PRODID:-//Good Morning Wilton - ECPv6.15.20//NONSGML v1.0//EN
CALSCALE:GREGORIAN
METHOD:PUBLISH
X-ORIGINAL-URL:https://goodmorningwilton.com
X-WR-CALDESC:Events for Good Morning Wilton
REFRESH-INTERVAL;VALUE=DURATION:PT1H
X-Robots-Tag:noindex
X-PUBLISHED-TTL:PT1H
BEGIN:VTIMEZONE
TZID:America/New_York
BEGIN:DAYLIGHT
TZOFFSETFROM:-0500
TZOFFSETTO:-0400
TZNAME:EDT
DTSTART:20180311T070000
END:DAYLIGHT
BEGIN:STANDARD
TZOFFSETFROM:-0400
TZOFFSETTO:-0500
TZNAME:EST
DTSTART:20181104T060000
END:STANDARD
BEGIN:DAYLIGHT
TZOFFSETFROM:-0500
TZOFFSETTO:-0400
TZNAME:EDT
DTSTART:20190310T070000
END:DAYLIGHT
BEGIN:STANDARD
TZOFFSETFROM:-0400
TZOFFSETTO:-0500
TZNAME:EST
DTSTART:20191103T060000
END:STANDARD
BEGIN:DAYLIGHT
TZOFFSETFROM:-0500
TZOFFSETTO:-0400
TZNAME:EDT
DTSTART:20200308T070000
END:DAYLIGHT
BEGIN:STANDARD
TZOFFSETFROM:-0400
TZOFFSETTO:-0500
TZNAME:EST
DTSTART:20201101T060000
END:STANDARD
BEGIN:DAYLIGHT
TZOFFSETFROM:-0500
TZOFFSETTO:-0400
TZNAME:EDT
DTSTART:20210314T070000
END:DAYLIGHT
BEGIN:STANDARD
TZOFFSETFROM:-0400
TZOFFSETTO:-0500
TZNAME:EST
DTSTART:20211107T060000
END:STANDARD
BEGIN:DAYLIGHT
TZOFFSETFROM:-0500
TZOFFSETTO:-0400
TZNAME:EDT
DTSTART:20220313T070000
END:DAYLIGHT
BEGIN:STANDARD
TZOFFSETFROM:-0400
TZOFFSETTO:-0500
TZNAME:EST
DTSTART:20221106T060000
END:STANDARD
BEGIN:DAYLIGHT
TZOFFSETFROM:-0500
TZOFFSETTO:-0400
TZNAME:EDT
DTSTART:20230312T070000
END:DAYLIGHT
BEGIN:STANDARD
TZOFFSETFROM:-0400
TZOFFSETTO:-0500
TZNAME:EST
DTSTART:20231105T060000
END:STANDARD
BEGIN:DAYLIGHT
TZOFFSETFROM:-0500
TZOFFSETTO:-0400
TZNAME:EDT
DTSTART:20240310T070000
END:DAYLIGHT
BEGIN:STANDARD
TZOFFSETFROM:-0400
TZOFFSETTO:-0500
TZNAME:EST
DTSTART:20241103T060000
END:STANDARD
BEGIN:DAYLIGHT
TZOFFSETFROM:-0500
TZOFFSETTO:-0400
TZNAME:EDT
DTSTART:20250309T070000
END:DAYLIGHT
BEGIN:STANDARD
TZOFFSETFROM:-0400
TZOFFSETTO:-0500
TZNAME:EST
DTSTART:20251102T060000
END:STANDARD
END:VTIMEZONE
BEGIN:VEVENT
DTSTART;TZID=America/New_York:20191218T161500
DTEND;TZID=America/New_York:20191218T171500
DTSTAMP:20260425T224017
CREATED:20191217T114617Z
LAST-MODIFIED:20191217T114617Z
UID:10009297-1576685700-1576689300@goodmorningwilton.com
SUMMARY:Christmas Caroling
DESCRIPTION:Be Merry!  The Wilton Christmas Carolers will be having their third annual Christmas Caroling event on Wednesday\, Dec. 18 at 4:15 p.m. at the Wilton Center gazebo. All are welcome to participate. \nWe experienced a wonderful feeling of the spirit of this magical holiday season while caroling the last two years\, with passersby of all persuasions joining in … no singing talent necessary! We will be providing flashlights and sheet music for all. Join us! \nText any questions on the event to 203.216.6814.
URL:https://goodmorningwilton.com/event/christmas-caroling/
LOCATION:Wilton Gazebo\, Town Center\, Wilton\, CT\, 06897-3237\, United States
CATEGORIES:Family Event,Free,Live Music,Outdoor Event
ATTACH;FMTTYPE=image/jpeg:https://goodmorningwilton.com/wp-content/uploads/2019/12/9d9063f4-dc70-4d75-b70c-61a4ba6f90cb.jpeg
GEO:41.2077334;-73.4415929
X-APPLE-STRUCTURED-LOCATION;VALUE=URI;X-ADDRESS=Wilton Gazebo Town Center Wilton CT 06897-3237 United States;X-APPLE-RADIUS=500;X-TITLE=Town Center:geo:-73.4415929,41.2077334
END:VEVENT
BEGIN:VEVENT
DTSTART;TZID=America/New_York:20211202T161500
DTEND;TZID=America/New_York:20211202T170000
DTSTAMP:20260425T224017
CREATED:20211122T154242Z
LAST-MODIFIED:20211123T175913Z
UID:10011008-1638461700-1638464400@goodmorningwilton.com
SUMMARY:Wilton Library: Zooming Hanukkah Hoopla
DESCRIPTION:Join us on Zoom\, alongside special guest Cantor Harriet Dunkerley from Temple B’nai Chaim\, to learn all about the Festival of Lights. You will hear stories\, sing songs\, and get the opportunity to see a variety of menorahs. If you have a menorah at home\, feel free to have it on hand to share. Online registration is required and a Zoom link will be emailed by the day of the program. This program is for children in grades kindergarten and up.
URL:https://goodmorningwilton.com/event/wilton-library-zooming-hanukkah-hoopla/
LOCATION:ZOOM
CATEGORIES:Kids,Library,Online,Zoom Call
ATTACH;FMTTYPE=image/png:https://goodmorningwilton.com/wp-content/uploads/2021/11/HANUKKAH_PNG34_7E00E781.png
ORGANIZER;CN="Wilton Library":MAILTO:publicity@wiltonlibrary.org
END:VEVENT
BEGIN:VEVENT
DTSTART;TZID=America/New_York:20211203T173000
DTEND;TZID=America/New_York:20211203T190000
DTSTAMP:20260425T224017
CREATED:20211122T160153Z
LAST-MODIFIED:20211124T192626Z
UID:10011009-1638552600-1638558000@goodmorningwilton.com
SUMMARY:Wilton Library: Holiday Stroll and Gingerbread House Display
DESCRIPTION:Wilton Library staff will welcome visitors during this year’s Holiday Stroll on Friday\, Dec. 3\, from 5:30 to 7 pm. \nOutside the front entrance\, special gift bags with sweet treats will be handed out while supplies last. Visitors are invited to purchase an “ornament” from the Giving Tree\, buy Hanukkah Gelt for the Children’s Library\, and shop for gifts at the Holiday Book Sale. All proceeds benefit the library. \nFor visitors of all ages\, warm up inside and admire the entries for the Bakers & Builders Gingerbread Competition – Police Edition and cast votes for the “Community Favorite” prize.
URL:https://goodmorningwilton.com/event/wilton-library-holiday-stroll-and-gingerbread-house-display/
LOCATION:Wilton Library
CATEGORIES:Community Celebration,Community Events,Family Event,Sale
ATTACH;FMTTYPE=image/png:https://goodmorningwilton.com/wp-content/uploads/2021/11/Holiday-Stroll-Wilton-Library-image.png
ORGANIZER;CN="Wilton Library":MAILTO:publicity@wiltonlibrary.org
END:VEVENT
BEGIN:VEVENT
DTSTART;TZID=America/New_York:20211217T160000
DTEND;TZID=America/New_York:20211217T170000
DTSTAMP:20260425T224017
CREATED:20211122T204935Z
LAST-MODIFIED:20211124T213232Z
UID:10009628-1639756800-1639760400@goodmorningwilton.com
SUMMARY:Wilton Library: Christmas Traditions Around the World
DESCRIPTION:Join us for a special Zoom Christmas program featuring Father Reggie Norman of Our Lady of Fatima Church on Friday\, Dec. 17 from 4pm to 5pm. He will talk about Christmas traditions around the world. This program is for children in grades K and up. Online registration is required. A Zoom link will be sent to registrants on the morning of the program. Call (203-762-6339) or email Lesley Keogh with any questions.
URL:https://goodmorningwilton.com/event/wilton-library-christmas-traditions-around-the-world/
LOCATION:Wilton Library
CATEGORIES:Kids,Library
ATTACH;FMTTYPE=image/jpeg:https://goodmorningwilton.com/wp-content/uploads/2021/11/FOLDEDBOOKCHRISTMASTREE_ARTICLEIMAGECATEGORYPAGE_ID2559570_32771C77.jpg
ORGANIZER;CN="Wilton Library":MAILTO:publicity@wiltonlibrary.org
END:VEVENT
BEGIN:VEVENT
DTSTART;TZID=America/New_York:20221210T093000
DTEND;TZID=America/New_York:20221210T120000
DTSTAMP:20260425T224017
CREATED:20221129T041648Z
LAST-MODIFIED:20221129T042956Z
UID:10011561-1670664600-1670673600@goodmorningwilton.com
SUMMARY:Breakfast with Buddy the Elf at Trackside
DESCRIPTION:Enjoy a Winter Wonderland of activities for the whole family during a breakfast with Buddy the Elf! Indulge in a sugary breakfast\, followed by story time and pictures with Buddy and a sing-along. There will also be a Snowball Challenge and sleigh rides. Bring your holiday wish list and an unwrapped toy for Toys for Tots. \nThis [Fun]draiser takes place at Trackside Teen Center. Tickets are $30 per family; $5 per ticket will be donated to St. Judes.​ \nThe event will be operating in 45-minute time slots. Register online and choose a time slot. \nSaturday\, Dec. 10: 9:30-10:15 a.m.; 10:30-11:15 a.m.; and 11:15 a.m.-12 p.m. \nFriday\, Dec. 16: 4-4:45 p.m.; 4:45-5:30 p.m.
URL:https://goodmorningwilton.com/event/breakfast-with-buddy-the-elf-at-trackside/2022-12-10/
LOCATION:Trackside Teen Center\, 15 Station Road\, Wilton\, CT\, 06897\, United States
ATTACH;FMTTYPE=:
END:VEVENT
BEGIN:VEVENT
DTSTART;TZID=America/New_York:20221216T160000
DTEND;TZID=America/New_York:20221216T173000
DTSTAMP:20260425T224017
CREATED:20221129T041648Z
LAST-MODIFIED:20221129T042956Z
UID:10011562-1671206400-1671211800@goodmorningwilton.com
SUMMARY:Breakfast with Buddy the Elf at Trackside
DESCRIPTION:Enjoy a Winter Wonderland of activities for the whole family during a breakfast with Buddy the Elf! Indulge in a sugary breakfast\, followed by story time and pictures with Buddy and a sing-along. There will also be a Snowball Challenge and sleigh rides. Bring your holiday wish list and an unwrapped toy for Toys for Tots. \nThis [Fun]draiser takes place at Trackside Teen Center. Tickets are $30 per family; $5 per ticket will be donated to St. Judes.​ \nThe event will be operating in 45-minute time slots. Register online and choose a time slot. \nSaturday\, Dec. 10: 9:30-10:15 a.m.; 10:30-11:15 a.m.; and 11:15 a.m.-12 p.m. \nFriday\, Dec. 16: 4-4:45 p.m.; 4:45-5:30 p.m.
URL:https://goodmorningwilton.com/event/breakfast-with-buddy-the-elf-at-trackside/2022-12-16/
LOCATION:Trackside Teen Center\, 15 Station Road\, Wilton\, CT\, 06897\, United States
ATTACH;FMTTYPE=:
END:VEVENT
BEGIN:VEVENT
DTSTART;TZID=America/New_York:20231108T080000
DTEND;TZID=America/New_York:20231108T170000
DTSTAMP:20260425T224017
CREATED:20231101T113159Z
LAST-MODIFIED:20231101T113904Z
UID:10013365-1699430400-1699462800@goodmorningwilton.com
SUMMARY:Preparing Your Child and Yourself for a Successful Holiday Season
DESCRIPTION:For families of kids with special needs\, the holiday season is a mixed bag. While holiday celebrations are meant to be fun and exciting\, the realities of the season typically make them stressful and demanding. Routines and social schedules are frequently disrupted; travel tends to be hectic; “too many new people and places” cause anxiety and sensory overload; and expectations are likely to fall short. Although family members and friends may be well-meaning\, oftentimes they just don’t “get” our kids. For example\, they might not understand that our kids often need to self-regulate in ways they’re not used to: by crawling into a quiet\, soft space; laying on a cold surface; spending more—not less— time on screens; jumping on a trampoline—or mattress or couch— or chewing on a T-shirt. \nJustyna Balzar\, MEd\, BCBA\, co-founder of The Hangout Spot\, will join us for a short presentation\, followed by a lively discussion about strategies and scripts we can use to calm ourselves and our kids during particularly challenging times. \nWe will meet in a parent’s home in Wilton. (Registrants will receive the address specifics on November 6) \nRegistration is required.  Register online.
URL:https://goodmorningwilton.com/event/preparing-your-child-and-yourself-for-a-successful-holiday-season/2023-11-08/1/
LOCATION:Parent’s Home in North Wilton
CATEGORIES:Workshop
ATTACH;FMTTYPE=image/jpeg:https://goodmorningwilton.com/wp-content/uploads/2023/10/jb-full-568-902.jpg
ORGANIZER;CN="SPED*NET":MAILTO:info@spednet.org
END:VEVENT
BEGIN:VEVENT
DTSTART;TZID=America/New_York:20231108T100000
DTEND;TZID=America/New_York:20231108T113000
DTSTAMP:20260425T224017
CREATED:20231101T113159Z
LAST-MODIFIED:20231101T113904Z
UID:10013366-1699437600-1699443000@goodmorningwilton.com
SUMMARY:Preparing Your Child and Yourself for a Successful Holiday Season
DESCRIPTION:For families of kids with special needs\, the holiday season is a mixed bag. While holiday celebrations are meant to be fun and exciting\, the realities of the season typically make them stressful and demanding. Routines and social schedules are frequently disrupted; travel tends to be hectic; “too many new people and places” cause anxiety and sensory overload; and expectations are likely to fall short. Although family members and friends may be well-meaning\, oftentimes they just don’t “get” our kids. For example\, they might not understand that our kids often need to self-regulate in ways they’re not used to: by crawling into a quiet\, soft space; laying on a cold surface; spending more—not less— time on screens; jumping on a trampoline—or mattress or couch— or chewing on a T-shirt. \nJustyna Balzar\, MEd\, BCBA\, co-founder of The Hangout Spot\, will join us for a short presentation\, followed by a lively discussion about strategies and scripts we can use to calm ourselves and our kids during particularly challenging times. \nWe will meet in a parent’s home in Wilton. (Registrants will receive the address specifics on November 6) \nRegistration is required.  Register online.
URL:https://goodmorningwilton.com/event/preparing-your-child-and-yourself-for-a-successful-holiday-season/2023-11-08/2/
LOCATION:Parent’s Home in North Wilton
CATEGORIES:Workshop
ATTACH;FMTTYPE=image/jpeg:https://goodmorningwilton.com/wp-content/uploads/2023/10/jb-full-568-902.jpg
ORGANIZER;CN="SPED*NET":MAILTO:info@spednet.org
END:VEVENT
BEGIN:VEVENT
DTSTART;TZID=America/New_York:20241118T180000
DTEND;TZID=America/New_York:20241118T200000
DTSTAMP:20260425T224017
CREATED:20241107T153055Z
LAST-MODIFIED:20241107T153131Z
UID:10018306-1731952800-1731960000@goodmorningwilton.com
SUMMARY:Community Thanksgiving @ Trackside
DESCRIPTION:Join Trackside Teen Center in celebrating gratitude and connection with a wonderful community at their inaugural Family & Friends Thanksgiving. \nThey invite participants to bring a dish that holds special meaning for their family during the holidays to share with everyone. \n​Trackside looks forward to slowing down\, learning about everyone’s families’ cultures and enjoying a special meal together.  \nSign Up Here.
URL:https://goodmorningwilton.com/event/community-thanksgiving-trackside/
LOCATION:Trackside Teen Center\, 15 Station Road\, Wilton\, CT\, 06897\, United States
CATEGORIES:Family Event,Festival,Food,Teens
ATTACH;FMTTYPE=image/png:https://goodmorningwilton.com/wp-content/uploads/2024/11/newthanksgiving_orig.png
END:VEVENT
END:VCALENDAR